BEGIN:VCALENDAR
VERSION:2.0
PRODID:-//New Covenant Bible Church - ECPv6.9.0//NONSGML v1.0//EN
CALSCALE:GREGORIAN
METHOD:PUBLISH
X-ORIGINAL-URL:https://ncbctulsa.org
X-WR-CALDESC:Events for New Covenant Bible Church
REFRESH-INTERVAL;VALUE=DURATION:PT1H
X-Robots-Tag:noindex
X-PUBLISHED-TTL:PT1H
BEGIN:VTIMEZONE
TZID:America/Chicago
BEGIN:DAYLIGHT
TZOFFSETFROM:-0600
TZOFFSETTO:-0500
TZNAME:CDT
DTSTART:20260308T080000
END:DAYLIGHT
BEGIN:STANDARD
TZOFFSETFROM:-0500
TZOFFSETTO:-0600
TZNAME:CST
DTSTART:20261101T070000
END:STANDARD
BEGIN:DAYLIGHT
TZOFFSETFROM:-0600
TZOFFSETTO:-0500
TZNAME:CDT
DTSTART:20270314T080000
END:DAYLIGHT
BEGIN:STANDARD
TZOFFSETFROM:-0500
TZOFFSETTO:-0600
TZNAME:CST
DTSTART:20271107T070000
END:STANDARD
END:VTIMEZONE
BEGIN:VEVENT
DTSTART;TZID=America/Chicago:20261206T170000
DTEND;TZID=America/Chicago:20261206T174500
DTSTAMP:20260423T152822
CREATED:20241101T210951Z
LAST-MODIFIED:20241201T191300Z
UID:10002021-1796576400-1796579100@ncbctulsa.org
SUMMARY:Supper with the Saints: Fellowship Dinner
DESCRIPTION:Come eat dinner with the Church family with no obligation to come to Worship.
URL:https://ncbctulsa.org/event/supper-with-the-saints-fellowship-dinner/2026-12-06/
LOCATION:New Covenant Bible Church Fellowship Hall\, 4800 S Yukon Ave\, Tulsa\, OK\, 74107\, United States
CATEGORIES:Foods
END:VEVENT
BEGIN:VEVENT
DTSTART;TZID=America/Chicago:20261213T090000
DTEND;TZID=America/Chicago:20261213T100000
DTSTAMP:20260423T152822
CREATED:20230419T015039Z
LAST-MODIFIED:20241201T191544Z
UID:10000191-1797152400-1797156000@ncbctulsa.org
SUMMARY:Sunday Morning Fellowship Breakfast
DESCRIPTION:Come join us for a free fellowship breakfast. Every week at 9am before Sunday School we serve eggs\, hashbrowns\, and biscuits and gravy.
URL:https://ncbctulsa.org/event/sunday-morning-fellowship-breakfast/2026-12-13/
LOCATION:New Covenant Bible Church Fellowship Hall\, 4800 S Yukon Ave\, Tulsa\, OK\, 74107\, United States
CATEGORIES:Foods
END:VEVENT
BEGIN:VEVENT
DTSTART;TZID=America/Chicago:20261213T160000
DTEND;TZID=America/Chicago:20261213T180000
DTSTAMP:20260423T152822
CREATED:20241201T190829Z
LAST-MODIFIED:20241201T190951Z
UID:10004390-1797177600-1797184800@ncbctulsa.org
SUMMARY:Emerge Global: Single Mom's Ministry
DESCRIPTION:Come join us for fellowship with other single mothers and ministry to your families. \nChildren’s Program!
URL:https://ncbctulsa.org/event/emerge-global-single-moms-ministry/2026-12-13/
LOCATION:New Covenant Bible Church Fellowship Hall\, 4800 S Yukon Ave\, Tulsa\, OK\, 74107\, United States
END:VEVENT
BEGIN:VEVENT
DTSTART;TZID=America/Chicago:20261213T170000
DTEND;TZID=America/Chicago:20261213T174500
DTSTAMP:20260423T152822
CREATED:20241101T210951Z
LAST-MODIFIED:20241201T191300Z
UID:10002022-1797181200-1797183900@ncbctulsa.org
SUMMARY:Supper with the Saints: Fellowship Dinner
DESCRIPTION:Come eat dinner with the Church family with no obligation to come to Worship.
URL:https://ncbctulsa.org/event/supper-with-the-saints-fellowship-dinner/2026-12-13/
LOCATION:New Covenant Bible Church Fellowship Hall\, 4800 S Yukon Ave\, Tulsa\, OK\, 74107\, United States
CATEGORIES:Foods
END:VEVENT
BEGIN:VEVENT
DTSTART;TZID=America/Chicago:20261220T090000
DTEND;TZID=America/Chicago:20261220T100000
DTSTAMP:20260423T152822
CREATED:20230419T015039Z
LAST-MODIFIED:20241201T191544Z
UID:10000192-1797757200-1797760800@ncbctulsa.org
SUMMARY:Sunday Morning Fellowship Breakfast
DESCRIPTION:Come join us for a free fellowship breakfast. Every week at 9am before Sunday School we serve eggs\, hashbrowns\, and biscuits and gravy.
URL:https://ncbctulsa.org/event/sunday-morning-fellowship-breakfast/2026-12-20/
LOCATION:New Covenant Bible Church Fellowship Hall\, 4800 S Yukon Ave\, Tulsa\, OK\, 74107\, United States
CATEGORIES:Foods
END:VEVENT
BEGIN:VEVENT
DTSTART;TZID=America/Chicago:20261220T170000
DTEND;TZID=America/Chicago:20261220T174500
DTSTAMP:20260423T152823
CREATED:20241101T210951Z
LAST-MODIFIED:20241201T191300Z
UID:10002023-1797786000-1797788700@ncbctulsa.org
SUMMARY:Supper with the Saints: Fellowship Dinner
DESCRIPTION:Come eat dinner with the Church family with no obligation to come to Worship.
URL:https://ncbctulsa.org/event/supper-with-the-saints-fellowship-dinner/2026-12-20/
LOCATION:New Covenant Bible Church Fellowship Hall\, 4800 S Yukon Ave\, Tulsa\, OK\, 74107\, United States
CATEGORIES:Foods
END:VEVENT
BEGIN:VEVENT
DTSTART;TZID=America/Chicago:20261227T090000
DTEND;TZID=America/Chicago:20261227T100000
DTSTAMP:20260423T152823
CREATED:20230419T015039Z
LAST-MODIFIED:20241201T191544Z
UID:10000193-1798362000-1798365600@ncbctulsa.org
SUMMARY:Sunday Morning Fellowship Breakfast
DESCRIPTION:Come join us for a free fellowship breakfast. Every week at 9am before Sunday School we serve eggs\, hashbrowns\, and biscuits and gravy.
URL:https://ncbctulsa.org/event/sunday-morning-fellowship-breakfast/2026-12-27/
LOCATION:New Covenant Bible Church Fellowship Hall\, 4800 S Yukon Ave\, Tulsa\, OK\, 74107\, United States
CATEGORIES:Foods
END:VEVENT
BEGIN:VEVENT
DTSTART;TZID=America/Chicago:20261227T160000
DTEND;TZID=America/Chicago:20261227T180000
DTSTAMP:20260423T152823
CREATED:20241201T190853Z
LAST-MODIFIED:20241201T191018Z
UID:10004450-1798387200-1798394400@ncbctulsa.org
SUMMARY:Emerge Global: Single Mom's Ministry
DESCRIPTION:Come join us for fellowship with other single mothers and ministry to your families. \nChildren’s Program!
URL:https://ncbctulsa.org/event/emerge-global-single-moms-ministry-2/2026-12-27/
LOCATION:New Covenant Bible Church Fellowship Hall\, 4800 S Yukon Ave\, Tulsa\, OK\, 74107\, United States
END:VEVENT
BEGIN:VEVENT
DTSTART;TZID=America/Chicago:20261227T170000
DTEND;TZID=America/Chicago:20261227T174500
DTSTAMP:20260423T152823
CREATED:20241101T210951Z
LAST-MODIFIED:20241201T191300Z
UID:10002024-1798390800-1798393500@ncbctulsa.org
SUMMARY:Supper with the Saints: Fellowship Dinner
DESCRIPTION:Come eat dinner with the Church family with no obligation to come to Worship.
URL:https://ncbctulsa.org/event/supper-with-the-saints-fellowship-dinner/2026-12-27/
LOCATION:New Covenant Bible Church Fellowship Hall\, 4800 S Yukon Ave\, Tulsa\, OK\, 74107\, United States
CATEGORIES:Foods
END:VEVENT
BEGIN:VEVENT
DTSTART;TZID=America/Chicago:20270103T090000
DTEND;TZID=America/Chicago:20270103T100000
DTSTAMP:20260423T152823
CREATED:20230419T015039Z
LAST-MODIFIED:20241201T191544Z
UID:10000194-1798966800-1798970400@ncbctulsa.org
SUMMARY:Sunday Morning Fellowship Breakfast
DESCRIPTION:Come join us for a free fellowship breakfast. Every week at 9am before Sunday School we serve eggs\, hashbrowns\, and biscuits and gravy.
URL:https://ncbctulsa.org/event/sunday-morning-fellowship-breakfast/2027-01-03/
LOCATION:New Covenant Bible Church Fellowship Hall\, 4800 S Yukon Ave\, Tulsa\, OK\, 74107\, United States
CATEGORIES:Foods
END:VEVENT
BEGIN:VEVENT
DTSTART;TZID=America/Chicago:20270103T170000
DTEND;TZID=America/Chicago:20270103T174500
DTSTAMP:20260423T152823
CREATED:20241101T210951Z
LAST-MODIFIED:20241201T191300Z
UID:10002025-1798995600-1798998300@ncbctulsa.org
SUMMARY:Supper with the Saints: Fellowship Dinner
DESCRIPTION:Come eat dinner with the Church family with no obligation to come to Worship.
URL:https://ncbctulsa.org/event/supper-with-the-saints-fellowship-dinner/2027-01-03/
LOCATION:New Covenant Bible Church Fellowship Hall\, 4800 S Yukon Ave\, Tulsa\, OK\, 74107\, United States
CATEGORIES:Foods
END:VEVENT
BEGIN:VEVENT
DTSTART;TZID=America/Chicago:20270110T090000
DTEND;TZID=America/Chicago:20270110T100000
DTSTAMP:20260423T152823
CREATED:20230419T015039Z
LAST-MODIFIED:20241201T191544Z
UID:10000195-1799571600-1799575200@ncbctulsa.org
SUMMARY:Sunday Morning Fellowship Breakfast
DESCRIPTION:Come join us for a free fellowship breakfast. Every week at 9am before Sunday School we serve eggs\, hashbrowns\, and biscuits and gravy.
URL:https://ncbctulsa.org/event/sunday-morning-fellowship-breakfast/2027-01-10/
LOCATION:New Covenant Bible Church Fellowship Hall\, 4800 S Yukon Ave\, Tulsa\, OK\, 74107\, United States
CATEGORIES:Foods
END:VEVENT
BEGIN:VEVENT
DTSTART;TZID=America/Chicago:20270110T160000
DTEND;TZID=America/Chicago:20270110T180000
DTSTAMP:20260423T152823
CREATED:20241201T190829Z
LAST-MODIFIED:20241201T190951Z
UID:10004391-1799596800-1799604000@ncbctulsa.org
SUMMARY:Emerge Global: Single Mom's Ministry
DESCRIPTION:Come join us for fellowship with other single mothers and ministry to your families. \nChildren’s Program!
URL:https://ncbctulsa.org/event/emerge-global-single-moms-ministry/2027-01-10/
LOCATION:New Covenant Bible Church Fellowship Hall\, 4800 S Yukon Ave\, Tulsa\, OK\, 74107\, United States
END:VEVENT
BEGIN:VEVENT
DTSTART;TZID=America/Chicago:20270110T170000
DTEND;TZID=America/Chicago:20270110T174500
DTSTAMP:20260423T152823
CREATED:20241101T210951Z
LAST-MODIFIED:20241201T191300Z
UID:10002026-1799600400-1799603100@ncbctulsa.org
SUMMARY:Supper with the Saints: Fellowship Dinner
DESCRIPTION:Come eat dinner with the Church family with no obligation to come to Worship.
URL:https://ncbctulsa.org/event/supper-with-the-saints-fellowship-dinner/2027-01-10/
LOCATION:New Covenant Bible Church Fellowship Hall\, 4800 S Yukon Ave\, Tulsa\, OK\, 74107\, United States
CATEGORIES:Foods
END:VEVENT
BEGIN:VEVENT
DTSTART;TZID=America/Chicago:20270117T090000
DTEND;TZID=America/Chicago:20270117T100000
DTSTAMP:20260423T152823
CREATED:20230419T015039Z
LAST-MODIFIED:20241201T191544Z
UID:10000196-1800176400-1800180000@ncbctulsa.org
SUMMARY:Sunday Morning Fellowship Breakfast
DESCRIPTION:Come join us for a free fellowship breakfast. Every week at 9am before Sunday School we serve eggs\, hashbrowns\, and biscuits and gravy.
URL:https://ncbctulsa.org/event/sunday-morning-fellowship-breakfast/2027-01-17/
LOCATION:New Covenant Bible Church Fellowship Hall\, 4800 S Yukon Ave\, Tulsa\, OK\, 74107\, United States
CATEGORIES:Foods
END:VEVENT
BEGIN:VEVENT
DTSTART;TZID=America/Chicago:20270117T170000
DTEND;TZID=America/Chicago:20270117T174500
DTSTAMP:20260423T152823
CREATED:20241101T210951Z
LAST-MODIFIED:20241201T191300Z
UID:10002027-1800205200-1800207900@ncbctulsa.org
SUMMARY:Supper with the Saints: Fellowship Dinner
DESCRIPTION:Come eat dinner with the Church family with no obligation to come to Worship.
URL:https://ncbctulsa.org/event/supper-with-the-saints-fellowship-dinner/2027-01-17/
LOCATION:New Covenant Bible Church Fellowship Hall\, 4800 S Yukon Ave\, Tulsa\, OK\, 74107\, United States
CATEGORIES:Foods
END:VEVENT
BEGIN:VEVENT
DTSTART;TZID=America/Chicago:20270124T090000
DTEND;TZID=America/Chicago:20270124T100000
DTSTAMP:20260423T152823
CREATED:20230419T015039Z
LAST-MODIFIED:20241201T191544Z
UID:10000197-1800781200-1800784800@ncbctulsa.org
SUMMARY:Sunday Morning Fellowship Breakfast
DESCRIPTION:Come join us for a free fellowship breakfast. Every week at 9am before Sunday School we serve eggs\, hashbrowns\, and biscuits and gravy.
URL:https://ncbctulsa.org/event/sunday-morning-fellowship-breakfast/2027-01-24/
LOCATION:New Covenant Bible Church Fellowship Hall\, 4800 S Yukon Ave\, Tulsa\, OK\, 74107\, United States
CATEGORIES:Foods
END:VEVENT
BEGIN:VEVENT
DTSTART;TZID=America/Chicago:20270124T160000
DTEND;TZID=America/Chicago:20270124T180000
DTSTAMP:20260423T152823
CREATED:20241201T190853Z
LAST-MODIFIED:20241201T191018Z
UID:10004451-1800806400-1800813600@ncbctulsa.org
SUMMARY:Emerge Global: Single Mom's Ministry
DESCRIPTION:Come join us for fellowship with other single mothers and ministry to your families. \nChildren’s Program!
URL:https://ncbctulsa.org/event/emerge-global-single-moms-ministry-2/2027-01-24/
LOCATION:New Covenant Bible Church Fellowship Hall\, 4800 S Yukon Ave\, Tulsa\, OK\, 74107\, United States
END:VEVENT
BEGIN:VEVENT
DTSTART;TZID=America/Chicago:20270124T170000
DTEND;TZID=America/Chicago:20270124T174500
DTSTAMP:20260423T152823
CREATED:20241101T210951Z
LAST-MODIFIED:20241201T191300Z
UID:10002028-1800810000-1800812700@ncbctulsa.org
SUMMARY:Supper with the Saints: Fellowship Dinner
DESCRIPTION:Come eat dinner with the Church family with no obligation to come to Worship.
URL:https://ncbctulsa.org/event/supper-with-the-saints-fellowship-dinner/2027-01-24/
LOCATION:New Covenant Bible Church Fellowship Hall\, 4800 S Yukon Ave\, Tulsa\, OK\, 74107\, United States
CATEGORIES:Foods
END:VEVENT
BEGIN:VEVENT
DTSTART;TZID=America/Chicago:20270131T090000
DTEND;TZID=America/Chicago:20270131T100000
DTSTAMP:20260423T152823
CREATED:20230419T015039Z
LAST-MODIFIED:20241201T191544Z
UID:10000198-1801386000-1801389600@ncbctulsa.org
SUMMARY:Sunday Morning Fellowship Breakfast
DESCRIPTION:Come join us for a free fellowship breakfast. Every week at 9am before Sunday School we serve eggs\, hashbrowns\, and biscuits and gravy.
URL:https://ncbctulsa.org/event/sunday-morning-fellowship-breakfast/2027-01-31/
LOCATION:New Covenant Bible Church Fellowship Hall\, 4800 S Yukon Ave\, Tulsa\, OK\, 74107\, United States
CATEGORIES:Foods
END:VEVENT
BEGIN:VEVENT
DTSTART;TZID=America/Chicago:20270131T170000
DTEND;TZID=America/Chicago:20270131T174500
DTSTAMP:20260423T152823
CREATED:20241101T210951Z
LAST-MODIFIED:20241201T191300Z
UID:10002029-1801414800-1801417500@ncbctulsa.org
SUMMARY:Supper with the Saints: Fellowship Dinner
DESCRIPTION:Come eat dinner with the Church family with no obligation to come to Worship.
URL:https://ncbctulsa.org/event/supper-with-the-saints-fellowship-dinner/2027-01-31/
LOCATION:New Covenant Bible Church Fellowship Hall\, 4800 S Yukon Ave\, Tulsa\, OK\, 74107\, United States
CATEGORIES:Foods
END:VEVENT
BEGIN:VEVENT
DTSTART;TZID=America/Chicago:20270207T090000
DTEND;TZID=America/Chicago:20270207T100000
DTSTAMP:20260423T152823
CREATED:20230419T015039Z
LAST-MODIFIED:20241201T191544Z
UID:10000199-1801990800-1801994400@ncbctulsa.org
SUMMARY:Sunday Morning Fellowship Breakfast
DESCRIPTION:Come join us for a free fellowship breakfast. Every week at 9am before Sunday School we serve eggs\, hashbrowns\, and biscuits and gravy.
URL:https://ncbctulsa.org/event/sunday-morning-fellowship-breakfast/2027-02-07/
LOCATION:New Covenant Bible Church Fellowship Hall\, 4800 S Yukon Ave\, Tulsa\, OK\, 74107\, United States
CATEGORIES:Foods
END:VEVENT
BEGIN:VEVENT
DTSTART;TZID=America/Chicago:20270207T170000
DTEND;TZID=America/Chicago:20270207T174500
DTSTAMP:20260423T152823
CREATED:20241101T210951Z
LAST-MODIFIED:20241201T191300Z
UID:10002030-1802019600-1802022300@ncbctulsa.org
SUMMARY:Supper with the Saints: Fellowship Dinner
DESCRIPTION:Come eat dinner with the Church family with no obligation to come to Worship.
URL:https://ncbctulsa.org/event/supper-with-the-saints-fellowship-dinner/2027-02-07/
LOCATION:New Covenant Bible Church Fellowship Hall\, 4800 S Yukon Ave\, Tulsa\, OK\, 74107\, United States
CATEGORIES:Foods
END:VEVENT
BEGIN:VEVENT
DTSTART;TZID=America/Chicago:20270214T090000
DTEND;TZID=America/Chicago:20270214T100000
DTSTAMP:20260423T152823
CREATED:20230419T015039Z
LAST-MODIFIED:20241201T191544Z
UID:10000200-1802595600-1802599200@ncbctulsa.org
SUMMARY:Sunday Morning Fellowship Breakfast
DESCRIPTION:Come join us for a free fellowship breakfast. Every week at 9am before Sunday School we serve eggs\, hashbrowns\, and biscuits and gravy.
URL:https://ncbctulsa.org/event/sunday-morning-fellowship-breakfast/2027-02-14/
LOCATION:New Covenant Bible Church Fellowship Hall\, 4800 S Yukon Ave\, Tulsa\, OK\, 74107\, United States
CATEGORIES:Foods
END:VEVENT
BEGIN:VEVENT
DTSTART;TZID=America/Chicago:20270214T160000
DTEND;TZID=America/Chicago:20270214T180000
DTSTAMP:20260423T152823
CREATED:20241201T190829Z
LAST-MODIFIED:20241201T190951Z
UID:10004392-1802620800-1802628000@ncbctulsa.org
SUMMARY:Emerge Global: Single Mom's Ministry
DESCRIPTION:Come join us for fellowship with other single mothers and ministry to your families. \nChildren’s Program!
URL:https://ncbctulsa.org/event/emerge-global-single-moms-ministry/2027-02-14/
LOCATION:New Covenant Bible Church Fellowship Hall\, 4800 S Yukon Ave\, Tulsa\, OK\, 74107\, United States
END:VEVENT
BEGIN:VEVENT
DTSTART;TZID=America/Chicago:20270214T170000
DTEND;TZID=America/Chicago:20270214T174500
DTSTAMP:20260423T152823
CREATED:20241101T210951Z
LAST-MODIFIED:20241201T191300Z
UID:10002031-1802624400-1802627100@ncbctulsa.org
SUMMARY:Supper with the Saints: Fellowship Dinner
DESCRIPTION:Come eat dinner with the Church family with no obligation to come to Worship.
URL:https://ncbctulsa.org/event/supper-with-the-saints-fellowship-dinner/2027-02-14/
LOCATION:New Covenant Bible Church Fellowship Hall\, 4800 S Yukon Ave\, Tulsa\, OK\, 74107\, United States
CATEGORIES:Foods
END:VEVENT
BEGIN:VEVENT
DTSTART;TZID=America/Chicago:20270221T090000
DTEND;TZID=America/Chicago:20270221T100000
DTSTAMP:20260423T152823
CREATED:20230419T015039Z
LAST-MODIFIED:20241201T191544Z
UID:10000201-1803200400-1803204000@ncbctulsa.org
SUMMARY:Sunday Morning Fellowship Breakfast
DESCRIPTION:Come join us for a free fellowship breakfast. Every week at 9am before Sunday School we serve eggs\, hashbrowns\, and biscuits and gravy.
URL:https://ncbctulsa.org/event/sunday-morning-fellowship-breakfast/2027-02-21/
LOCATION:New Covenant Bible Church Fellowship Hall\, 4800 S Yukon Ave\, Tulsa\, OK\, 74107\, United States
CATEGORIES:Foods
END:VEVENT
BEGIN:VEVENT
DTSTART;TZID=America/Chicago:20270221T170000
DTEND;TZID=America/Chicago:20270221T174500
DTSTAMP:20260423T152823
CREATED:20241101T210951Z
LAST-MODIFIED:20241201T191300Z
UID:10002032-1803229200-1803231900@ncbctulsa.org
SUMMARY:Supper with the Saints: Fellowship Dinner
DESCRIPTION:Come eat dinner with the Church family with no obligation to come to Worship.
URL:https://ncbctulsa.org/event/supper-with-the-saints-fellowship-dinner/2027-02-21/
LOCATION:New Covenant Bible Church Fellowship Hall\, 4800 S Yukon Ave\, Tulsa\, OK\, 74107\, United States
CATEGORIES:Foods
END:VEVENT
BEGIN:VEVENT
DTSTART;TZID=America/Chicago:20270228T090000
DTEND;TZID=America/Chicago:20270228T100000
DTSTAMP:20260423T152823
CREATED:20230419T015039Z
LAST-MODIFIED:20241201T191544Z
UID:10000202-1803805200-1803808800@ncbctulsa.org
SUMMARY:Sunday Morning Fellowship Breakfast
DESCRIPTION:Come join us for a free fellowship breakfast. Every week at 9am before Sunday School we serve eggs\, hashbrowns\, and biscuits and gravy.
URL:https://ncbctulsa.org/event/sunday-morning-fellowship-breakfast/2027-02-28/
LOCATION:New Covenant Bible Church Fellowship Hall\, 4800 S Yukon Ave\, Tulsa\, OK\, 74107\, United States
CATEGORIES:Foods
END:VEVENT
BEGIN:VEVENT
DTSTART;TZID=America/Chicago:20270228T160000
DTEND;TZID=America/Chicago:20270228T180000
DTSTAMP:20260423T152823
CREATED:20241201T190853Z
LAST-MODIFIED:20241201T191018Z
UID:10004452-1803830400-1803837600@ncbctulsa.org
SUMMARY:Emerge Global: Single Mom's Ministry
DESCRIPTION:Come join us for fellowship with other single mothers and ministry to your families. \nChildren’s Program!
URL:https://ncbctulsa.org/event/emerge-global-single-moms-ministry-2/2027-02-28/
LOCATION:New Covenant Bible Church Fellowship Hall\, 4800 S Yukon Ave\, Tulsa\, OK\, 74107\, United States
END:VEVENT
END:VCALENDAR