BEGIN:VCALENDAR
VERSION:2.0
PRODID:-//New Covenant Bible Church - ECPv6.9.0//NONSGML v1.0//EN
CALSCALE:GREGORIAN
METHOD:PUBLISH
X-ORIGINAL-URL:https://ncbctulsa.org
X-WR-CALDESC:Events for New Covenant Bible Church
REFRESH-INTERVAL;VALUE=DURATION:PT1H
X-Robots-Tag:noindex
X-PUBLISHED-TTL:PT1H
BEGIN:VTIMEZONE
TZID:America/Chicago
BEGIN:DAYLIGHT
TZOFFSETFROM:-0600
TZOFFSETTO:-0500
TZNAME:CDT
DTSTART:20280312T080000
END:DAYLIGHT
BEGIN:STANDARD
TZOFFSETFROM:-0500
TZOFFSETTO:-0600
TZNAME:CST
DTSTART:20281105T070000
END:STANDARD
END:VTIMEZONE
BEGIN:VEVENT
DTSTART;TZID=America/Chicago:20280531T190000
DTEND;TZID=America/Chicago:20280531T200000
DTSTAMP:20260424T074227
CREATED:20241101T211946Z
LAST-MODIFIED:20241201T191323Z
UID:10003582-1843412400-1843416000@ncbctulsa.org
SUMMARY:Wednesday Night Service
DESCRIPTION:Worship with Vanessa and Dacey Lacey \nMessage from Pastor James Lacey
URL:https://ncbctulsa.org/event/wednesday-night-service/2028-05-31/
LOCATION:New Covenant Bible Church Sanctuary\, 4800 S Yukon Ave\, Tulsa\, OK\, 74107\, United States
CATEGORIES:Worship
END:VEVENT
BEGIN:VEVENT
DTSTART;TZID=America/Chicago:20280604T090000
DTEND;TZID=America/Chicago:20280604T100000
DTSTAMP:20260424T074228
CREATED:20230419T015039Z
LAST-MODIFIED:20241201T191544Z
UID:10000268-1843722000-1843725600@ncbctulsa.org
SUMMARY:Sunday Morning Fellowship Breakfast
DESCRIPTION:Come join us for a free fellowship breakfast. Every week at 9am before Sunday School we serve eggs\, hashbrowns\, and biscuits and gravy.
URL:https://ncbctulsa.org/event/sunday-morning-fellowship-breakfast/2028-06-04/
LOCATION:New Covenant Bible Church Fellowship Hall\, 4800 S Yukon Ave\, Tulsa\, OK\, 74107\, United States
CATEGORIES:Foods
END:VEVENT
BEGIN:VEVENT
DTSTART;TZID=America/Chicago:20280604T100000
DTEND;TZID=America/Chicago:20280604T110000
DTSTAMP:20260424T074228
CREATED:20241102T015540Z
LAST-MODIFIED:20241201T191619Z
UID:10001838-1843725600-1843729200@ncbctulsa.org
SUMMARY:Sunday School
DESCRIPTION:Lessons from the bible taught by Pastor Vanessa Lacey
URL:https://ncbctulsa.org/event/sunday-school/2028-06-04/
LOCATION:New Covenant Bible Church Sanctuary\, 4800 S Yukon Ave\, Tulsa\, OK\, 74107\, United States
END:VEVENT
BEGIN:VEVENT
DTSTART;TZID=America/Chicago:20280604T110000
DTEND;TZID=America/Chicago:20280604T120000
DTSTAMP:20260424T074228
CREATED:20241102T020314Z
LAST-MODIFIED:20241201T191526Z
UID:10001316-1843729200-1843732800@ncbctulsa.org
SUMMARY:Sunday Morning Service
DESCRIPTION:Worship Service with Vanessa and Dacey Lacey \nMessage from Pastor James Lacey
URL:https://ncbctulsa.org/event/sunday-morning-service/2028-06-04/
LOCATION:New Covenant Bible Church Sanctuary\, 4800 S Yukon Ave\, Tulsa\, OK\, 74107\, United States
CATEGORIES:Worship
END:VEVENT
BEGIN:VEVENT
DTSTART;TZID=America/Chicago:20280604T170000
DTEND;TZID=America/Chicago:20280604T174500
DTSTAMP:20260424T074228
CREATED:20241101T210951Z
LAST-MODIFIED:20241201T191300Z
UID:10002099-1843750800-1843753500@ncbctulsa.org
SUMMARY:Supper with the Saints: Fellowship Dinner
DESCRIPTION:Come eat dinner with the Church family with no obligation to come to Worship.
URL:https://ncbctulsa.org/event/supper-with-the-saints-fellowship-dinner/2028-06-04/
LOCATION:New Covenant Bible Church Fellowship Hall\, 4800 S Yukon Ave\, Tulsa\, OK\, 74107\, United States
CATEGORIES:Foods
END:VEVENT
BEGIN:VEVENT
DTSTART;TZID=America/Chicago:20280604T180000
DTEND;TZID=America/Chicago:20280604T190000
DTSTAMP:20260424T074228
CREATED:20241101T211048Z
LAST-MODIFIED:20241201T191700Z
UID:10002360-1843754400-1843758000@ncbctulsa.org
SUMMARY:Sunday Evening Worship
DESCRIPTION:Worship with Vanessa and Dacey Lacey \nMessage from Pastor James Lacey
URL:https://ncbctulsa.org/event/sunday-evening-worship/2028-06-04/
LOCATION:New Covenant Bible Church Sanctuary\, 4800 S Yukon Ave\, Tulsa\, OK\, 74107\, United States
CATEGORIES:Worship
END:VEVENT
BEGIN:VEVENT
DTSTART;TZID=America/Chicago:20280605T063000
DTEND;TZID=America/Chicago:20280605T203000
DTSTAMP:20260424T074228
CREATED:20241101T211806Z
LAST-MODIFIED:20241201T191732Z
UID:10002988-1843799400-1843849800@ncbctulsa.org
SUMMARY:God's ER
DESCRIPTION:Come be delivered. \n  \nGod’s ER
URL:https://ncbctulsa.org/event/gods-er/2028-06-05/
LOCATION:New Covenant Bible Church Sanctuary\, 4800 S Yukon Ave\, Tulsa\, OK\, 74107\, United States
CATEGORIES:Ministry
END:VEVENT
BEGIN:VEVENT
DTSTART;TZID=America/Chicago:20280607T130000
DTEND;TZID=America/Chicago:20280607T150000
DTSTAMP:20260424T074228
CREATED:20241102T145348Z
LAST-MODIFIED:20241201T191810Z
UID:10004105-1843995600-1844002800@ncbctulsa.org
SUMMARY:Prayer Meeting
DESCRIPTION:Join the Prayer Warriors praying for our congregation\, our community\, our country\, and the world.
URL:https://ncbctulsa.org/event/prayer-meeting/2028-06-07/
LOCATION:New Covenant Bible Church Sanctuary\, 4800 S Yukon Ave\, Tulsa\, OK\, 74107\, United States
CATEGORIES:Prayer
END:VEVENT
BEGIN:VEVENT
DTSTART;TZID=America/Chicago:20280607T190000
DTEND;TZID=America/Chicago:20280607T200000
DTSTAMP:20260424T074228
CREATED:20241101T211946Z
LAST-MODIFIED:20241201T191323Z
UID:10003583-1844017200-1844020800@ncbctulsa.org
SUMMARY:Wednesday Night Service
DESCRIPTION:Worship with Vanessa and Dacey Lacey \nMessage from Pastor James Lacey
URL:https://ncbctulsa.org/event/wednesday-night-service/2028-06-07/
LOCATION:New Covenant Bible Church Sanctuary\, 4800 S Yukon Ave\, Tulsa\, OK\, 74107\, United States
CATEGORIES:Worship
END:VEVENT
BEGIN:VEVENT
DTSTART;TZID=America/Chicago:20280611T090000
DTEND;TZID=America/Chicago:20280611T100000
DTSTAMP:20260424T074228
CREATED:20230419T015039Z
LAST-MODIFIED:20241201T191544Z
UID:10000269-1844326800-1844330400@ncbctulsa.org
SUMMARY:Sunday Morning Fellowship Breakfast
DESCRIPTION:Come join us for a free fellowship breakfast. Every week at 9am before Sunday School we serve eggs\, hashbrowns\, and biscuits and gravy.
URL:https://ncbctulsa.org/event/sunday-morning-fellowship-breakfast/2028-06-11/
LOCATION:New Covenant Bible Church Fellowship Hall\, 4800 S Yukon Ave\, Tulsa\, OK\, 74107\, United States
CATEGORIES:Foods
END:VEVENT
BEGIN:VEVENT
DTSTART;TZID=America/Chicago:20280611T100000
DTEND;TZID=America/Chicago:20280611T110000
DTSTAMP:20260424T074228
CREATED:20241102T015540Z
LAST-MODIFIED:20241201T191619Z
UID:10001839-1844330400-1844334000@ncbctulsa.org
SUMMARY:Sunday School
DESCRIPTION:Lessons from the bible taught by Pastor Vanessa Lacey
URL:https://ncbctulsa.org/event/sunday-school/2028-06-11/
LOCATION:New Covenant Bible Church Sanctuary\, 4800 S Yukon Ave\, Tulsa\, OK\, 74107\, United States
END:VEVENT
BEGIN:VEVENT
DTSTART;TZID=America/Chicago:20280611T110000
DTEND;TZID=America/Chicago:20280611T120000
DTSTAMP:20260424T074228
CREATED:20241102T020314Z
LAST-MODIFIED:20241201T191526Z
UID:10001317-1844334000-1844337600@ncbctulsa.org
SUMMARY:Sunday Morning Service
DESCRIPTION:Worship Service with Vanessa and Dacey Lacey \nMessage from Pastor James Lacey
URL:https://ncbctulsa.org/event/sunday-morning-service/2028-06-11/
LOCATION:New Covenant Bible Church Sanctuary\, 4800 S Yukon Ave\, Tulsa\, OK\, 74107\, United States
CATEGORIES:Worship
END:VEVENT
BEGIN:VEVENT
DTSTART;TZID=America/Chicago:20280611T160000
DTEND;TZID=America/Chicago:20280611T180000
DTSTAMP:20260424T074228
CREATED:20241201T190829Z
LAST-MODIFIED:20241201T190951Z
UID:10004408-1844352000-1844359200@ncbctulsa.org
SUMMARY:Emerge Global: Single Mom's Ministry
DESCRIPTION:Come join us for fellowship with other single mothers and ministry to your families. \nChildren’s Program!
URL:https://ncbctulsa.org/event/emerge-global-single-moms-ministry/2028-06-11/
LOCATION:New Covenant Bible Church Fellowship Hall\, 4800 S Yukon Ave\, Tulsa\, OK\, 74107\, United States
END:VEVENT
BEGIN:VEVENT
DTSTART;TZID=America/Chicago:20280611T170000
DTEND;TZID=America/Chicago:20280611T174500
DTSTAMP:20260424T074228
CREATED:20241101T210951Z
LAST-MODIFIED:20241201T191300Z
UID:10002100-1844355600-1844358300@ncbctulsa.org
SUMMARY:Supper with the Saints: Fellowship Dinner
DESCRIPTION:Come eat dinner with the Church family with no obligation to come to Worship.
URL:https://ncbctulsa.org/event/supper-with-the-saints-fellowship-dinner/2028-06-11/
LOCATION:New Covenant Bible Church Fellowship Hall\, 4800 S Yukon Ave\, Tulsa\, OK\, 74107\, United States
CATEGORIES:Foods
END:VEVENT
BEGIN:VEVENT
DTSTART;TZID=America/Chicago:20280611T180000
DTEND;TZID=America/Chicago:20280611T190000
DTSTAMP:20260424T074228
CREATED:20241101T211048Z
LAST-MODIFIED:20241201T191700Z
UID:10002361-1844359200-1844362800@ncbctulsa.org
SUMMARY:Sunday Evening Worship
DESCRIPTION:Worship with Vanessa and Dacey Lacey \nMessage from Pastor James Lacey
URL:https://ncbctulsa.org/event/sunday-evening-worship/2028-06-11/
LOCATION:New Covenant Bible Church Sanctuary\, 4800 S Yukon Ave\, Tulsa\, OK\, 74107\, United States
CATEGORIES:Worship
END:VEVENT
BEGIN:VEVENT
DTSTART;TZID=America/Chicago:20280612T063000
DTEND;TZID=America/Chicago:20280612T203000
DTSTAMP:20260424T074228
CREATED:20241101T211806Z
LAST-MODIFIED:20241201T191732Z
UID:10002990-1844404200-1844454600@ncbctulsa.org
SUMMARY:God's ER
DESCRIPTION:Come be delivered. \n  \nGod’s ER
URL:https://ncbctulsa.org/event/gods-er/2028-06-12/
LOCATION:New Covenant Bible Church Sanctuary\, 4800 S Yukon Ave\, Tulsa\, OK\, 74107\, United States
CATEGORIES:Ministry
END:VEVENT
BEGIN:VEVENT
DTSTART;TZID=America/Chicago:20280614T130000
DTEND;TZID=America/Chicago:20280614T150000
DTSTAMP:20260424T074228
CREATED:20241102T145348Z
LAST-MODIFIED:20241201T191810Z
UID:10004106-1844600400-1844607600@ncbctulsa.org
SUMMARY:Prayer Meeting
DESCRIPTION:Join the Prayer Warriors praying for our congregation\, our community\, our country\, and the world.
URL:https://ncbctulsa.org/event/prayer-meeting/2028-06-14/
LOCATION:New Covenant Bible Church Sanctuary\, 4800 S Yukon Ave\, Tulsa\, OK\, 74107\, United States
CATEGORIES:Prayer
END:VEVENT
BEGIN:VEVENT
DTSTART;TZID=America/Chicago:20280614T190000
DTEND;TZID=America/Chicago:20280614T200000
DTSTAMP:20260424T074228
CREATED:20241101T211946Z
LAST-MODIFIED:20241201T191323Z
UID:10003584-1844622000-1844625600@ncbctulsa.org
SUMMARY:Wednesday Night Service
DESCRIPTION:Worship with Vanessa and Dacey Lacey \nMessage from Pastor James Lacey
URL:https://ncbctulsa.org/event/wednesday-night-service/2028-06-14/
LOCATION:New Covenant Bible Church Sanctuary\, 4800 S Yukon Ave\, Tulsa\, OK\, 74107\, United States
CATEGORIES:Worship
END:VEVENT
BEGIN:VEVENT
DTSTART;TZID=America/Chicago:20280618T090000
DTEND;TZID=America/Chicago:20280618T100000
DTSTAMP:20260424T074228
CREATED:20230419T015039Z
LAST-MODIFIED:20241201T191544Z
UID:10000270-1844931600-1844935200@ncbctulsa.org
SUMMARY:Sunday Morning Fellowship Breakfast
DESCRIPTION:Come join us for a free fellowship breakfast. Every week at 9am before Sunday School we serve eggs\, hashbrowns\, and biscuits and gravy.
URL:https://ncbctulsa.org/event/sunday-morning-fellowship-breakfast/2028-06-18/
LOCATION:New Covenant Bible Church Fellowship Hall\, 4800 S Yukon Ave\, Tulsa\, OK\, 74107\, United States
CATEGORIES:Foods
END:VEVENT
BEGIN:VEVENT
DTSTART;TZID=America/Chicago:20280618T100000
DTEND;TZID=America/Chicago:20280618T110000
DTSTAMP:20260424T074228
CREATED:20241102T015540Z
LAST-MODIFIED:20241201T191619Z
UID:10001840-1844935200-1844938800@ncbctulsa.org
SUMMARY:Sunday School
DESCRIPTION:Lessons from the bible taught by Pastor Vanessa Lacey
URL:https://ncbctulsa.org/event/sunday-school/2028-06-18/
LOCATION:New Covenant Bible Church Sanctuary\, 4800 S Yukon Ave\, Tulsa\, OK\, 74107\, United States
END:VEVENT
BEGIN:VEVENT
DTSTART;TZID=America/Chicago:20280618T110000
DTEND;TZID=America/Chicago:20280618T120000
DTSTAMP:20260424T074228
CREATED:20241102T020314Z
LAST-MODIFIED:20241201T191526Z
UID:10001318-1844938800-1844942400@ncbctulsa.org
SUMMARY:Sunday Morning Service
DESCRIPTION:Worship Service with Vanessa and Dacey Lacey \nMessage from Pastor James Lacey
URL:https://ncbctulsa.org/event/sunday-morning-service/2028-06-18/
LOCATION:New Covenant Bible Church Sanctuary\, 4800 S Yukon Ave\, Tulsa\, OK\, 74107\, United States
CATEGORIES:Worship
END:VEVENT
BEGIN:VEVENT
DTSTART;TZID=America/Chicago:20280618T170000
DTEND;TZID=America/Chicago:20280618T174500
DTSTAMP:20260424T074228
CREATED:20241101T210951Z
LAST-MODIFIED:20241201T191300Z
UID:10002101-1844960400-1844963100@ncbctulsa.org
SUMMARY:Supper with the Saints: Fellowship Dinner
DESCRIPTION:Come eat dinner with the Church family with no obligation to come to Worship.
URL:https://ncbctulsa.org/event/supper-with-the-saints-fellowship-dinner/2028-06-18/
LOCATION:New Covenant Bible Church Fellowship Hall\, 4800 S Yukon Ave\, Tulsa\, OK\, 74107\, United States
CATEGORIES:Foods
END:VEVENT
BEGIN:VEVENT
DTSTART;TZID=America/Chicago:20280618T180000
DTEND;TZID=America/Chicago:20280618T190000
DTSTAMP:20260424T074228
CREATED:20241101T211048Z
LAST-MODIFIED:20241201T191700Z
UID:10002362-1844964000-1844967600@ncbctulsa.org
SUMMARY:Sunday Evening Worship
DESCRIPTION:Worship with Vanessa and Dacey Lacey \nMessage from Pastor James Lacey
URL:https://ncbctulsa.org/event/sunday-evening-worship/2028-06-18/
LOCATION:New Covenant Bible Church Sanctuary\, 4800 S Yukon Ave\, Tulsa\, OK\, 74107\, United States
CATEGORIES:Worship
END:VEVENT
BEGIN:VEVENT
DTSTART;TZID=America/Chicago:20280619T063000
DTEND;TZID=America/Chicago:20280619T203000
DTSTAMP:20260424T074228
CREATED:20241101T211806Z
LAST-MODIFIED:20241201T191732Z
UID:10002992-1845009000-1845059400@ncbctulsa.org
SUMMARY:God's ER
DESCRIPTION:Come be delivered. \n  \nGod’s ER
URL:https://ncbctulsa.org/event/gods-er/2028-06-19/
LOCATION:New Covenant Bible Church Sanctuary\, 4800 S Yukon Ave\, Tulsa\, OK\, 74107\, United States
CATEGORIES:Ministry
END:VEVENT
BEGIN:VEVENT
DTSTART;TZID=America/Chicago:20280621T130000
DTEND;TZID=America/Chicago:20280621T150000
DTSTAMP:20260424T074228
CREATED:20241102T145348Z
LAST-MODIFIED:20241201T191810Z
UID:10004107-1845205200-1845212400@ncbctulsa.org
SUMMARY:Prayer Meeting
DESCRIPTION:Join the Prayer Warriors praying for our congregation\, our community\, our country\, and the world.
URL:https://ncbctulsa.org/event/prayer-meeting/2028-06-21/
LOCATION:New Covenant Bible Church Sanctuary\, 4800 S Yukon Ave\, Tulsa\, OK\, 74107\, United States
CATEGORIES:Prayer
END:VEVENT
BEGIN:VEVENT
DTSTART;TZID=America/Chicago:20280621T190000
DTEND;TZID=America/Chicago:20280621T200000
DTSTAMP:20260424T074228
CREATED:20241101T211946Z
LAST-MODIFIED:20241201T191323Z
UID:10003585-1845226800-1845230400@ncbctulsa.org
SUMMARY:Wednesday Night Service
DESCRIPTION:Worship with Vanessa and Dacey Lacey \nMessage from Pastor James Lacey
URL:https://ncbctulsa.org/event/wednesday-night-service/2028-06-21/
LOCATION:New Covenant Bible Church Sanctuary\, 4800 S Yukon Ave\, Tulsa\, OK\, 74107\, United States
CATEGORIES:Worship
END:VEVENT
BEGIN:VEVENT
DTSTART;TZID=America/Chicago:20280625T090000
DTEND;TZID=America/Chicago:20280625T100000
DTSTAMP:20260424T074229
CREATED:20230419T015039Z
LAST-MODIFIED:20241201T191544Z
UID:10000271-1845536400-1845540000@ncbctulsa.org
SUMMARY:Sunday Morning Fellowship Breakfast
DESCRIPTION:Come join us for a free fellowship breakfast. Every week at 9am before Sunday School we serve eggs\, hashbrowns\, and biscuits and gravy.
URL:https://ncbctulsa.org/event/sunday-morning-fellowship-breakfast/2028-06-25/
LOCATION:New Covenant Bible Church Fellowship Hall\, 4800 S Yukon Ave\, Tulsa\, OK\, 74107\, United States
CATEGORIES:Foods
END:VEVENT
BEGIN:VEVENT
DTSTART;TZID=America/Chicago:20280625T100000
DTEND;TZID=America/Chicago:20280625T110000
DTSTAMP:20260424T074229
CREATED:20241102T015540Z
LAST-MODIFIED:20241201T191619Z
UID:10001841-1845540000-1845543600@ncbctulsa.org
SUMMARY:Sunday School
DESCRIPTION:Lessons from the bible taught by Pastor Vanessa Lacey
URL:https://ncbctulsa.org/event/sunday-school/2028-06-25/
LOCATION:New Covenant Bible Church Sanctuary\, 4800 S Yukon Ave\, Tulsa\, OK\, 74107\, United States
END:VEVENT
BEGIN:VEVENT
DTSTART;TZID=America/Chicago:20280625T110000
DTEND;TZID=America/Chicago:20280625T120000
DTSTAMP:20260424T074229
CREATED:20241102T020314Z
LAST-MODIFIED:20241201T191526Z
UID:10001319-1845543600-1845547200@ncbctulsa.org
SUMMARY:Sunday Morning Service
DESCRIPTION:Worship Service with Vanessa and Dacey Lacey \nMessage from Pastor James Lacey
URL:https://ncbctulsa.org/event/sunday-morning-service/2028-06-25/
LOCATION:New Covenant Bible Church Sanctuary\, 4800 S Yukon Ave\, Tulsa\, OK\, 74107\, United States
CATEGORIES:Worship
END:VEVENT
BEGIN:VEVENT
DTSTART;TZID=America/Chicago:20280625T160000
DTEND;TZID=America/Chicago:20280625T180000
DTSTAMP:20260424T074229
CREATED:20241201T190853Z
LAST-MODIFIED:20241201T191018Z
UID:10004468-1845561600-1845568800@ncbctulsa.org
SUMMARY:Emerge Global: Single Mom's Ministry
DESCRIPTION:Come join us for fellowship with other single mothers and ministry to your families. \nChildren’s Program!
URL:https://ncbctulsa.org/event/emerge-global-single-moms-ministry-2/2028-06-25/
LOCATION:New Covenant Bible Church Fellowship Hall\, 4800 S Yukon Ave\, Tulsa\, OK\, 74107\, United States
END:VEVENT
END:VCALENDAR