BEGIN:VCALENDAR
VERSION:2.0
PRODID:-//New Covenant Bible Church - ECPv6.9.0//NONSGML v1.0//EN
CALSCALE:GREGORIAN
METHOD:PUBLISH
X-WR-CALNAME:New Covenant Bible Church
X-ORIGINAL-URL:https://ncbctulsa.org
X-WR-CALDESC:Events for New Covenant Bible Church
REFRESH-INTERVAL;VALUE=DURATION:PT1H
X-Robots-Tag:noindex
X-PUBLISHED-TTL:PT1H
BEGIN:VTIMEZONE
TZID:America/Chicago
BEGIN:DAYLIGHT
TZOFFSETFROM:-0600
TZOFFSETTO:-0500
TZNAME:CDT
DTSTART:20280312T080000
END:DAYLIGHT
BEGIN:STANDARD
TZOFFSETFROM:-0500
TZOFFSETTO:-0600
TZNAME:CST
DTSTART:20281105T070000
END:STANDARD
END:VTIMEZONE
BEGIN:VEVENT
DTSTART;TZID=America/Chicago:20280507T170000
DTEND;TZID=America/Chicago:20280507T174500
DTSTAMP:20260424T023111
CREATED:20241101T210951Z
LAST-MODIFIED:20241201T191300Z
UID:10002095-1841331600-1841334300@ncbctulsa.org
SUMMARY:Supper with the Saints: Fellowship Dinner
DESCRIPTION:Come eat dinner with the Church family with no obligation to come to Worship.
URL:https://ncbctulsa.org/event/supper-with-the-saints-fellowship-dinner/2028-05-07/
LOCATION:New Covenant Bible Church Fellowship Hall\, 4800 S Yukon Ave\, Tulsa\, OK\, 74107\, United States
CATEGORIES:Foods
END:VEVENT
BEGIN:VEVENT
DTSTART;TZID=America/Chicago:20280507T180000
DTEND;TZID=America/Chicago:20280507T190000
DTSTAMP:20260424T023111
CREATED:20241101T211048Z
LAST-MODIFIED:20241201T191700Z
UID:10002356-1841335200-1841338800@ncbctulsa.org
SUMMARY:Sunday Evening Worship
DESCRIPTION:Worship with Vanessa and Dacey Lacey \nMessage from Pastor James Lacey
URL:https://ncbctulsa.org/event/sunday-evening-worship/2028-05-07/
LOCATION:New Covenant Bible Church Sanctuary\, 4800 S Yukon Ave\, Tulsa\, OK\, 74107\, United States
CATEGORIES:Worship
END:VEVENT
BEGIN:VEVENT
DTSTART;TZID=America/Chicago:20280508T063000
DTEND;TZID=America/Chicago:20280508T203000
DTSTAMP:20260424T023111
CREATED:20241101T211806Z
LAST-MODIFIED:20241201T191732Z
UID:10002980-1841380200-1841430600@ncbctulsa.org
SUMMARY:God's ER
DESCRIPTION:Come be delivered. \n  \nGod’s ER
URL:https://ncbctulsa.org/event/gods-er/2028-05-08/
LOCATION:New Covenant Bible Church Sanctuary\, 4800 S Yukon Ave\, Tulsa\, OK\, 74107\, United States
CATEGORIES:Ministry
END:VEVENT
BEGIN:VEVENT
DTSTART;TZID=America/Chicago:20280510T130000
DTEND;TZID=America/Chicago:20280510T150000
DTSTAMP:20260424T023111
CREATED:20241102T145348Z
LAST-MODIFIED:20241201T191810Z
UID:10004101-1841576400-1841583600@ncbctulsa.org
SUMMARY:Prayer Meeting
DESCRIPTION:Join the Prayer Warriors praying for our congregation\, our community\, our country\, and the world.
URL:https://ncbctulsa.org/event/prayer-meeting/2028-05-10/
LOCATION:New Covenant Bible Church Sanctuary\, 4800 S Yukon Ave\, Tulsa\, OK\, 74107\, United States
CATEGORIES:Prayer
END:VEVENT
BEGIN:VEVENT
DTSTART;TZID=America/Chicago:20280510T190000
DTEND;TZID=America/Chicago:20280510T200000
DTSTAMP:20260424T023111
CREATED:20241101T211946Z
LAST-MODIFIED:20241201T191323Z
UID:10003579-1841598000-1841601600@ncbctulsa.org
SUMMARY:Wednesday Night Service
DESCRIPTION:Worship with Vanessa and Dacey Lacey \nMessage from Pastor James Lacey
URL:https://ncbctulsa.org/event/wednesday-night-service/2028-05-10/
LOCATION:New Covenant Bible Church Sanctuary\, 4800 S Yukon Ave\, Tulsa\, OK\, 74107\, United States
CATEGORIES:Worship
END:VEVENT
BEGIN:VEVENT
DTSTART;TZID=America/Chicago:20280514T090000
DTEND;TZID=America/Chicago:20280514T100000
DTSTAMP:20260424T023111
CREATED:20230419T015039Z
LAST-MODIFIED:20241201T191544Z
UID:10000265-1841907600-1841911200@ncbctulsa.org
SUMMARY:Sunday Morning Fellowship Breakfast
DESCRIPTION:Come join us for a free fellowship breakfast. Every week at 9am before Sunday School we serve eggs\, hashbrowns\, and biscuits and gravy.
URL:https://ncbctulsa.org/event/sunday-morning-fellowship-breakfast/2028-05-14/
LOCATION:New Covenant Bible Church Fellowship Hall\, 4800 S Yukon Ave\, Tulsa\, OK\, 74107\, United States
CATEGORIES:Foods
END:VEVENT
BEGIN:VEVENT
DTSTART;TZID=America/Chicago:20280514T100000
DTEND;TZID=America/Chicago:20280514T110000
DTSTAMP:20260424T023111
CREATED:20241102T015540Z
LAST-MODIFIED:20241201T191619Z
UID:10001835-1841911200-1841914800@ncbctulsa.org
SUMMARY:Sunday School
DESCRIPTION:Lessons from the bible taught by Pastor Vanessa Lacey
URL:https://ncbctulsa.org/event/sunday-school/2028-05-14/
LOCATION:New Covenant Bible Church Sanctuary\, 4800 S Yukon Ave\, Tulsa\, OK\, 74107\, United States
END:VEVENT
BEGIN:VEVENT
DTSTART;TZID=America/Chicago:20280514T110000
DTEND;TZID=America/Chicago:20280514T120000
DTSTAMP:20260424T023111
CREATED:20241102T020314Z
LAST-MODIFIED:20241201T191526Z
UID:10001313-1841914800-1841918400@ncbctulsa.org
SUMMARY:Sunday Morning Service
DESCRIPTION:Worship Service with Vanessa and Dacey Lacey \nMessage from Pastor James Lacey
URL:https://ncbctulsa.org/event/sunday-morning-service/2028-05-14/
LOCATION:New Covenant Bible Church Sanctuary\, 4800 S Yukon Ave\, Tulsa\, OK\, 74107\, United States
CATEGORIES:Worship
END:VEVENT
BEGIN:VEVENT
DTSTART;TZID=America/Chicago:20280514T160000
DTEND;TZID=America/Chicago:20280514T180000
DTSTAMP:20260424T023111
CREATED:20241201T190829Z
LAST-MODIFIED:20241201T190951Z
UID:10004407-1841932800-1841940000@ncbctulsa.org
SUMMARY:Emerge Global: Single Mom's Ministry
DESCRIPTION:Come join us for fellowship with other single mothers and ministry to your families. \nChildren’s Program!
URL:https://ncbctulsa.org/event/emerge-global-single-moms-ministry/2028-05-14/
LOCATION:New Covenant Bible Church Fellowship Hall\, 4800 S Yukon Ave\, Tulsa\, OK\, 74107\, United States
END:VEVENT
BEGIN:VEVENT
DTSTART;TZID=America/Chicago:20280514T170000
DTEND;TZID=America/Chicago:20280514T174500
DTSTAMP:20260424T023111
CREATED:20241101T210951Z
LAST-MODIFIED:20241201T191300Z
UID:10002096-1841936400-1841939100@ncbctulsa.org
SUMMARY:Supper with the Saints: Fellowship Dinner
DESCRIPTION:Come eat dinner with the Church family with no obligation to come to Worship.
URL:https://ncbctulsa.org/event/supper-with-the-saints-fellowship-dinner/2028-05-14/
LOCATION:New Covenant Bible Church Fellowship Hall\, 4800 S Yukon Ave\, Tulsa\, OK\, 74107\, United States
CATEGORIES:Foods
END:VEVENT
BEGIN:VEVENT
DTSTART;TZID=America/Chicago:20280514T180000
DTEND;TZID=America/Chicago:20280514T190000
DTSTAMP:20260424T023111
CREATED:20241101T211048Z
LAST-MODIFIED:20241201T191700Z
UID:10002357-1841940000-1841943600@ncbctulsa.org
SUMMARY:Sunday Evening Worship
DESCRIPTION:Worship with Vanessa and Dacey Lacey \nMessage from Pastor James Lacey
URL:https://ncbctulsa.org/event/sunday-evening-worship/2028-05-14/
LOCATION:New Covenant Bible Church Sanctuary\, 4800 S Yukon Ave\, Tulsa\, OK\, 74107\, United States
CATEGORIES:Worship
END:VEVENT
BEGIN:VEVENT
DTSTART;TZID=America/Chicago:20280515T063000
DTEND;TZID=America/Chicago:20280515T203000
DTSTAMP:20260424T023111
CREATED:20241101T211806Z
LAST-MODIFIED:20241201T191732Z
UID:10002982-1841985000-1842035400@ncbctulsa.org
SUMMARY:God's ER
DESCRIPTION:Come be delivered. \n  \nGod’s ER
URL:https://ncbctulsa.org/event/gods-er/2028-05-15/
LOCATION:New Covenant Bible Church Sanctuary\, 4800 S Yukon Ave\, Tulsa\, OK\, 74107\, United States
CATEGORIES:Ministry
END:VEVENT
BEGIN:VEVENT
DTSTART;TZID=America/Chicago:20280517T130000
DTEND;TZID=America/Chicago:20280517T150000
DTSTAMP:20260424T023111
CREATED:20241102T145348Z
LAST-MODIFIED:20241201T191810Z
UID:10004102-1842181200-1842188400@ncbctulsa.org
SUMMARY:Prayer Meeting
DESCRIPTION:Join the Prayer Warriors praying for our congregation\, our community\, our country\, and the world.
URL:https://ncbctulsa.org/event/prayer-meeting/2028-05-17/
LOCATION:New Covenant Bible Church Sanctuary\, 4800 S Yukon Ave\, Tulsa\, OK\, 74107\, United States
CATEGORIES:Prayer
END:VEVENT
BEGIN:VEVENT
DTSTART;TZID=America/Chicago:20280517T190000
DTEND;TZID=America/Chicago:20280517T200000
DTSTAMP:20260424T023111
CREATED:20241101T211946Z
LAST-MODIFIED:20241201T191323Z
UID:10003580-1842202800-1842206400@ncbctulsa.org
SUMMARY:Wednesday Night Service
DESCRIPTION:Worship with Vanessa and Dacey Lacey \nMessage from Pastor James Lacey
URL:https://ncbctulsa.org/event/wednesday-night-service/2028-05-17/
LOCATION:New Covenant Bible Church Sanctuary\, 4800 S Yukon Ave\, Tulsa\, OK\, 74107\, United States
CATEGORIES:Worship
END:VEVENT
BEGIN:VEVENT
DTSTART;TZID=America/Chicago:20280521T090000
DTEND;TZID=America/Chicago:20280521T100000
DTSTAMP:20260424T023111
CREATED:20230419T015039Z
LAST-MODIFIED:20241201T191544Z
UID:10000266-1842512400-1842516000@ncbctulsa.org
SUMMARY:Sunday Morning Fellowship Breakfast
DESCRIPTION:Come join us for a free fellowship breakfast. Every week at 9am before Sunday School we serve eggs\, hashbrowns\, and biscuits and gravy.
URL:https://ncbctulsa.org/event/sunday-morning-fellowship-breakfast/2028-05-21/
LOCATION:New Covenant Bible Church Fellowship Hall\, 4800 S Yukon Ave\, Tulsa\, OK\, 74107\, United States
CATEGORIES:Foods
END:VEVENT
BEGIN:VEVENT
DTSTART;TZID=America/Chicago:20280521T100000
DTEND;TZID=America/Chicago:20280521T110000
DTSTAMP:20260424T023111
CREATED:20241102T015540Z
LAST-MODIFIED:20241201T191619Z
UID:10001836-1842516000-1842519600@ncbctulsa.org
SUMMARY:Sunday School
DESCRIPTION:Lessons from the bible taught by Pastor Vanessa Lacey
URL:https://ncbctulsa.org/event/sunday-school/2028-05-21/
LOCATION:New Covenant Bible Church Sanctuary\, 4800 S Yukon Ave\, Tulsa\, OK\, 74107\, United States
END:VEVENT
BEGIN:VEVENT
DTSTART;TZID=America/Chicago:20280521T110000
DTEND;TZID=America/Chicago:20280521T120000
DTSTAMP:20260424T023111
CREATED:20241102T020314Z
LAST-MODIFIED:20241201T191526Z
UID:10001314-1842519600-1842523200@ncbctulsa.org
SUMMARY:Sunday Morning Service
DESCRIPTION:Worship Service with Vanessa and Dacey Lacey \nMessage from Pastor James Lacey
URL:https://ncbctulsa.org/event/sunday-morning-service/2028-05-21/
LOCATION:New Covenant Bible Church Sanctuary\, 4800 S Yukon Ave\, Tulsa\, OK\, 74107\, United States
CATEGORIES:Worship
END:VEVENT
BEGIN:VEVENT
DTSTART;TZID=America/Chicago:20280521T170000
DTEND;TZID=America/Chicago:20280521T174500
DTSTAMP:20260424T023111
CREATED:20241101T210951Z
LAST-MODIFIED:20241201T191300Z
UID:10002097-1842541200-1842543900@ncbctulsa.org
SUMMARY:Supper with the Saints: Fellowship Dinner
DESCRIPTION:Come eat dinner with the Church family with no obligation to come to Worship.
URL:https://ncbctulsa.org/event/supper-with-the-saints-fellowship-dinner/2028-05-21/
LOCATION:New Covenant Bible Church Fellowship Hall\, 4800 S Yukon Ave\, Tulsa\, OK\, 74107\, United States
CATEGORIES:Foods
END:VEVENT
BEGIN:VEVENT
DTSTART;TZID=America/Chicago:20280521T180000
DTEND;TZID=America/Chicago:20280521T190000
DTSTAMP:20260424T023111
CREATED:20241101T211048Z
LAST-MODIFIED:20241201T191700Z
UID:10002358-1842544800-1842548400@ncbctulsa.org
SUMMARY:Sunday Evening Worship
DESCRIPTION:Worship with Vanessa and Dacey Lacey \nMessage from Pastor James Lacey
URL:https://ncbctulsa.org/event/sunday-evening-worship/2028-05-21/
LOCATION:New Covenant Bible Church Sanctuary\, 4800 S Yukon Ave\, Tulsa\, OK\, 74107\, United States
CATEGORIES:Worship
END:VEVENT
BEGIN:VEVENT
DTSTART;TZID=America/Chicago:20280522T063000
DTEND;TZID=America/Chicago:20280522T203000
DTSTAMP:20260424T023111
CREATED:20241101T211806Z
LAST-MODIFIED:20241201T191732Z
UID:10002984-1842589800-1842640200@ncbctulsa.org
SUMMARY:God's ER
DESCRIPTION:Come be delivered. \n  \nGod’s ER
URL:https://ncbctulsa.org/event/gods-er/2028-05-22/
LOCATION:New Covenant Bible Church Sanctuary\, 4800 S Yukon Ave\, Tulsa\, OK\, 74107\, United States
CATEGORIES:Ministry
END:VEVENT
BEGIN:VEVENT
DTSTART;TZID=America/Chicago:20280524T130000
DTEND;TZID=America/Chicago:20280524T150000
DTSTAMP:20260424T023112
CREATED:20241102T145348Z
LAST-MODIFIED:20241201T191810Z
UID:10004103-1842786000-1842793200@ncbctulsa.org
SUMMARY:Prayer Meeting
DESCRIPTION:Join the Prayer Warriors praying for our congregation\, our community\, our country\, and the world.
URL:https://ncbctulsa.org/event/prayer-meeting/2028-05-24/
LOCATION:New Covenant Bible Church Sanctuary\, 4800 S Yukon Ave\, Tulsa\, OK\, 74107\, United States
CATEGORIES:Prayer
END:VEVENT
BEGIN:VEVENT
DTSTART;TZID=America/Chicago:20280524T190000
DTEND;TZID=America/Chicago:20280524T200000
DTSTAMP:20260424T023112
CREATED:20241101T211946Z
LAST-MODIFIED:20241201T191323Z
UID:10003581-1842807600-1842811200@ncbctulsa.org
SUMMARY:Wednesday Night Service
DESCRIPTION:Worship with Vanessa and Dacey Lacey \nMessage from Pastor James Lacey
URL:https://ncbctulsa.org/event/wednesday-night-service/2028-05-24/
LOCATION:New Covenant Bible Church Sanctuary\, 4800 S Yukon Ave\, Tulsa\, OK\, 74107\, United States
CATEGORIES:Worship
END:VEVENT
BEGIN:VEVENT
DTSTART;TZID=America/Chicago:20280528T090000
DTEND;TZID=America/Chicago:20280528T100000
DTSTAMP:20260424T023112
CREATED:20230419T015039Z
LAST-MODIFIED:20241201T191544Z
UID:10000267-1843117200-1843120800@ncbctulsa.org
SUMMARY:Sunday Morning Fellowship Breakfast
DESCRIPTION:Come join us for a free fellowship breakfast. Every week at 9am before Sunday School we serve eggs\, hashbrowns\, and biscuits and gravy.
URL:https://ncbctulsa.org/event/sunday-morning-fellowship-breakfast/2028-05-28/
LOCATION:New Covenant Bible Church Fellowship Hall\, 4800 S Yukon Ave\, Tulsa\, OK\, 74107\, United States
CATEGORIES:Foods
END:VEVENT
BEGIN:VEVENT
DTSTART;TZID=America/Chicago:20280528T100000
DTEND;TZID=America/Chicago:20280528T110000
DTSTAMP:20260424T023112
CREATED:20241102T015540Z
LAST-MODIFIED:20241201T191619Z
UID:10001837-1843120800-1843124400@ncbctulsa.org
SUMMARY:Sunday School
DESCRIPTION:Lessons from the bible taught by Pastor Vanessa Lacey
URL:https://ncbctulsa.org/event/sunday-school/2028-05-28/
LOCATION:New Covenant Bible Church Sanctuary\, 4800 S Yukon Ave\, Tulsa\, OK\, 74107\, United States
END:VEVENT
BEGIN:VEVENT
DTSTART;TZID=America/Chicago:20280528T110000
DTEND;TZID=America/Chicago:20280528T120000
DTSTAMP:20260424T023112
CREATED:20241102T020314Z
LAST-MODIFIED:20241201T191526Z
UID:10001315-1843124400-1843128000@ncbctulsa.org
SUMMARY:Sunday Morning Service
DESCRIPTION:Worship Service with Vanessa and Dacey Lacey \nMessage from Pastor James Lacey
URL:https://ncbctulsa.org/event/sunday-morning-service/2028-05-28/
LOCATION:New Covenant Bible Church Sanctuary\, 4800 S Yukon Ave\, Tulsa\, OK\, 74107\, United States
CATEGORIES:Worship
END:VEVENT
BEGIN:VEVENT
DTSTART;TZID=America/Chicago:20280528T160000
DTEND;TZID=America/Chicago:20280528T180000
DTSTAMP:20260424T023112
CREATED:20241201T190853Z
LAST-MODIFIED:20241201T191018Z
UID:10004467-1843142400-1843149600@ncbctulsa.org
SUMMARY:Emerge Global: Single Mom's Ministry
DESCRIPTION:Come join us for fellowship with other single mothers and ministry to your families. \nChildren’s Program!
URL:https://ncbctulsa.org/event/emerge-global-single-moms-ministry-2/2028-05-28/
LOCATION:New Covenant Bible Church Fellowship Hall\, 4800 S Yukon Ave\, Tulsa\, OK\, 74107\, United States
END:VEVENT
BEGIN:VEVENT
DTSTART;TZID=America/Chicago:20280528T170000
DTEND;TZID=America/Chicago:20280528T174500
DTSTAMP:20260424T023112
CREATED:20241101T210951Z
LAST-MODIFIED:20241201T191300Z
UID:10002098-1843146000-1843148700@ncbctulsa.org
SUMMARY:Supper with the Saints: Fellowship Dinner
DESCRIPTION:Come eat dinner with the Church family with no obligation to come to Worship.
URL:https://ncbctulsa.org/event/supper-with-the-saints-fellowship-dinner/2028-05-28/
LOCATION:New Covenant Bible Church Fellowship Hall\, 4800 S Yukon Ave\, Tulsa\, OK\, 74107\, United States
CATEGORIES:Foods
END:VEVENT
BEGIN:VEVENT
DTSTART;TZID=America/Chicago:20280528T180000
DTEND;TZID=America/Chicago:20280528T190000
DTSTAMP:20260424T023112
CREATED:20241101T211048Z
LAST-MODIFIED:20241201T191700Z
UID:10002359-1843149600-1843153200@ncbctulsa.org
SUMMARY:Sunday Evening Worship
DESCRIPTION:Worship with Vanessa and Dacey Lacey \nMessage from Pastor James Lacey
URL:https://ncbctulsa.org/event/sunday-evening-worship/2028-05-28/
LOCATION:New Covenant Bible Church Sanctuary\, 4800 S Yukon Ave\, Tulsa\, OK\, 74107\, United States
CATEGORIES:Worship
END:VEVENT
BEGIN:VEVENT
DTSTART;TZID=America/Chicago:20280529T063000
DTEND;TZID=America/Chicago:20280529T203000
DTSTAMP:20260424T023112
CREATED:20241101T211806Z
LAST-MODIFIED:20241201T191732Z
UID:10002986-1843194600-1843245000@ncbctulsa.org
SUMMARY:God's ER
DESCRIPTION:Come be delivered. \n  \nGod’s ER
URL:https://ncbctulsa.org/event/gods-er/2028-05-29/
LOCATION:New Covenant Bible Church Sanctuary\, 4800 S Yukon Ave\, Tulsa\, OK\, 74107\, United States
CATEGORIES:Ministry
END:VEVENT
BEGIN:VEVENT
DTSTART;TZID=America/Chicago:20280531T130000
DTEND;TZID=America/Chicago:20280531T150000
DTSTAMP:20260424T023112
CREATED:20241102T145348Z
LAST-MODIFIED:20241201T191810Z
UID:10004104-1843390800-1843398000@ncbctulsa.org
SUMMARY:Prayer Meeting
DESCRIPTION:Join the Prayer Warriors praying for our congregation\, our community\, our country\, and the world.
URL:https://ncbctulsa.org/event/prayer-meeting/2028-05-31/
LOCATION:New Covenant Bible Church Sanctuary\, 4800 S Yukon Ave\, Tulsa\, OK\, 74107\, United States
CATEGORIES:Prayer
END:VEVENT
END:VCALENDAR