BEGIN:VCALENDAR
VERSION:2.0
PRODID:-//New Covenant Bible Church - ECPv6.9.0//NONSGML v1.0//EN
CALSCALE:GREGORIAN
METHOD:PUBLISH
X-WR-CALNAME:New Covenant Bible Church
X-ORIGINAL-URL:https://ncbctulsa.org
X-WR-CALDESC:Events for New Covenant Bible Church
REFRESH-INTERVAL;VALUE=DURATION:PT1H
X-Robots-Tag:noindex
X-PUBLISHED-TTL:PT1H
BEGIN:VTIMEZONE
TZID:America/Chicago
BEGIN:DAYLIGHT
TZOFFSETFROM:-0600
TZOFFSETTO:-0500
TZNAME:CDT
DTSTART:20270314T080000
END:DAYLIGHT
BEGIN:STANDARD
TZOFFSETFROM:-0500
TZOFFSETTO:-0600
TZNAME:CST
DTSTART:20271107T070000
END:STANDARD
END:VTIMEZONE
BEGIN:VEVENT
DTSTART;TZID=America/Chicago:20271114T160000
DTEND;TZID=America/Chicago:20271114T180000
DTSTAMP:20260420T103745
CREATED:20241201T190829Z
LAST-MODIFIED:20241201T190951Z
UID:10004401-1826208000-1826215200@ncbctulsa.org
SUMMARY:Emerge Global: Single Mom's Ministry
DESCRIPTION:Come join us for fellowship with other single mothers and ministry to your families. \nChildren’s Program!
URL:https://ncbctulsa.org/event/emerge-global-single-moms-ministry/2027-11-14/
LOCATION:New Covenant Bible Church Fellowship Hall\, 4800 S Yukon Ave\, Tulsa\, OK\, 74107\, United States
END:VEVENT
BEGIN:VEVENT
DTSTART;TZID=America/Chicago:20271114T170000
DTEND;TZID=America/Chicago:20271114T174500
DTSTAMP:20260420T103745
CREATED:20241101T210951Z
LAST-MODIFIED:20241201T191300Z
UID:10002070-1826211600-1826214300@ncbctulsa.org
SUMMARY:Supper with the Saints: Fellowship Dinner
DESCRIPTION:Come eat dinner with the Church family with no obligation to come to Worship.
URL:https://ncbctulsa.org/event/supper-with-the-saints-fellowship-dinner/2027-11-14/
LOCATION:New Covenant Bible Church Fellowship Hall\, 4800 S Yukon Ave\, Tulsa\, OK\, 74107\, United States
CATEGORIES:Foods
END:VEVENT
BEGIN:VEVENT
DTSTART;TZID=America/Chicago:20271114T180000
DTEND;TZID=America/Chicago:20271114T190000
DTSTAMP:20260420T103745
CREATED:20241101T211048Z
LAST-MODIFIED:20241201T191700Z
UID:10002331-1826215200-1826218800@ncbctulsa.org
SUMMARY:Sunday Evening Worship
DESCRIPTION:Worship with Vanessa and Dacey Lacey \nMessage from Pastor James Lacey
URL:https://ncbctulsa.org/event/sunday-evening-worship/2027-11-14/
LOCATION:New Covenant Bible Church Sanctuary\, 4800 S Yukon Ave\, Tulsa\, OK\, 74107\, United States
CATEGORIES:Worship
END:VEVENT
BEGIN:VEVENT
DTSTART;TZID=America/Chicago:20271115T063000
DTEND;TZID=America/Chicago:20271115T203000
DTSTAMP:20260420T103745
CREATED:20241101T211806Z
LAST-MODIFIED:20241201T191732Z
UID:10002930-1826260200-1826310600@ncbctulsa.org
SUMMARY:God's ER
DESCRIPTION:Come be delivered. \n  \nGod’s ER
URL:https://ncbctulsa.org/event/gods-er/2027-11-15/
LOCATION:New Covenant Bible Church Sanctuary\, 4800 S Yukon Ave\, Tulsa\, OK\, 74107\, United States
CATEGORIES:Ministry
END:VEVENT
BEGIN:VEVENT
DTSTART;TZID=America/Chicago:20271117T130000
DTEND;TZID=America/Chicago:20271117T150000
DTSTAMP:20260420T103745
CREATED:20241102T145348Z
LAST-MODIFIED:20241201T191810Z
UID:10004076-1826456400-1826463600@ncbctulsa.org
SUMMARY:Prayer Meeting
DESCRIPTION:Join the Prayer Warriors praying for our congregation\, our community\, our country\, and the world.
URL:https://ncbctulsa.org/event/prayer-meeting/2027-11-17/
LOCATION:New Covenant Bible Church Sanctuary\, 4800 S Yukon Ave\, Tulsa\, OK\, 74107\, United States
CATEGORIES:Prayer
END:VEVENT
BEGIN:VEVENT
DTSTART;TZID=America/Chicago:20271117T190000
DTEND;TZID=America/Chicago:20271117T200000
DTSTAMP:20260420T103745
CREATED:20241101T211946Z
LAST-MODIFIED:20241201T191323Z
UID:10003554-1826478000-1826481600@ncbctulsa.org
SUMMARY:Wednesday Night Service
DESCRIPTION:Worship with Vanessa and Dacey Lacey \nMessage from Pastor James Lacey
URL:https://ncbctulsa.org/event/wednesday-night-service/2027-11-17/
LOCATION:New Covenant Bible Church Sanctuary\, 4800 S Yukon Ave\, Tulsa\, OK\, 74107\, United States
CATEGORIES:Worship
END:VEVENT
BEGIN:VEVENT
DTSTART;TZID=America/Chicago:20271121T090000
DTEND;TZID=America/Chicago:20271121T100000
DTSTAMP:20260420T103745
CREATED:20230419T015039Z
LAST-MODIFIED:20241201T191544Z
UID:10000240-1826787600-1826791200@ncbctulsa.org
SUMMARY:Sunday Morning Fellowship Breakfast
DESCRIPTION:Come join us for a free fellowship breakfast. Every week at 9am before Sunday School we serve eggs\, hashbrowns\, and biscuits and gravy.
URL:https://ncbctulsa.org/event/sunday-morning-fellowship-breakfast/2027-11-21/
LOCATION:New Covenant Bible Church Fellowship Hall\, 4800 S Yukon Ave\, Tulsa\, OK\, 74107\, United States
CATEGORIES:Foods
END:VEVENT
BEGIN:VEVENT
DTSTART;TZID=America/Chicago:20271121T100000
DTEND;TZID=America/Chicago:20271121T110000
DTSTAMP:20260420T103745
CREATED:20241102T015540Z
LAST-MODIFIED:20241201T191619Z
UID:10001810-1826791200-1826794800@ncbctulsa.org
SUMMARY:Sunday School
DESCRIPTION:Lessons from the bible taught by Pastor Vanessa Lacey
URL:https://ncbctulsa.org/event/sunday-school/2027-11-21/
LOCATION:New Covenant Bible Church Sanctuary\, 4800 S Yukon Ave\, Tulsa\, OK\, 74107\, United States
END:VEVENT
BEGIN:VEVENT
DTSTART;TZID=America/Chicago:20271121T110000
DTEND;TZID=America/Chicago:20271121T120000
DTSTAMP:20260420T103745
CREATED:20241102T020314Z
LAST-MODIFIED:20241201T191526Z
UID:10001288-1826794800-1826798400@ncbctulsa.org
SUMMARY:Sunday Morning Service
DESCRIPTION:Worship Service with Vanessa and Dacey Lacey \nMessage from Pastor James Lacey
URL:https://ncbctulsa.org/event/sunday-morning-service/2027-11-21/
LOCATION:New Covenant Bible Church Sanctuary\, 4800 S Yukon Ave\, Tulsa\, OK\, 74107\, United States
CATEGORIES:Worship
END:VEVENT
BEGIN:VEVENT
DTSTART;TZID=America/Chicago:20271121T170000
DTEND;TZID=America/Chicago:20271121T174500
DTSTAMP:20260420T103745
CREATED:20241101T210951Z
LAST-MODIFIED:20241201T191300Z
UID:10002071-1826816400-1826819100@ncbctulsa.org
SUMMARY:Supper with the Saints: Fellowship Dinner
DESCRIPTION:Come eat dinner with the Church family with no obligation to come to Worship.
URL:https://ncbctulsa.org/event/supper-with-the-saints-fellowship-dinner/2027-11-21/
LOCATION:New Covenant Bible Church Fellowship Hall\, 4800 S Yukon Ave\, Tulsa\, OK\, 74107\, United States
CATEGORIES:Foods
END:VEVENT
BEGIN:VEVENT
DTSTART;TZID=America/Chicago:20271121T180000
DTEND;TZID=America/Chicago:20271121T190000
DTSTAMP:20260420T103745
CREATED:20241101T211048Z
LAST-MODIFIED:20241201T191700Z
UID:10002332-1826820000-1826823600@ncbctulsa.org
SUMMARY:Sunday Evening Worship
DESCRIPTION:Worship with Vanessa and Dacey Lacey \nMessage from Pastor James Lacey
URL:https://ncbctulsa.org/event/sunday-evening-worship/2027-11-21/
LOCATION:New Covenant Bible Church Sanctuary\, 4800 S Yukon Ave\, Tulsa\, OK\, 74107\, United States
CATEGORIES:Worship
END:VEVENT
BEGIN:VEVENT
DTSTART;TZID=America/Chicago:20271122T063000
DTEND;TZID=America/Chicago:20271122T203000
DTSTAMP:20260420T103745
CREATED:20241101T211806Z
LAST-MODIFIED:20241201T191732Z
UID:10002932-1826865000-1826915400@ncbctulsa.org
SUMMARY:God's ER
DESCRIPTION:Come be delivered. \n  \nGod’s ER
URL:https://ncbctulsa.org/event/gods-er/2027-11-22/
LOCATION:New Covenant Bible Church Sanctuary\, 4800 S Yukon Ave\, Tulsa\, OK\, 74107\, United States
CATEGORIES:Ministry
END:VEVENT
BEGIN:VEVENT
DTSTART;TZID=America/Chicago:20271124T130000
DTEND;TZID=America/Chicago:20271124T150000
DTSTAMP:20260420T103745
CREATED:20241102T145348Z
LAST-MODIFIED:20241201T191810Z
UID:10004077-1827061200-1827068400@ncbctulsa.org
SUMMARY:Prayer Meeting
DESCRIPTION:Join the Prayer Warriors praying for our congregation\, our community\, our country\, and the world.
URL:https://ncbctulsa.org/event/prayer-meeting/2027-11-24/
LOCATION:New Covenant Bible Church Sanctuary\, 4800 S Yukon Ave\, Tulsa\, OK\, 74107\, United States
CATEGORIES:Prayer
END:VEVENT
BEGIN:VEVENT
DTSTART;TZID=America/Chicago:20271124T190000
DTEND;TZID=America/Chicago:20271124T200000
DTSTAMP:20260420T103745
CREATED:20241101T211946Z
LAST-MODIFIED:20241201T191323Z
UID:10003555-1827082800-1827086400@ncbctulsa.org
SUMMARY:Wednesday Night Service
DESCRIPTION:Worship with Vanessa and Dacey Lacey \nMessage from Pastor James Lacey
URL:https://ncbctulsa.org/event/wednesday-night-service/2027-11-24/
LOCATION:New Covenant Bible Church Sanctuary\, 4800 S Yukon Ave\, Tulsa\, OK\, 74107\, United States
CATEGORIES:Worship
END:VEVENT
BEGIN:VEVENT
DTSTART;TZID=America/Chicago:20271128T090000
DTEND;TZID=America/Chicago:20271128T100000
DTSTAMP:20260420T103745
CREATED:20230419T015039Z
LAST-MODIFIED:20241201T191544Z
UID:10000241-1827392400-1827396000@ncbctulsa.org
SUMMARY:Sunday Morning Fellowship Breakfast
DESCRIPTION:Come join us for a free fellowship breakfast. Every week at 9am before Sunday School we serve eggs\, hashbrowns\, and biscuits and gravy.
URL:https://ncbctulsa.org/event/sunday-morning-fellowship-breakfast/2027-11-28/
LOCATION:New Covenant Bible Church Fellowship Hall\, 4800 S Yukon Ave\, Tulsa\, OK\, 74107\, United States
CATEGORIES:Foods
END:VEVENT
BEGIN:VEVENT
DTSTART;TZID=America/Chicago:20271128T100000
DTEND;TZID=America/Chicago:20271128T110000
DTSTAMP:20260420T103745
CREATED:20241102T015540Z
LAST-MODIFIED:20241201T191619Z
UID:10001811-1827396000-1827399600@ncbctulsa.org
SUMMARY:Sunday School
DESCRIPTION:Lessons from the bible taught by Pastor Vanessa Lacey
URL:https://ncbctulsa.org/event/sunday-school/2027-11-28/
LOCATION:New Covenant Bible Church Sanctuary\, 4800 S Yukon Ave\, Tulsa\, OK\, 74107\, United States
END:VEVENT
BEGIN:VEVENT
DTSTART;TZID=America/Chicago:20271128T110000
DTEND;TZID=America/Chicago:20271128T120000
DTSTAMP:20260420T103745
CREATED:20241102T020314Z
LAST-MODIFIED:20241201T191526Z
UID:10001289-1827399600-1827403200@ncbctulsa.org
SUMMARY:Sunday Morning Service
DESCRIPTION:Worship Service with Vanessa and Dacey Lacey \nMessage from Pastor James Lacey
URL:https://ncbctulsa.org/event/sunday-morning-service/2027-11-28/
LOCATION:New Covenant Bible Church Sanctuary\, 4800 S Yukon Ave\, Tulsa\, OK\, 74107\, United States
CATEGORIES:Worship
END:VEVENT
BEGIN:VEVENT
DTSTART;TZID=America/Chicago:20271128T160000
DTEND;TZID=America/Chicago:20271128T180000
DTSTAMP:20260420T103745
CREATED:20241201T190853Z
LAST-MODIFIED:20241201T191018Z
UID:10004461-1827417600-1827424800@ncbctulsa.org
SUMMARY:Emerge Global: Single Mom's Ministry
DESCRIPTION:Come join us for fellowship with other single mothers and ministry to your families. \nChildren’s Program!
URL:https://ncbctulsa.org/event/emerge-global-single-moms-ministry-2/2027-11-28/
LOCATION:New Covenant Bible Church Fellowship Hall\, 4800 S Yukon Ave\, Tulsa\, OK\, 74107\, United States
END:VEVENT
BEGIN:VEVENT
DTSTART;TZID=America/Chicago:20271128T170000
DTEND;TZID=America/Chicago:20271128T174500
DTSTAMP:20260420T103745
CREATED:20241101T210951Z
LAST-MODIFIED:20241201T191300Z
UID:10002072-1827421200-1827423900@ncbctulsa.org
SUMMARY:Supper with the Saints: Fellowship Dinner
DESCRIPTION:Come eat dinner with the Church family with no obligation to come to Worship.
URL:https://ncbctulsa.org/event/supper-with-the-saints-fellowship-dinner/2027-11-28/
LOCATION:New Covenant Bible Church Fellowship Hall\, 4800 S Yukon Ave\, Tulsa\, OK\, 74107\, United States
CATEGORIES:Foods
END:VEVENT
BEGIN:VEVENT
DTSTART;TZID=America/Chicago:20271128T180000
DTEND;TZID=America/Chicago:20271128T190000
DTSTAMP:20260420T103745
CREATED:20241101T211048Z
LAST-MODIFIED:20241201T191700Z
UID:10002333-1827424800-1827428400@ncbctulsa.org
SUMMARY:Sunday Evening Worship
DESCRIPTION:Worship with Vanessa and Dacey Lacey \nMessage from Pastor James Lacey
URL:https://ncbctulsa.org/event/sunday-evening-worship/2027-11-28/
LOCATION:New Covenant Bible Church Sanctuary\, 4800 S Yukon Ave\, Tulsa\, OK\, 74107\, United States
CATEGORIES:Worship
END:VEVENT
BEGIN:VEVENT
DTSTART;TZID=America/Chicago:20271129T063000
DTEND;TZID=America/Chicago:20271129T203000
DTSTAMP:20260420T103745
CREATED:20241101T211806Z
LAST-MODIFIED:20241201T191732Z
UID:10002934-1827469800-1827520200@ncbctulsa.org
SUMMARY:God's ER
DESCRIPTION:Come be delivered. \n  \nGod’s ER
URL:https://ncbctulsa.org/event/gods-er/2027-11-29/
LOCATION:New Covenant Bible Church Sanctuary\, 4800 S Yukon Ave\, Tulsa\, OK\, 74107\, United States
CATEGORIES:Ministry
END:VEVENT
BEGIN:VEVENT
DTSTART;TZID=America/Chicago:20271201T130000
DTEND;TZID=America/Chicago:20271201T150000
DTSTAMP:20260420T103746
CREATED:20241102T145348Z
LAST-MODIFIED:20241201T191810Z
UID:10004078-1827666000-1827673200@ncbctulsa.org
SUMMARY:Prayer Meeting
DESCRIPTION:Join the Prayer Warriors praying for our congregation\, our community\, our country\, and the world.
URL:https://ncbctulsa.org/event/prayer-meeting/2027-12-01/
LOCATION:New Covenant Bible Church Sanctuary\, 4800 S Yukon Ave\, Tulsa\, OK\, 74107\, United States
CATEGORIES:Prayer
END:VEVENT
BEGIN:VEVENT
DTSTART;TZID=America/Chicago:20271201T190000
DTEND;TZID=America/Chicago:20271201T200000
DTSTAMP:20260420T103746
CREATED:20241101T211946Z
LAST-MODIFIED:20241201T191323Z
UID:10003556-1827687600-1827691200@ncbctulsa.org
SUMMARY:Wednesday Night Service
DESCRIPTION:Worship with Vanessa and Dacey Lacey \nMessage from Pastor James Lacey
URL:https://ncbctulsa.org/event/wednesday-night-service/2027-12-01/
LOCATION:New Covenant Bible Church Sanctuary\, 4800 S Yukon Ave\, Tulsa\, OK\, 74107\, United States
CATEGORIES:Worship
END:VEVENT
BEGIN:VEVENT
DTSTART;TZID=America/Chicago:20271205T090000
DTEND;TZID=America/Chicago:20271205T100000
DTSTAMP:20260420T103746
CREATED:20230419T015039Z
LAST-MODIFIED:20241201T191544Z
UID:10000242-1827997200-1828000800@ncbctulsa.org
SUMMARY:Sunday Morning Fellowship Breakfast
DESCRIPTION:Come join us for a free fellowship breakfast. Every week at 9am before Sunday School we serve eggs\, hashbrowns\, and biscuits and gravy.
URL:https://ncbctulsa.org/event/sunday-morning-fellowship-breakfast/2027-12-05/
LOCATION:New Covenant Bible Church Fellowship Hall\, 4800 S Yukon Ave\, Tulsa\, OK\, 74107\, United States
CATEGORIES:Foods
END:VEVENT
BEGIN:VEVENT
DTSTART;TZID=America/Chicago:20271205T100000
DTEND;TZID=America/Chicago:20271205T110000
DTSTAMP:20260420T103746
CREATED:20241102T015540Z
LAST-MODIFIED:20241201T191619Z
UID:10001812-1828000800-1828004400@ncbctulsa.org
SUMMARY:Sunday School
DESCRIPTION:Lessons from the bible taught by Pastor Vanessa Lacey
URL:https://ncbctulsa.org/event/sunday-school/2027-12-05/
LOCATION:New Covenant Bible Church Sanctuary\, 4800 S Yukon Ave\, Tulsa\, OK\, 74107\, United States
END:VEVENT
BEGIN:VEVENT
DTSTART;TZID=America/Chicago:20271205T110000
DTEND;TZID=America/Chicago:20271205T120000
DTSTAMP:20260420T103746
CREATED:20241102T020314Z
LAST-MODIFIED:20241201T191526Z
UID:10001290-1828004400-1828008000@ncbctulsa.org
SUMMARY:Sunday Morning Service
DESCRIPTION:Worship Service with Vanessa and Dacey Lacey \nMessage from Pastor James Lacey
URL:https://ncbctulsa.org/event/sunday-morning-service/2027-12-05/
LOCATION:New Covenant Bible Church Sanctuary\, 4800 S Yukon Ave\, Tulsa\, OK\, 74107\, United States
CATEGORIES:Worship
END:VEVENT
BEGIN:VEVENT
DTSTART;TZID=America/Chicago:20271205T170000
DTEND;TZID=America/Chicago:20271205T174500
DTSTAMP:20260420T103746
CREATED:20241101T210951Z
LAST-MODIFIED:20241201T191300Z
UID:10002073-1828026000-1828028700@ncbctulsa.org
SUMMARY:Supper with the Saints: Fellowship Dinner
DESCRIPTION:Come eat dinner with the Church family with no obligation to come to Worship.
URL:https://ncbctulsa.org/event/supper-with-the-saints-fellowship-dinner/2027-12-05/
LOCATION:New Covenant Bible Church Fellowship Hall\, 4800 S Yukon Ave\, Tulsa\, OK\, 74107\, United States
CATEGORIES:Foods
END:VEVENT
BEGIN:VEVENT
DTSTART;TZID=America/Chicago:20271205T180000
DTEND;TZID=America/Chicago:20271205T190000
DTSTAMP:20260420T103746
CREATED:20241101T211048Z
LAST-MODIFIED:20241201T191700Z
UID:10002334-1828029600-1828033200@ncbctulsa.org
SUMMARY:Sunday Evening Worship
DESCRIPTION:Worship with Vanessa and Dacey Lacey \nMessage from Pastor James Lacey
URL:https://ncbctulsa.org/event/sunday-evening-worship/2027-12-05/
LOCATION:New Covenant Bible Church Sanctuary\, 4800 S Yukon Ave\, Tulsa\, OK\, 74107\, United States
CATEGORIES:Worship
END:VEVENT
BEGIN:VEVENT
DTSTART;TZID=America/Chicago:20271206T063000
DTEND;TZID=America/Chicago:20271206T203000
DTSTAMP:20260420T103746
CREATED:20241101T211806Z
LAST-MODIFIED:20241201T191732Z
UID:10002936-1828074600-1828125000@ncbctulsa.org
SUMMARY:God's ER
DESCRIPTION:Come be delivered. \n  \nGod’s ER
URL:https://ncbctulsa.org/event/gods-er/2027-12-06/
LOCATION:New Covenant Bible Church Sanctuary\, 4800 S Yukon Ave\, Tulsa\, OK\, 74107\, United States
CATEGORIES:Ministry
END:VEVENT
BEGIN:VEVENT
DTSTART;TZID=America/Chicago:20271208T130000
DTEND;TZID=America/Chicago:20271208T150000
DTSTAMP:20260420T103746
CREATED:20241102T145348Z
LAST-MODIFIED:20241201T191810Z
UID:10004079-1828270800-1828278000@ncbctulsa.org
SUMMARY:Prayer Meeting
DESCRIPTION:Join the Prayer Warriors praying for our congregation\, our community\, our country\, and the world.
URL:https://ncbctulsa.org/event/prayer-meeting/2027-12-08/
LOCATION:New Covenant Bible Church Sanctuary\, 4800 S Yukon Ave\, Tulsa\, OK\, 74107\, United States
CATEGORIES:Prayer
END:VEVENT
END:VCALENDAR