BEGIN:VCALENDAR
VERSION:2.0
PRODID:-//New Covenant Bible Church - ECPv6.9.0//NONSGML v1.0//EN
CALSCALE:GREGORIAN
METHOD:PUBLISH
X-ORIGINAL-URL:https://ncbctulsa.org
X-WR-CALDESC:Events for New Covenant Bible Church
REFRESH-INTERVAL;VALUE=DURATION:PT1H
X-Robots-Tag:noindex
X-PUBLISHED-TTL:PT1H
BEGIN:VTIMEZONE
TZID:America/Chicago
BEGIN:DAYLIGHT
TZOFFSETFROM:-0600
TZOFFSETTO:-0500
TZNAME:CDT
DTSTART:20270314T080000
END:DAYLIGHT
BEGIN:STANDARD
TZOFFSETFROM:-0500
TZOFFSETTO:-0600
TZNAME:CST
DTSTART:20271107T070000
END:STANDARD
END:VTIMEZONE
BEGIN:VEVENT
DTSTART;TZID=America/Chicago:20271003T110000
DTEND;TZID=America/Chicago:20271003T120000
DTSTAMP:20260419T234337
CREATED:20241102T020314Z
LAST-MODIFIED:20241201T191526Z
UID:10001281-1822561200-1822564800@ncbctulsa.org
SUMMARY:Sunday Morning Service
DESCRIPTION:Worship Service with Vanessa and Dacey Lacey \nMessage from Pastor James Lacey
URL:https://ncbctulsa.org/event/sunday-morning-service/2027-10-03/
LOCATION:New Covenant Bible Church Sanctuary\, 4800 S Yukon Ave\, Tulsa\, OK\, 74107\, United States
CATEGORIES:Worship
END:VEVENT
BEGIN:VEVENT
DTSTART;TZID=America/Chicago:20271003T170000
DTEND;TZID=America/Chicago:20271003T174500
DTSTAMP:20260419T234337
CREATED:20241101T210951Z
LAST-MODIFIED:20241201T191300Z
UID:10002064-1822582800-1822585500@ncbctulsa.org
SUMMARY:Supper with the Saints: Fellowship Dinner
DESCRIPTION:Come eat dinner with the Church family with no obligation to come to Worship.
URL:https://ncbctulsa.org/event/supper-with-the-saints-fellowship-dinner/2027-10-03/
LOCATION:New Covenant Bible Church Fellowship Hall\, 4800 S Yukon Ave\, Tulsa\, OK\, 74107\, United States
CATEGORIES:Foods
END:VEVENT
BEGIN:VEVENT
DTSTART;TZID=America/Chicago:20271003T180000
DTEND;TZID=America/Chicago:20271003T190000
DTSTAMP:20260419T234337
CREATED:20241101T211048Z
LAST-MODIFIED:20241201T191700Z
UID:10002325-1822586400-1822590000@ncbctulsa.org
SUMMARY:Sunday Evening Worship
DESCRIPTION:Worship with Vanessa and Dacey Lacey \nMessage from Pastor James Lacey
URL:https://ncbctulsa.org/event/sunday-evening-worship/2027-10-03/
LOCATION:New Covenant Bible Church Sanctuary\, 4800 S Yukon Ave\, Tulsa\, OK\, 74107\, United States
CATEGORIES:Worship
END:VEVENT
BEGIN:VEVENT
DTSTART;TZID=America/Chicago:20271004T063000
DTEND;TZID=America/Chicago:20271004T203000
DTSTAMP:20260419T234337
CREATED:20241101T211806Z
LAST-MODIFIED:20241201T191732Z
UID:10002918-1822631400-1822681800@ncbctulsa.org
SUMMARY:God's ER
DESCRIPTION:Come be delivered. \n  \nGod’s ER
URL:https://ncbctulsa.org/event/gods-er/2027-10-04/
LOCATION:New Covenant Bible Church Sanctuary\, 4800 S Yukon Ave\, Tulsa\, OK\, 74107\, United States
CATEGORIES:Ministry
END:VEVENT
BEGIN:VEVENT
DTSTART;TZID=America/Chicago:20271006T130000
DTEND;TZID=America/Chicago:20271006T150000
DTSTAMP:20260419T234337
CREATED:20241102T145348Z
LAST-MODIFIED:20241201T191810Z
UID:10004070-1822827600-1822834800@ncbctulsa.org
SUMMARY:Prayer Meeting
DESCRIPTION:Join the Prayer Warriors praying for our congregation\, our community\, our country\, and the world.
URL:https://ncbctulsa.org/event/prayer-meeting/2027-10-06/
LOCATION:New Covenant Bible Church Sanctuary\, 4800 S Yukon Ave\, Tulsa\, OK\, 74107\, United States
CATEGORIES:Prayer
END:VEVENT
BEGIN:VEVENT
DTSTART;TZID=America/Chicago:20271006T190000
DTEND;TZID=America/Chicago:20271006T200000
DTSTAMP:20260419T234337
CREATED:20241101T211946Z
LAST-MODIFIED:20241201T191323Z
UID:10003548-1822849200-1822852800@ncbctulsa.org
SUMMARY:Wednesday Night Service
DESCRIPTION:Worship with Vanessa and Dacey Lacey \nMessage from Pastor James Lacey
URL:https://ncbctulsa.org/event/wednesday-night-service/2027-10-06/
LOCATION:New Covenant Bible Church Sanctuary\, 4800 S Yukon Ave\, Tulsa\, OK\, 74107\, United States
CATEGORIES:Worship
END:VEVENT
BEGIN:VEVENT
DTSTART;TZID=America/Chicago:20271010T090000
DTEND;TZID=America/Chicago:20271010T100000
DTSTAMP:20260419T234338
CREATED:20230419T015039Z
LAST-MODIFIED:20241201T191544Z
UID:10000234-1823158800-1823162400@ncbctulsa.org
SUMMARY:Sunday Morning Fellowship Breakfast
DESCRIPTION:Come join us for a free fellowship breakfast. Every week at 9am before Sunday School we serve eggs\, hashbrowns\, and biscuits and gravy.
URL:https://ncbctulsa.org/event/sunday-morning-fellowship-breakfast/2027-10-10/
LOCATION:New Covenant Bible Church Fellowship Hall\, 4800 S Yukon Ave\, Tulsa\, OK\, 74107\, United States
CATEGORIES:Foods
END:VEVENT
BEGIN:VEVENT
DTSTART;TZID=America/Chicago:20271010T100000
DTEND;TZID=America/Chicago:20271010T110000
DTSTAMP:20260419T234338
CREATED:20241102T015540Z
LAST-MODIFIED:20241201T191619Z
UID:10001804-1823162400-1823166000@ncbctulsa.org
SUMMARY:Sunday School
DESCRIPTION:Lessons from the bible taught by Pastor Vanessa Lacey
URL:https://ncbctulsa.org/event/sunday-school/2027-10-10/
LOCATION:New Covenant Bible Church Sanctuary\, 4800 S Yukon Ave\, Tulsa\, OK\, 74107\, United States
END:VEVENT
BEGIN:VEVENT
DTSTART;TZID=America/Chicago:20271010T110000
DTEND;TZID=America/Chicago:20271010T120000
DTSTAMP:20260419T234338
CREATED:20241102T020314Z
LAST-MODIFIED:20241201T191526Z
UID:10001282-1823166000-1823169600@ncbctulsa.org
SUMMARY:Sunday Morning Service
DESCRIPTION:Worship Service with Vanessa and Dacey Lacey \nMessage from Pastor James Lacey
URL:https://ncbctulsa.org/event/sunday-morning-service/2027-10-10/
LOCATION:New Covenant Bible Church Sanctuary\, 4800 S Yukon Ave\, Tulsa\, OK\, 74107\, United States
CATEGORIES:Worship
END:VEVENT
BEGIN:VEVENT
DTSTART;TZID=America/Chicago:20271010T160000
DTEND;TZID=America/Chicago:20271010T180000
DTSTAMP:20260419T234338
CREATED:20241201T190829Z
LAST-MODIFIED:20241201T190951Z
UID:10004400-1823184000-1823191200@ncbctulsa.org
SUMMARY:Emerge Global: Single Mom's Ministry
DESCRIPTION:Come join us for fellowship with other single mothers and ministry to your families. \nChildren’s Program!
URL:https://ncbctulsa.org/event/emerge-global-single-moms-ministry/2027-10-10/
LOCATION:New Covenant Bible Church Fellowship Hall\, 4800 S Yukon Ave\, Tulsa\, OK\, 74107\, United States
END:VEVENT
BEGIN:VEVENT
DTSTART;TZID=America/Chicago:20271010T170000
DTEND;TZID=America/Chicago:20271010T174500
DTSTAMP:20260419T234338
CREATED:20241101T210951Z
LAST-MODIFIED:20241201T191300Z
UID:10002065-1823187600-1823190300@ncbctulsa.org
SUMMARY:Supper with the Saints: Fellowship Dinner
DESCRIPTION:Come eat dinner with the Church family with no obligation to come to Worship.
URL:https://ncbctulsa.org/event/supper-with-the-saints-fellowship-dinner/2027-10-10/
LOCATION:New Covenant Bible Church Fellowship Hall\, 4800 S Yukon Ave\, Tulsa\, OK\, 74107\, United States
CATEGORIES:Foods
END:VEVENT
BEGIN:VEVENT
DTSTART;TZID=America/Chicago:20271010T180000
DTEND;TZID=America/Chicago:20271010T190000
DTSTAMP:20260419T234338
CREATED:20241101T211048Z
LAST-MODIFIED:20241201T191700Z
UID:10002326-1823191200-1823194800@ncbctulsa.org
SUMMARY:Sunday Evening Worship
DESCRIPTION:Worship with Vanessa and Dacey Lacey \nMessage from Pastor James Lacey
URL:https://ncbctulsa.org/event/sunday-evening-worship/2027-10-10/
LOCATION:New Covenant Bible Church Sanctuary\, 4800 S Yukon Ave\, Tulsa\, OK\, 74107\, United States
CATEGORIES:Worship
END:VEVENT
BEGIN:VEVENT
DTSTART;TZID=America/Chicago:20271011T063000
DTEND;TZID=America/Chicago:20271011T203000
DTSTAMP:20260419T234338
CREATED:20241101T211806Z
LAST-MODIFIED:20241201T191732Z
UID:10002920-1823236200-1823286600@ncbctulsa.org
SUMMARY:God's ER
DESCRIPTION:Come be delivered. \n  \nGod’s ER
URL:https://ncbctulsa.org/event/gods-er/2027-10-11/
LOCATION:New Covenant Bible Church Sanctuary\, 4800 S Yukon Ave\, Tulsa\, OK\, 74107\, United States
CATEGORIES:Ministry
END:VEVENT
BEGIN:VEVENT
DTSTART;TZID=America/Chicago:20271013T130000
DTEND;TZID=America/Chicago:20271013T150000
DTSTAMP:20260419T234338
CREATED:20241102T145348Z
LAST-MODIFIED:20241201T191810Z
UID:10004071-1823432400-1823439600@ncbctulsa.org
SUMMARY:Prayer Meeting
DESCRIPTION:Join the Prayer Warriors praying for our congregation\, our community\, our country\, and the world.
URL:https://ncbctulsa.org/event/prayer-meeting/2027-10-13/
LOCATION:New Covenant Bible Church Sanctuary\, 4800 S Yukon Ave\, Tulsa\, OK\, 74107\, United States
CATEGORIES:Prayer
END:VEVENT
BEGIN:VEVENT
DTSTART;TZID=America/Chicago:20271013T190000
DTEND;TZID=America/Chicago:20271013T200000
DTSTAMP:20260419T234338
CREATED:20241101T211946Z
LAST-MODIFIED:20241201T191323Z
UID:10003549-1823454000-1823457600@ncbctulsa.org
SUMMARY:Wednesday Night Service
DESCRIPTION:Worship with Vanessa and Dacey Lacey \nMessage from Pastor James Lacey
URL:https://ncbctulsa.org/event/wednesday-night-service/2027-10-13/
LOCATION:New Covenant Bible Church Sanctuary\, 4800 S Yukon Ave\, Tulsa\, OK\, 74107\, United States
CATEGORIES:Worship
END:VEVENT
BEGIN:VEVENT
DTSTART;TZID=America/Chicago:20271017T090000
DTEND;TZID=America/Chicago:20271017T100000
DTSTAMP:20260419T234338
CREATED:20230419T015039Z
LAST-MODIFIED:20241201T191544Z
UID:10000235-1823763600-1823767200@ncbctulsa.org
SUMMARY:Sunday Morning Fellowship Breakfast
DESCRIPTION:Come join us for a free fellowship breakfast. Every week at 9am before Sunday School we serve eggs\, hashbrowns\, and biscuits and gravy.
URL:https://ncbctulsa.org/event/sunday-morning-fellowship-breakfast/2027-10-17/
LOCATION:New Covenant Bible Church Fellowship Hall\, 4800 S Yukon Ave\, Tulsa\, OK\, 74107\, United States
CATEGORIES:Foods
END:VEVENT
BEGIN:VEVENT
DTSTART;TZID=America/Chicago:20271017T100000
DTEND;TZID=America/Chicago:20271017T110000
DTSTAMP:20260419T234338
CREATED:20241102T015540Z
LAST-MODIFIED:20241201T191619Z
UID:10001805-1823767200-1823770800@ncbctulsa.org
SUMMARY:Sunday School
DESCRIPTION:Lessons from the bible taught by Pastor Vanessa Lacey
URL:https://ncbctulsa.org/event/sunday-school/2027-10-17/
LOCATION:New Covenant Bible Church Sanctuary\, 4800 S Yukon Ave\, Tulsa\, OK\, 74107\, United States
END:VEVENT
BEGIN:VEVENT
DTSTART;TZID=America/Chicago:20271017T110000
DTEND;TZID=America/Chicago:20271017T120000
DTSTAMP:20260419T234338
CREATED:20241102T020314Z
LAST-MODIFIED:20241201T191526Z
UID:10001283-1823770800-1823774400@ncbctulsa.org
SUMMARY:Sunday Morning Service
DESCRIPTION:Worship Service with Vanessa and Dacey Lacey \nMessage from Pastor James Lacey
URL:https://ncbctulsa.org/event/sunday-morning-service/2027-10-17/
LOCATION:New Covenant Bible Church Sanctuary\, 4800 S Yukon Ave\, Tulsa\, OK\, 74107\, United States
CATEGORIES:Worship
END:VEVENT
BEGIN:VEVENT
DTSTART;TZID=America/Chicago:20271017T170000
DTEND;TZID=America/Chicago:20271017T174500
DTSTAMP:20260419T234338
CREATED:20241101T210951Z
LAST-MODIFIED:20241201T191300Z
UID:10002066-1823792400-1823795100@ncbctulsa.org
SUMMARY:Supper with the Saints: Fellowship Dinner
DESCRIPTION:Come eat dinner with the Church family with no obligation to come to Worship.
URL:https://ncbctulsa.org/event/supper-with-the-saints-fellowship-dinner/2027-10-17/
LOCATION:New Covenant Bible Church Fellowship Hall\, 4800 S Yukon Ave\, Tulsa\, OK\, 74107\, United States
CATEGORIES:Foods
END:VEVENT
BEGIN:VEVENT
DTSTART;TZID=America/Chicago:20271017T180000
DTEND;TZID=America/Chicago:20271017T190000
DTSTAMP:20260419T234338
CREATED:20241101T211048Z
LAST-MODIFIED:20241201T191700Z
UID:10002327-1823796000-1823799600@ncbctulsa.org
SUMMARY:Sunday Evening Worship
DESCRIPTION:Worship with Vanessa and Dacey Lacey \nMessage from Pastor James Lacey
URL:https://ncbctulsa.org/event/sunday-evening-worship/2027-10-17/
LOCATION:New Covenant Bible Church Sanctuary\, 4800 S Yukon Ave\, Tulsa\, OK\, 74107\, United States
CATEGORIES:Worship
END:VEVENT
BEGIN:VEVENT
DTSTART;TZID=America/Chicago:20271018T063000
DTEND;TZID=America/Chicago:20271018T203000
DTSTAMP:20260419T234338
CREATED:20241101T211806Z
LAST-MODIFIED:20241201T191732Z
UID:10002922-1823841000-1823891400@ncbctulsa.org
SUMMARY:God's ER
DESCRIPTION:Come be delivered. \n  \nGod’s ER
URL:https://ncbctulsa.org/event/gods-er/2027-10-18/
LOCATION:New Covenant Bible Church Sanctuary\, 4800 S Yukon Ave\, Tulsa\, OK\, 74107\, United States
CATEGORIES:Ministry
END:VEVENT
BEGIN:VEVENT
DTSTART;TZID=America/Chicago:20271020T130000
DTEND;TZID=America/Chicago:20271020T150000
DTSTAMP:20260419T234338
CREATED:20241102T145348Z
LAST-MODIFIED:20241201T191810Z
UID:10004072-1824037200-1824044400@ncbctulsa.org
SUMMARY:Prayer Meeting
DESCRIPTION:Join the Prayer Warriors praying for our congregation\, our community\, our country\, and the world.
URL:https://ncbctulsa.org/event/prayer-meeting/2027-10-20/
LOCATION:New Covenant Bible Church Sanctuary\, 4800 S Yukon Ave\, Tulsa\, OK\, 74107\, United States
CATEGORIES:Prayer
END:VEVENT
BEGIN:VEVENT
DTSTART;TZID=America/Chicago:20271020T190000
DTEND;TZID=America/Chicago:20271020T200000
DTSTAMP:20260419T234338
CREATED:20241101T211946Z
LAST-MODIFIED:20241201T191323Z
UID:10003550-1824058800-1824062400@ncbctulsa.org
SUMMARY:Wednesday Night Service
DESCRIPTION:Worship with Vanessa and Dacey Lacey \nMessage from Pastor James Lacey
URL:https://ncbctulsa.org/event/wednesday-night-service/2027-10-20/
LOCATION:New Covenant Bible Church Sanctuary\, 4800 S Yukon Ave\, Tulsa\, OK\, 74107\, United States
CATEGORIES:Worship
END:VEVENT
BEGIN:VEVENT
DTSTART;TZID=America/Chicago:20271024T090000
DTEND;TZID=America/Chicago:20271024T100000
DTSTAMP:20260419T234338
CREATED:20230419T015039Z
LAST-MODIFIED:20241201T191544Z
UID:10000236-1824368400-1824372000@ncbctulsa.org
SUMMARY:Sunday Morning Fellowship Breakfast
DESCRIPTION:Come join us for a free fellowship breakfast. Every week at 9am before Sunday School we serve eggs\, hashbrowns\, and biscuits and gravy.
URL:https://ncbctulsa.org/event/sunday-morning-fellowship-breakfast/2027-10-24/
LOCATION:New Covenant Bible Church Fellowship Hall\, 4800 S Yukon Ave\, Tulsa\, OK\, 74107\, United States
CATEGORIES:Foods
END:VEVENT
BEGIN:VEVENT
DTSTART;TZID=America/Chicago:20271024T100000
DTEND;TZID=America/Chicago:20271024T110000
DTSTAMP:20260419T234338
CREATED:20241102T015540Z
LAST-MODIFIED:20241201T191619Z
UID:10001806-1824372000-1824375600@ncbctulsa.org
SUMMARY:Sunday School
DESCRIPTION:Lessons from the bible taught by Pastor Vanessa Lacey
URL:https://ncbctulsa.org/event/sunday-school/2027-10-24/
LOCATION:New Covenant Bible Church Sanctuary\, 4800 S Yukon Ave\, Tulsa\, OK\, 74107\, United States
END:VEVENT
BEGIN:VEVENT
DTSTART;TZID=America/Chicago:20271024T110000
DTEND;TZID=America/Chicago:20271024T120000
DTSTAMP:20260419T234338
CREATED:20241102T020314Z
LAST-MODIFIED:20241201T191526Z
UID:10001284-1824375600-1824379200@ncbctulsa.org
SUMMARY:Sunday Morning Service
DESCRIPTION:Worship Service with Vanessa and Dacey Lacey \nMessage from Pastor James Lacey
URL:https://ncbctulsa.org/event/sunday-morning-service/2027-10-24/
LOCATION:New Covenant Bible Church Sanctuary\, 4800 S Yukon Ave\, Tulsa\, OK\, 74107\, United States
CATEGORIES:Worship
END:VEVENT
BEGIN:VEVENT
DTSTART;TZID=America/Chicago:20271024T160000
DTEND;TZID=America/Chicago:20271024T180000
DTSTAMP:20260419T234338
CREATED:20241201T190853Z
LAST-MODIFIED:20241201T191018Z
UID:10004460-1824393600-1824400800@ncbctulsa.org
SUMMARY:Emerge Global: Single Mom's Ministry
DESCRIPTION:Come join us for fellowship with other single mothers and ministry to your families. \nChildren’s Program!
URL:https://ncbctulsa.org/event/emerge-global-single-moms-ministry-2/2027-10-24/
LOCATION:New Covenant Bible Church Fellowship Hall\, 4800 S Yukon Ave\, Tulsa\, OK\, 74107\, United States
END:VEVENT
BEGIN:VEVENT
DTSTART;TZID=America/Chicago:20271024T170000
DTEND;TZID=America/Chicago:20271024T174500
DTSTAMP:20260419T234338
CREATED:20241101T210951Z
LAST-MODIFIED:20241201T191300Z
UID:10002067-1824397200-1824399900@ncbctulsa.org
SUMMARY:Supper with the Saints: Fellowship Dinner
DESCRIPTION:Come eat dinner with the Church family with no obligation to come to Worship.
URL:https://ncbctulsa.org/event/supper-with-the-saints-fellowship-dinner/2027-10-24/
LOCATION:New Covenant Bible Church Fellowship Hall\, 4800 S Yukon Ave\, Tulsa\, OK\, 74107\, United States
CATEGORIES:Foods
END:VEVENT
BEGIN:VEVENT
DTSTART;TZID=America/Chicago:20271024T180000
DTEND;TZID=America/Chicago:20271024T190000
DTSTAMP:20260419T234338
CREATED:20241101T211048Z
LAST-MODIFIED:20241201T191700Z
UID:10002328-1824400800-1824404400@ncbctulsa.org
SUMMARY:Sunday Evening Worship
DESCRIPTION:Worship with Vanessa and Dacey Lacey \nMessage from Pastor James Lacey
URL:https://ncbctulsa.org/event/sunday-evening-worship/2027-10-24/
LOCATION:New Covenant Bible Church Sanctuary\, 4800 S Yukon Ave\, Tulsa\, OK\, 74107\, United States
CATEGORIES:Worship
END:VEVENT
BEGIN:VEVENT
DTSTART;TZID=America/Chicago:20271025T063000
DTEND;TZID=America/Chicago:20271025T203000
DTSTAMP:20260419T234338
CREATED:20241101T211806Z
LAST-MODIFIED:20241201T191732Z
UID:10002924-1824445800-1824496200@ncbctulsa.org
SUMMARY:God's ER
DESCRIPTION:Come be delivered. \n  \nGod’s ER
URL:https://ncbctulsa.org/event/gods-er/2027-10-25/
LOCATION:New Covenant Bible Church Sanctuary\, 4800 S Yukon Ave\, Tulsa\, OK\, 74107\, United States
CATEGORIES:Ministry
END:VEVENT
END:VCALENDAR