BEGIN:VCALENDAR
VERSION:2.0
PRODID:-//New Covenant Bible Church - ECPv6.9.0//NONSGML v1.0//EN
CALSCALE:GREGORIAN
METHOD:PUBLISH
X-WR-CALNAME:New Covenant Bible Church
X-ORIGINAL-URL:https://ncbctulsa.org
X-WR-CALDESC:Events for New Covenant Bible Church
REFRESH-INTERVAL;VALUE=DURATION:PT1H
X-Robots-Tag:noindex
X-PUBLISHED-TTL:PT1H
BEGIN:VTIMEZONE
TZID:America/Chicago
BEGIN:DAYLIGHT
TZOFFSETFROM:-0600
TZOFFSETTO:-0500
TZNAME:CDT
DTSTART:20270314T080000
END:DAYLIGHT
BEGIN:STANDARD
TZOFFSETFROM:-0500
TZOFFSETTO:-0600
TZNAME:CST
DTSTART:20271107T070000
END:STANDARD
END:VTIMEZONE
BEGIN:VEVENT
DTSTART;TZID=America/Chicago:20270815T110000
DTEND;TZID=America/Chicago:20270815T120000
DTSTAMP:20260419T235925
CREATED:20241102T020314Z
LAST-MODIFIED:20241201T191526Z
UID:10001274-1818327600-1818331200@ncbctulsa.org
SUMMARY:Sunday Morning Service
DESCRIPTION:Worship Service with Vanessa and Dacey Lacey \nMessage from Pastor James Lacey
URL:https://ncbctulsa.org/event/sunday-morning-service/2027-08-15/
LOCATION:New Covenant Bible Church Sanctuary\, 4800 S Yukon Ave\, Tulsa\, OK\, 74107\, United States
CATEGORIES:Worship
END:VEVENT
BEGIN:VEVENT
DTSTART;TZID=America/Chicago:20270815T170000
DTEND;TZID=America/Chicago:20270815T174500
DTSTAMP:20260419T235925
CREATED:20241101T210951Z
LAST-MODIFIED:20241201T191300Z
UID:10002057-1818349200-1818351900@ncbctulsa.org
SUMMARY:Supper with the Saints: Fellowship Dinner
DESCRIPTION:Come eat dinner with the Church family with no obligation to come to Worship.
URL:https://ncbctulsa.org/event/supper-with-the-saints-fellowship-dinner/2027-08-15/
LOCATION:New Covenant Bible Church Fellowship Hall\, 4800 S Yukon Ave\, Tulsa\, OK\, 74107\, United States
CATEGORIES:Foods
END:VEVENT
BEGIN:VEVENT
DTSTART;TZID=America/Chicago:20270815T180000
DTEND;TZID=America/Chicago:20270815T190000
DTSTAMP:20260419T235925
CREATED:20241101T211048Z
LAST-MODIFIED:20241201T191700Z
UID:10002318-1818352800-1818356400@ncbctulsa.org
SUMMARY:Sunday Evening Worship
DESCRIPTION:Worship with Vanessa and Dacey Lacey \nMessage from Pastor James Lacey
URL:https://ncbctulsa.org/event/sunday-evening-worship/2027-08-15/
LOCATION:New Covenant Bible Church Sanctuary\, 4800 S Yukon Ave\, Tulsa\, OK\, 74107\, United States
CATEGORIES:Worship
END:VEVENT
BEGIN:VEVENT
DTSTART;TZID=America/Chicago:20270816T063000
DTEND;TZID=America/Chicago:20270816T203000
DTSTAMP:20260419T235925
CREATED:20241101T211806Z
LAST-MODIFIED:20241201T191732Z
UID:10002904-1818397800-1818448200@ncbctulsa.org
SUMMARY:God's ER
DESCRIPTION:Come be delivered. \n  \nGod’s ER
URL:https://ncbctulsa.org/event/gods-er/2027-08-16/
LOCATION:New Covenant Bible Church Sanctuary\, 4800 S Yukon Ave\, Tulsa\, OK\, 74107\, United States
CATEGORIES:Ministry
END:VEVENT
BEGIN:VEVENT
DTSTART;TZID=America/Chicago:20270818T130000
DTEND;TZID=America/Chicago:20270818T150000
DTSTAMP:20260419T235925
CREATED:20241102T145348Z
LAST-MODIFIED:20241201T191810Z
UID:10004063-1818594000-1818601200@ncbctulsa.org
SUMMARY:Prayer Meeting
DESCRIPTION:Join the Prayer Warriors praying for our congregation\, our community\, our country\, and the world.
URL:https://ncbctulsa.org/event/prayer-meeting/2027-08-18/
LOCATION:New Covenant Bible Church Sanctuary\, 4800 S Yukon Ave\, Tulsa\, OK\, 74107\, United States
CATEGORIES:Prayer
END:VEVENT
BEGIN:VEVENT
DTSTART;TZID=America/Chicago:20270818T190000
DTEND;TZID=America/Chicago:20270818T200000
DTSTAMP:20260419T235925
CREATED:20241101T211946Z
LAST-MODIFIED:20241201T191323Z
UID:10003541-1818615600-1818619200@ncbctulsa.org
SUMMARY:Wednesday Night Service
DESCRIPTION:Worship with Vanessa and Dacey Lacey \nMessage from Pastor James Lacey
URL:https://ncbctulsa.org/event/wednesday-night-service/2027-08-18/
LOCATION:New Covenant Bible Church Sanctuary\, 4800 S Yukon Ave\, Tulsa\, OK\, 74107\, United States
CATEGORIES:Worship
END:VEVENT
BEGIN:VEVENT
DTSTART;TZID=America/Chicago:20270822T090000
DTEND;TZID=America/Chicago:20270822T100000
DTSTAMP:20260419T235925
CREATED:20230419T015039Z
LAST-MODIFIED:20241201T191544Z
UID:10000227-1818925200-1818928800@ncbctulsa.org
SUMMARY:Sunday Morning Fellowship Breakfast
DESCRIPTION:Come join us for a free fellowship breakfast. Every week at 9am before Sunday School we serve eggs\, hashbrowns\, and biscuits and gravy.
URL:https://ncbctulsa.org/event/sunday-morning-fellowship-breakfast/2027-08-22/
LOCATION:New Covenant Bible Church Fellowship Hall\, 4800 S Yukon Ave\, Tulsa\, OK\, 74107\, United States
CATEGORIES:Foods
END:VEVENT
BEGIN:VEVENT
DTSTART;TZID=America/Chicago:20270822T100000
DTEND;TZID=America/Chicago:20270822T110000
DTSTAMP:20260419T235925
CREATED:20241102T015540Z
LAST-MODIFIED:20241201T191619Z
UID:10001797-1818928800-1818932400@ncbctulsa.org
SUMMARY:Sunday School
DESCRIPTION:Lessons from the bible taught by Pastor Vanessa Lacey
URL:https://ncbctulsa.org/event/sunday-school/2027-08-22/
LOCATION:New Covenant Bible Church Sanctuary\, 4800 S Yukon Ave\, Tulsa\, OK\, 74107\, United States
END:VEVENT
BEGIN:VEVENT
DTSTART;TZID=America/Chicago:20270822T110000
DTEND;TZID=America/Chicago:20270822T120000
DTSTAMP:20260419T235925
CREATED:20241102T020314Z
LAST-MODIFIED:20241201T191526Z
UID:10001275-1818932400-1818936000@ncbctulsa.org
SUMMARY:Sunday Morning Service
DESCRIPTION:Worship Service with Vanessa and Dacey Lacey \nMessage from Pastor James Lacey
URL:https://ncbctulsa.org/event/sunday-morning-service/2027-08-22/
LOCATION:New Covenant Bible Church Sanctuary\, 4800 S Yukon Ave\, Tulsa\, OK\, 74107\, United States
CATEGORIES:Worship
END:VEVENT
BEGIN:VEVENT
DTSTART;TZID=America/Chicago:20270822T160000
DTEND;TZID=America/Chicago:20270822T180000
DTSTAMP:20260419T235925
CREATED:20241201T190853Z
LAST-MODIFIED:20241201T191018Z
UID:10004458-1818950400-1818957600@ncbctulsa.org
SUMMARY:Emerge Global: Single Mom's Ministry
DESCRIPTION:Come join us for fellowship with other single mothers and ministry to your families. \nChildren’s Program!
URL:https://ncbctulsa.org/event/emerge-global-single-moms-ministry-2/2027-08-22/
LOCATION:New Covenant Bible Church Fellowship Hall\, 4800 S Yukon Ave\, Tulsa\, OK\, 74107\, United States
END:VEVENT
BEGIN:VEVENT
DTSTART;TZID=America/Chicago:20270822T170000
DTEND;TZID=America/Chicago:20270822T174500
DTSTAMP:20260419T235925
CREATED:20241101T210951Z
LAST-MODIFIED:20241201T191300Z
UID:10002058-1818954000-1818956700@ncbctulsa.org
SUMMARY:Supper with the Saints: Fellowship Dinner
DESCRIPTION:Come eat dinner with the Church family with no obligation to come to Worship.
URL:https://ncbctulsa.org/event/supper-with-the-saints-fellowship-dinner/2027-08-22/
LOCATION:New Covenant Bible Church Fellowship Hall\, 4800 S Yukon Ave\, Tulsa\, OK\, 74107\, United States
CATEGORIES:Foods
END:VEVENT
BEGIN:VEVENT
DTSTART;TZID=America/Chicago:20270822T180000
DTEND;TZID=America/Chicago:20270822T190000
DTSTAMP:20260419T235925
CREATED:20241101T211048Z
LAST-MODIFIED:20241201T191700Z
UID:10002319-1818957600-1818961200@ncbctulsa.org
SUMMARY:Sunday Evening Worship
DESCRIPTION:Worship with Vanessa and Dacey Lacey \nMessage from Pastor James Lacey
URL:https://ncbctulsa.org/event/sunday-evening-worship/2027-08-22/
LOCATION:New Covenant Bible Church Sanctuary\, 4800 S Yukon Ave\, Tulsa\, OK\, 74107\, United States
CATEGORIES:Worship
END:VEVENT
BEGIN:VEVENT
DTSTART;TZID=America/Chicago:20270823T063000
DTEND;TZID=America/Chicago:20270823T203000
DTSTAMP:20260419T235925
CREATED:20241101T211806Z
LAST-MODIFIED:20241201T191732Z
UID:10002906-1819002600-1819053000@ncbctulsa.org
SUMMARY:God's ER
DESCRIPTION:Come be delivered. \n  \nGod’s ER
URL:https://ncbctulsa.org/event/gods-er/2027-08-23/
LOCATION:New Covenant Bible Church Sanctuary\, 4800 S Yukon Ave\, Tulsa\, OK\, 74107\, United States
CATEGORIES:Ministry
END:VEVENT
BEGIN:VEVENT
DTSTART;TZID=America/Chicago:20270825T130000
DTEND;TZID=America/Chicago:20270825T150000
DTSTAMP:20260419T235925
CREATED:20241102T145348Z
LAST-MODIFIED:20241201T191810Z
UID:10004064-1819198800-1819206000@ncbctulsa.org
SUMMARY:Prayer Meeting
DESCRIPTION:Join the Prayer Warriors praying for our congregation\, our community\, our country\, and the world.
URL:https://ncbctulsa.org/event/prayer-meeting/2027-08-25/
LOCATION:New Covenant Bible Church Sanctuary\, 4800 S Yukon Ave\, Tulsa\, OK\, 74107\, United States
CATEGORIES:Prayer
END:VEVENT
BEGIN:VEVENT
DTSTART;TZID=America/Chicago:20270825T190000
DTEND;TZID=America/Chicago:20270825T200000
DTSTAMP:20260419T235926
CREATED:20241101T211946Z
LAST-MODIFIED:20241201T191323Z
UID:10003542-1819220400-1819224000@ncbctulsa.org
SUMMARY:Wednesday Night Service
DESCRIPTION:Worship with Vanessa and Dacey Lacey \nMessage from Pastor James Lacey
URL:https://ncbctulsa.org/event/wednesday-night-service/2027-08-25/
LOCATION:New Covenant Bible Church Sanctuary\, 4800 S Yukon Ave\, Tulsa\, OK\, 74107\, United States
CATEGORIES:Worship
END:VEVENT
BEGIN:VEVENT
DTSTART;TZID=America/Chicago:20270829T090000
DTEND;TZID=America/Chicago:20270829T100000
DTSTAMP:20260419T235926
CREATED:20230419T015039Z
LAST-MODIFIED:20241201T191544Z
UID:10000228-1819530000-1819533600@ncbctulsa.org
SUMMARY:Sunday Morning Fellowship Breakfast
DESCRIPTION:Come join us for a free fellowship breakfast. Every week at 9am before Sunday School we serve eggs\, hashbrowns\, and biscuits and gravy.
URL:https://ncbctulsa.org/event/sunday-morning-fellowship-breakfast/2027-08-29/
LOCATION:New Covenant Bible Church Fellowship Hall\, 4800 S Yukon Ave\, Tulsa\, OK\, 74107\, United States
CATEGORIES:Foods
END:VEVENT
BEGIN:VEVENT
DTSTART;TZID=America/Chicago:20270829T100000
DTEND;TZID=America/Chicago:20270829T110000
DTSTAMP:20260419T235926
CREATED:20241102T015540Z
LAST-MODIFIED:20241201T191619Z
UID:10001798-1819533600-1819537200@ncbctulsa.org
SUMMARY:Sunday School
DESCRIPTION:Lessons from the bible taught by Pastor Vanessa Lacey
URL:https://ncbctulsa.org/event/sunday-school/2027-08-29/
LOCATION:New Covenant Bible Church Sanctuary\, 4800 S Yukon Ave\, Tulsa\, OK\, 74107\, United States
END:VEVENT
BEGIN:VEVENT
DTSTART;TZID=America/Chicago:20270829T110000
DTEND;TZID=America/Chicago:20270829T120000
DTSTAMP:20260419T235926
CREATED:20241102T020314Z
LAST-MODIFIED:20241201T191526Z
UID:10001276-1819537200-1819540800@ncbctulsa.org
SUMMARY:Sunday Morning Service
DESCRIPTION:Worship Service with Vanessa and Dacey Lacey \nMessage from Pastor James Lacey
URL:https://ncbctulsa.org/event/sunday-morning-service/2027-08-29/
LOCATION:New Covenant Bible Church Sanctuary\, 4800 S Yukon Ave\, Tulsa\, OK\, 74107\, United States
CATEGORIES:Worship
END:VEVENT
BEGIN:VEVENT
DTSTART;TZID=America/Chicago:20270829T170000
DTEND;TZID=America/Chicago:20270829T174500
DTSTAMP:20260419T235926
CREATED:20241101T210951Z
LAST-MODIFIED:20241201T191300Z
UID:10002059-1819558800-1819561500@ncbctulsa.org
SUMMARY:Supper with the Saints: Fellowship Dinner
DESCRIPTION:Come eat dinner with the Church family with no obligation to come to Worship.
URL:https://ncbctulsa.org/event/supper-with-the-saints-fellowship-dinner/2027-08-29/
LOCATION:New Covenant Bible Church Fellowship Hall\, 4800 S Yukon Ave\, Tulsa\, OK\, 74107\, United States
CATEGORIES:Foods
END:VEVENT
BEGIN:VEVENT
DTSTART;TZID=America/Chicago:20270829T180000
DTEND;TZID=America/Chicago:20270829T190000
DTSTAMP:20260419T235926
CREATED:20241101T211048Z
LAST-MODIFIED:20241201T191700Z
UID:10002320-1819562400-1819566000@ncbctulsa.org
SUMMARY:Sunday Evening Worship
DESCRIPTION:Worship with Vanessa and Dacey Lacey \nMessage from Pastor James Lacey
URL:https://ncbctulsa.org/event/sunday-evening-worship/2027-08-29/
LOCATION:New Covenant Bible Church Sanctuary\, 4800 S Yukon Ave\, Tulsa\, OK\, 74107\, United States
CATEGORIES:Worship
END:VEVENT
BEGIN:VEVENT
DTSTART;TZID=America/Chicago:20270830T063000
DTEND;TZID=America/Chicago:20270830T203000
DTSTAMP:20260419T235926
CREATED:20241101T211806Z
LAST-MODIFIED:20241201T191732Z
UID:10002908-1819607400-1819657800@ncbctulsa.org
SUMMARY:God's ER
DESCRIPTION:Come be delivered. \n  \nGod’s ER
URL:https://ncbctulsa.org/event/gods-er/2027-08-30/
LOCATION:New Covenant Bible Church Sanctuary\, 4800 S Yukon Ave\, Tulsa\, OK\, 74107\, United States
CATEGORIES:Ministry
END:VEVENT
BEGIN:VEVENT
DTSTART;TZID=America/Chicago:20270901T130000
DTEND;TZID=America/Chicago:20270901T150000
DTSTAMP:20260419T235926
CREATED:20241102T145348Z
LAST-MODIFIED:20241201T191810Z
UID:10004065-1819803600-1819810800@ncbctulsa.org
SUMMARY:Prayer Meeting
DESCRIPTION:Join the Prayer Warriors praying for our congregation\, our community\, our country\, and the world.
URL:https://ncbctulsa.org/event/prayer-meeting/2027-09-01/
LOCATION:New Covenant Bible Church Sanctuary\, 4800 S Yukon Ave\, Tulsa\, OK\, 74107\, United States
CATEGORIES:Prayer
END:VEVENT
BEGIN:VEVENT
DTSTART;TZID=America/Chicago:20270901T190000
DTEND;TZID=America/Chicago:20270901T200000
DTSTAMP:20260419T235926
CREATED:20241101T211946Z
LAST-MODIFIED:20241201T191323Z
UID:10003543-1819825200-1819828800@ncbctulsa.org
SUMMARY:Wednesday Night Service
DESCRIPTION:Worship with Vanessa and Dacey Lacey \nMessage from Pastor James Lacey
URL:https://ncbctulsa.org/event/wednesday-night-service/2027-09-01/
LOCATION:New Covenant Bible Church Sanctuary\, 4800 S Yukon Ave\, Tulsa\, OK\, 74107\, United States
CATEGORIES:Worship
END:VEVENT
BEGIN:VEVENT
DTSTART;TZID=America/Chicago:20270905T090000
DTEND;TZID=America/Chicago:20270905T100000
DTSTAMP:20260419T235926
CREATED:20230419T015039Z
LAST-MODIFIED:20241201T191544Z
UID:10000229-1820134800-1820138400@ncbctulsa.org
SUMMARY:Sunday Morning Fellowship Breakfast
DESCRIPTION:Come join us for a free fellowship breakfast. Every week at 9am before Sunday School we serve eggs\, hashbrowns\, and biscuits and gravy.
URL:https://ncbctulsa.org/event/sunday-morning-fellowship-breakfast/2027-09-05/
LOCATION:New Covenant Bible Church Fellowship Hall\, 4800 S Yukon Ave\, Tulsa\, OK\, 74107\, United States
CATEGORIES:Foods
END:VEVENT
BEGIN:VEVENT
DTSTART;TZID=America/Chicago:20270905T100000
DTEND;TZID=America/Chicago:20270905T110000
DTSTAMP:20260419T235926
CREATED:20241102T015540Z
LAST-MODIFIED:20241201T191619Z
UID:10001799-1820138400-1820142000@ncbctulsa.org
SUMMARY:Sunday School
DESCRIPTION:Lessons from the bible taught by Pastor Vanessa Lacey
URL:https://ncbctulsa.org/event/sunday-school/2027-09-05/
LOCATION:New Covenant Bible Church Sanctuary\, 4800 S Yukon Ave\, Tulsa\, OK\, 74107\, United States
END:VEVENT
BEGIN:VEVENT
DTSTART;TZID=America/Chicago:20270905T110000
DTEND;TZID=America/Chicago:20270905T120000
DTSTAMP:20260419T235926
CREATED:20241102T020314Z
LAST-MODIFIED:20241201T191526Z
UID:10001277-1820142000-1820145600@ncbctulsa.org
SUMMARY:Sunday Morning Service
DESCRIPTION:Worship Service with Vanessa and Dacey Lacey \nMessage from Pastor James Lacey
URL:https://ncbctulsa.org/event/sunday-morning-service/2027-09-05/
LOCATION:New Covenant Bible Church Sanctuary\, 4800 S Yukon Ave\, Tulsa\, OK\, 74107\, United States
CATEGORIES:Worship
END:VEVENT
BEGIN:VEVENT
DTSTART;TZID=America/Chicago:20270905T170000
DTEND;TZID=America/Chicago:20270905T174500
DTSTAMP:20260419T235926
CREATED:20241101T210951Z
LAST-MODIFIED:20241201T191300Z
UID:10002060-1820163600-1820166300@ncbctulsa.org
SUMMARY:Supper with the Saints: Fellowship Dinner
DESCRIPTION:Come eat dinner with the Church family with no obligation to come to Worship.
URL:https://ncbctulsa.org/event/supper-with-the-saints-fellowship-dinner/2027-09-05/
LOCATION:New Covenant Bible Church Fellowship Hall\, 4800 S Yukon Ave\, Tulsa\, OK\, 74107\, United States
CATEGORIES:Foods
END:VEVENT
BEGIN:VEVENT
DTSTART;TZID=America/Chicago:20270905T180000
DTEND;TZID=America/Chicago:20270905T190000
DTSTAMP:20260419T235926
CREATED:20241101T211048Z
LAST-MODIFIED:20241201T191700Z
UID:10002321-1820167200-1820170800@ncbctulsa.org
SUMMARY:Sunday Evening Worship
DESCRIPTION:Worship with Vanessa and Dacey Lacey \nMessage from Pastor James Lacey
URL:https://ncbctulsa.org/event/sunday-evening-worship/2027-09-05/
LOCATION:New Covenant Bible Church Sanctuary\, 4800 S Yukon Ave\, Tulsa\, OK\, 74107\, United States
CATEGORIES:Worship
END:VEVENT
BEGIN:VEVENT
DTSTART;TZID=America/Chicago:20270906T063000
DTEND;TZID=America/Chicago:20270906T203000
DTSTAMP:20260419T235926
CREATED:20241101T211806Z
LAST-MODIFIED:20241201T191732Z
UID:10002910-1820212200-1820262600@ncbctulsa.org
SUMMARY:God's ER
DESCRIPTION:Come be delivered. \n  \nGod’s ER
URL:https://ncbctulsa.org/event/gods-er/2027-09-06/
LOCATION:New Covenant Bible Church Sanctuary\, 4800 S Yukon Ave\, Tulsa\, OK\, 74107\, United States
CATEGORIES:Ministry
END:VEVENT
BEGIN:VEVENT
DTSTART;TZID=America/Chicago:20270908T130000
DTEND;TZID=America/Chicago:20270908T150000
DTSTAMP:20260419T235926
CREATED:20241102T145348Z
LAST-MODIFIED:20241201T191810Z
UID:10004066-1820408400-1820415600@ncbctulsa.org
SUMMARY:Prayer Meeting
DESCRIPTION:Join the Prayer Warriors praying for our congregation\, our community\, our country\, and the world.
URL:https://ncbctulsa.org/event/prayer-meeting/2027-09-08/
LOCATION:New Covenant Bible Church Sanctuary\, 4800 S Yukon Ave\, Tulsa\, OK\, 74107\, United States
CATEGORIES:Prayer
END:VEVENT
END:VCALENDAR