BEGIN:VCALENDAR
VERSION:2.0
PRODID:-//New Covenant Bible Church - ECPv6.9.0//NONSGML v1.0//EN
CALSCALE:GREGORIAN
METHOD:PUBLISH
X-WR-CALNAME:New Covenant Bible Church
X-ORIGINAL-URL:https://ncbctulsa.org
X-WR-CALDESC:Events for New Covenant Bible Church
REFRESH-INTERVAL;VALUE=DURATION:PT1H
X-Robots-Tag:noindex
X-PUBLISHED-TTL:PT1H
BEGIN:VTIMEZONE
TZID:America/Chicago
BEGIN:DAYLIGHT
TZOFFSETFROM:-0600
TZOFFSETTO:-0500
TZNAME:CDT
DTSTART:20240310T080000
END:DAYLIGHT
BEGIN:STANDARD
TZOFFSETFROM:-0500
TZOFFSETTO:-0600
TZNAME:CST
DTSTART:20241103T070000
END:STANDARD
END:VTIMEZONE
BEGIN:VEVENT
DTSTART;TZID=America/Chicago:20241110T090000
DTEND;TZID=America/Chicago:20241110T100000
DTSTAMP:20260419T190827
CREATED:20230419T015039Z
LAST-MODIFIED:20241201T191544Z
UID:10000082-1731229200-1731232800@ncbctulsa.org
SUMMARY:Sunday Morning Fellowship Breakfast
DESCRIPTION:Come join us for a free fellowship breakfast. Every week at 9am before Sunday School we serve eggs\, hashbrowns\, and biscuits and gravy.
URL:https://ncbctulsa.org/event/sunday-morning-fellowship-breakfast/2024-11-10/
LOCATION:New Covenant Bible Church Fellowship Hall\, 4800 S Yukon Ave\, Tulsa\, OK\, 74107\, United States
CATEGORIES:Foods
END:VEVENT
BEGIN:VEVENT
DTSTART;TZID=America/Chicago:20241106T190000
DTEND;TZID=America/Chicago:20241106T200000
DTSTAMP:20260419T190827
CREATED:20241101T211946Z
LAST-MODIFIED:20241201T191323Z
UID:10003396-1730919600-1730923200@ncbctulsa.org
SUMMARY:Wednesday Night Service
DESCRIPTION:Worship with Vanessa and Dacey Lacey \nMessage from Pastor James Lacey
URL:https://ncbctulsa.org/event/wednesday-night-service/2024-11-06/
LOCATION:New Covenant Bible Church Sanctuary\, 4800 S Yukon Ave\, Tulsa\, OK\, 74107\, United States
CATEGORIES:Worship
END:VEVENT
BEGIN:VEVENT
DTSTART;TZID=America/Chicago:20241106T180000
DTEND;TZID=America/Chicago:20241106T190000
DTSTAMP:20260419T190827
CREATED:20241101T211858Z
LAST-MODIFIED:20241201T191503Z
UID:10003657-1730916000-1730919600@ncbctulsa.org
SUMMARY:Loving the Word with Brother Kenn
DESCRIPTION:Lessons from the Bible with Brother Kenn
URL:https://ncbctulsa.org/event/loving-the-word-with-brother-kenn/2024-11-06/
LOCATION:New Covenant Bible Church Sanctuary\, 4800 S Yukon Ave\, Tulsa\, OK\, 74107\, United States
CATEGORIES:Ministry
END:VEVENT
BEGIN:VEVENT
DTSTART;TZID=America/Chicago:20241106T130000
DTEND;TZID=America/Chicago:20241106T150000
DTSTAMP:20260419T190827
CREATED:20241102T145348Z
LAST-MODIFIED:20241201T191810Z
UID:10003918-1730898000-1730905200@ncbctulsa.org
SUMMARY:Prayer Meeting
DESCRIPTION:Join the Prayer Warriors praying for our congregation\, our community\, our country\, and the world.
URL:https://ncbctulsa.org/event/prayer-meeting/2024-11-06/
LOCATION:New Covenant Bible Church Sanctuary\, 4800 S Yukon Ave\, Tulsa\, OK\, 74107\, United States
CATEGORIES:Prayer
END:VEVENT
BEGIN:VEVENT
DTSTART;TZID=America/Chicago:20241104T063000
DTEND;TZID=America/Chicago:20241104T203000
DTSTAMP:20260419T190827
CREATED:20241101T211806Z
LAST-MODIFIED:20241201T191732Z
UID:10002614-1730701800-1730752200@ncbctulsa.org
SUMMARY:God's ER
DESCRIPTION:Come be delivered. \n  \nGod’s ER
URL:https://ncbctulsa.org/event/gods-er/2024-11-04/
LOCATION:New Covenant Bible Church Sanctuary\, 4800 S Yukon Ave\, Tulsa\, OK\, 74107\, United States
CATEGORIES:Ministry
END:VEVENT
BEGIN:VEVENT
DTSTART;TZID=America/Chicago:20241103T180000
DTEND;TZID=America/Chicago:20241103T190000
DTSTAMP:20260419T190827
CREATED:20241101T211048Z
LAST-MODIFIED:20241201T191700Z
UID:10002173-1730656800-1730660400@ncbctulsa.org
SUMMARY:Sunday Evening Worship
DESCRIPTION:Worship with Vanessa and Dacey Lacey \nMessage from Pastor James Lacey
URL:https://ncbctulsa.org/event/sunday-evening-worship/2024-11-03/
LOCATION:New Covenant Bible Church Sanctuary\, 4800 S Yukon Ave\, Tulsa\, OK\, 74107\, United States
CATEGORIES:Worship
END:VEVENT
BEGIN:VEVENT
DTSTART;TZID=America/Chicago:20241103T123000
DTEND;TZID=America/Chicago:20241103T140000
DTSTAMP:20260419T190827
CREATED:20241102T144431Z
LAST-MODIFIED:20241102T144432Z
UID:10001912-1730637000-1730642400@ncbctulsa.org
SUMMARY:Dacey Lacey Birthday Luncheon
DESCRIPTION:Celebrate Dacey Lacey’s Birthday with us.
URL:https://ncbctulsa.org/event/supper-with-the-saints-fellowship-dinner-2/
LOCATION:OK
CATEGORIES:Foods
END:VEVENT
BEGIN:VEVENT
DTSTART;TZID=America/Chicago:20241103T110000
DTEND;TZID=America/Chicago:20241103T120000
DTSTAMP:20260419T190827
CREATED:20241102T020314Z
LAST-MODIFIED:20241201T191526Z
UID:10001129-1730631600-1730635200@ncbctulsa.org
SUMMARY:Sunday Morning Service
DESCRIPTION:Worship Service with Vanessa and Dacey Lacey \nMessage from Pastor James Lacey
URL:https://ncbctulsa.org/event/sunday-morning-service/2024-11-03/
LOCATION:New Covenant Bible Church Sanctuary\, 4800 S Yukon Ave\, Tulsa\, OK\, 74107\, United States
CATEGORIES:Worship
END:VEVENT
BEGIN:VEVENT
DTSTART;TZID=America/Chicago:20241103T100000
DTEND;TZID=America/Chicago:20241103T110000
DTSTAMP:20260419T190827
CREATED:20241102T015540Z
LAST-MODIFIED:20241201T191619Z
UID:10001651-1730628000-1730631600@ncbctulsa.org
SUMMARY:Sunday School
DESCRIPTION:Lessons from the bible taught by Pastor Vanessa Lacey
URL:https://ncbctulsa.org/event/sunday-school/2024-11-03/
LOCATION:New Covenant Bible Church Sanctuary\, 4800 S Yukon Ave\, Tulsa\, OK\, 74107\, United States
END:VEVENT
BEGIN:VEVENT
DTSTART;TZID=America/Chicago:20241103T090000
DTEND;TZID=America/Chicago:20241103T100000
DTSTAMP:20260419T190827
CREATED:20230419T015039Z
LAST-MODIFIED:20241201T191544Z
UID:10000081-1730624400-1730628000@ncbctulsa.org
SUMMARY:Sunday Morning Fellowship Breakfast
DESCRIPTION:Come join us for a free fellowship breakfast. Every week at 9am before Sunday School we serve eggs\, hashbrowns\, and biscuits and gravy.
URL:https://ncbctulsa.org/event/sunday-morning-fellowship-breakfast/2024-11-03/
LOCATION:New Covenant Bible Church Fellowship Hall\, 4800 S Yukon Ave\, Tulsa\, OK\, 74107\, United States
CATEGORIES:Foods
END:VEVENT
BEGIN:VEVENT
DTSTART;TZID=America/Chicago:20241027T090000
DTEND;TZID=America/Chicago:20241027T100000
DTSTAMP:20260419T190827
CREATED:20230419T015039Z
LAST-MODIFIED:20241201T191544Z
UID:10000080-1730019600-1730023200@ncbctulsa.org
SUMMARY:Sunday Morning Fellowship Breakfast
DESCRIPTION:Come join us for a free fellowship breakfast. Every week at 9am before Sunday School we serve eggs\, hashbrowns\, and biscuits and gravy.
URL:https://ncbctulsa.org/event/sunday-morning-fellowship-breakfast/2024-10-27/
LOCATION:New Covenant Bible Church Fellowship Hall\, 4800 S Yukon Ave\, Tulsa\, OK\, 74107\, United States
CATEGORIES:Foods
END:VEVENT
BEGIN:VEVENT
DTSTART;TZID=America/Chicago:20241020T090000
DTEND;TZID=America/Chicago:20241020T100000
DTSTAMP:20260419T190827
CREATED:20230419T015039Z
LAST-MODIFIED:20241201T191544Z
UID:10000079-1729414800-1729418400@ncbctulsa.org
SUMMARY:Sunday Morning Fellowship Breakfast
DESCRIPTION:Come join us for a free fellowship breakfast. Every week at 9am before Sunday School we serve eggs\, hashbrowns\, and biscuits and gravy.
URL:https://ncbctulsa.org/event/sunday-morning-fellowship-breakfast/2024-10-20/
LOCATION:New Covenant Bible Church Fellowship Hall\, 4800 S Yukon Ave\, Tulsa\, OK\, 74107\, United States
CATEGORIES:Foods
END:VEVENT
BEGIN:VEVENT
DTSTART;TZID=America/Chicago:20241013T090000
DTEND;TZID=America/Chicago:20241013T100000
DTSTAMP:20260419T190827
CREATED:20230419T015039Z
LAST-MODIFIED:20241201T191544Z
UID:10000078-1728810000-1728813600@ncbctulsa.org
SUMMARY:Sunday Morning Fellowship Breakfast
DESCRIPTION:Come join us for a free fellowship breakfast. Every week at 9am before Sunday School we serve eggs\, hashbrowns\, and biscuits and gravy.
URL:https://ncbctulsa.org/event/sunday-morning-fellowship-breakfast/2024-10-13/
LOCATION:New Covenant Bible Church Fellowship Hall\, 4800 S Yukon Ave\, Tulsa\, OK\, 74107\, United States
CATEGORIES:Foods
END:VEVENT
BEGIN:VEVENT
DTSTART;TZID=America/Chicago:20241006T090000
DTEND;TZID=America/Chicago:20241006T100000
DTSTAMP:20260419T190827
CREATED:20230419T015039Z
LAST-MODIFIED:20241201T191544Z
UID:10000077-1728205200-1728208800@ncbctulsa.org
SUMMARY:Sunday Morning Fellowship Breakfast
DESCRIPTION:Come join us for a free fellowship breakfast. Every week at 9am before Sunday School we serve eggs\, hashbrowns\, and biscuits and gravy.
URL:https://ncbctulsa.org/event/sunday-morning-fellowship-breakfast/2024-10-06/
LOCATION:New Covenant Bible Church Fellowship Hall\, 4800 S Yukon Ave\, Tulsa\, OK\, 74107\, United States
CATEGORIES:Foods
END:VEVENT
BEGIN:VEVENT
DTSTART;TZID=America/Chicago:20240929T090000
DTEND;TZID=America/Chicago:20240929T100000
DTSTAMP:20260419T190827
CREATED:20230419T015039Z
LAST-MODIFIED:20241201T191544Z
UID:10000076-1727600400-1727604000@ncbctulsa.org
SUMMARY:Sunday Morning Fellowship Breakfast
DESCRIPTION:Come join us for a free fellowship breakfast. Every week at 9am before Sunday School we serve eggs\, hashbrowns\, and biscuits and gravy.
URL:https://ncbctulsa.org/event/sunday-morning-fellowship-breakfast/2024-09-29/
LOCATION:New Covenant Bible Church Fellowship Hall\, 4800 S Yukon Ave\, Tulsa\, OK\, 74107\, United States
CATEGORIES:Foods
END:VEVENT
BEGIN:VEVENT
DTSTART;TZID=America/Chicago:20240922T090000
DTEND;TZID=America/Chicago:20240922T100000
DTSTAMP:20260419T190827
CREATED:20230419T015039Z
LAST-MODIFIED:20241201T191544Z
UID:10000075-1726995600-1726999200@ncbctulsa.org
SUMMARY:Sunday Morning Fellowship Breakfast
DESCRIPTION:Come join us for a free fellowship breakfast. Every week at 9am before Sunday School we serve eggs\, hashbrowns\, and biscuits and gravy.
URL:https://ncbctulsa.org/event/sunday-morning-fellowship-breakfast/2024-09-22/
LOCATION:New Covenant Bible Church Fellowship Hall\, 4800 S Yukon Ave\, Tulsa\, OK\, 74107\, United States
CATEGORIES:Foods
END:VEVENT
BEGIN:VEVENT
DTSTART;TZID=America/Chicago:20240915T090000
DTEND;TZID=America/Chicago:20240915T100000
DTSTAMP:20260419T190827
CREATED:20230419T015039Z
LAST-MODIFIED:20241201T191544Z
UID:10000074-1726390800-1726394400@ncbctulsa.org
SUMMARY:Sunday Morning Fellowship Breakfast
DESCRIPTION:Come join us for a free fellowship breakfast. Every week at 9am before Sunday School we serve eggs\, hashbrowns\, and biscuits and gravy.
URL:https://ncbctulsa.org/event/sunday-morning-fellowship-breakfast/2024-09-15/
LOCATION:New Covenant Bible Church Fellowship Hall\, 4800 S Yukon Ave\, Tulsa\, OK\, 74107\, United States
CATEGORIES:Foods
END:VEVENT
BEGIN:VEVENT
DTSTART;TZID=America/Chicago:20240908T090000
DTEND;TZID=America/Chicago:20240908T100000
DTSTAMP:20260419T190827
CREATED:20230419T015039Z
LAST-MODIFIED:20241201T191544Z
UID:10000073-1725786000-1725789600@ncbctulsa.org
SUMMARY:Sunday Morning Fellowship Breakfast
DESCRIPTION:Come join us for a free fellowship breakfast. Every week at 9am before Sunday School we serve eggs\, hashbrowns\, and biscuits and gravy.
URL:https://ncbctulsa.org/event/sunday-morning-fellowship-breakfast/2024-09-08/
LOCATION:New Covenant Bible Church Fellowship Hall\, 4800 S Yukon Ave\, Tulsa\, OK\, 74107\, United States
CATEGORIES:Foods
END:VEVENT
BEGIN:VEVENT
DTSTART;TZID=America/Chicago:20240901T090000
DTEND;TZID=America/Chicago:20240901T100000
DTSTAMP:20260419T190827
CREATED:20230419T015039Z
LAST-MODIFIED:20241201T191544Z
UID:10000072-1725181200-1725184800@ncbctulsa.org
SUMMARY:Sunday Morning Fellowship Breakfast
DESCRIPTION:Come join us for a free fellowship breakfast. Every week at 9am before Sunday School we serve eggs\, hashbrowns\, and biscuits and gravy.
URL:https://ncbctulsa.org/event/sunday-morning-fellowship-breakfast/2024-09-01/
LOCATION:New Covenant Bible Church Fellowship Hall\, 4800 S Yukon Ave\, Tulsa\, OK\, 74107\, United States
CATEGORIES:Foods
END:VEVENT
BEGIN:VEVENT
DTSTART;TZID=America/Chicago:20240825T090000
DTEND;TZID=America/Chicago:20240825T100000
DTSTAMP:20260419T190827
CREATED:20230419T015039Z
LAST-MODIFIED:20241201T191544Z
UID:10000071-1724576400-1724580000@ncbctulsa.org
SUMMARY:Sunday Morning Fellowship Breakfast
DESCRIPTION:Come join us for a free fellowship breakfast. Every week at 9am before Sunday School we serve eggs\, hashbrowns\, and biscuits and gravy.
URL:https://ncbctulsa.org/event/sunday-morning-fellowship-breakfast/2024-08-25/
LOCATION:New Covenant Bible Church Fellowship Hall\, 4800 S Yukon Ave\, Tulsa\, OK\, 74107\, United States
CATEGORIES:Foods
END:VEVENT
BEGIN:VEVENT
DTSTART;TZID=America/Chicago:20240818T090000
DTEND;TZID=America/Chicago:20240818T100000
DTSTAMP:20260419T190827
CREATED:20230419T015039Z
LAST-MODIFIED:20241201T191544Z
UID:10000070-1723971600-1723975200@ncbctulsa.org
SUMMARY:Sunday Morning Fellowship Breakfast
DESCRIPTION:Come join us for a free fellowship breakfast. Every week at 9am before Sunday School we serve eggs\, hashbrowns\, and biscuits and gravy.
URL:https://ncbctulsa.org/event/sunday-morning-fellowship-breakfast/2024-08-18/
LOCATION:New Covenant Bible Church Fellowship Hall\, 4800 S Yukon Ave\, Tulsa\, OK\, 74107\, United States
CATEGORIES:Foods
END:VEVENT
BEGIN:VEVENT
DTSTART;TZID=America/Chicago:20240811T090000
DTEND;TZID=America/Chicago:20240811T100000
DTSTAMP:20260419T190827
CREATED:20230419T015039Z
LAST-MODIFIED:20241201T191544Z
UID:10000069-1723366800-1723370400@ncbctulsa.org
SUMMARY:Sunday Morning Fellowship Breakfast
DESCRIPTION:Come join us for a free fellowship breakfast. Every week at 9am before Sunday School we serve eggs\, hashbrowns\, and biscuits and gravy.
URL:https://ncbctulsa.org/event/sunday-morning-fellowship-breakfast/2024-08-11/
LOCATION:New Covenant Bible Church Fellowship Hall\, 4800 S Yukon Ave\, Tulsa\, OK\, 74107\, United States
CATEGORIES:Foods
END:VEVENT
BEGIN:VEVENT
DTSTART;TZID=America/Chicago:20240804T090000
DTEND;TZID=America/Chicago:20240804T100000
DTSTAMP:20260419T190827
CREATED:20230419T015039Z
LAST-MODIFIED:20241201T191544Z
UID:10000068-1722762000-1722765600@ncbctulsa.org
SUMMARY:Sunday Morning Fellowship Breakfast
DESCRIPTION:Come join us for a free fellowship breakfast. Every week at 9am before Sunday School we serve eggs\, hashbrowns\, and biscuits and gravy.
URL:https://ncbctulsa.org/event/sunday-morning-fellowship-breakfast/2024-08-04/
LOCATION:New Covenant Bible Church Fellowship Hall\, 4800 S Yukon Ave\, Tulsa\, OK\, 74107\, United States
CATEGORIES:Foods
END:VEVENT
BEGIN:VEVENT
DTSTART;TZID=America/Chicago:20240728T090000
DTEND;TZID=America/Chicago:20240728T100000
DTSTAMP:20260419T190827
CREATED:20230419T015039Z
LAST-MODIFIED:20241201T191544Z
UID:10000067-1722157200-1722160800@ncbctulsa.org
SUMMARY:Sunday Morning Fellowship Breakfast
DESCRIPTION:Come join us for a free fellowship breakfast. Every week at 9am before Sunday School we serve eggs\, hashbrowns\, and biscuits and gravy.
URL:https://ncbctulsa.org/event/sunday-morning-fellowship-breakfast/2024-07-28/
LOCATION:New Covenant Bible Church Fellowship Hall\, 4800 S Yukon Ave\, Tulsa\, OK\, 74107\, United States
CATEGORIES:Foods
END:VEVENT
BEGIN:VEVENT
DTSTART;TZID=America/Chicago:20240721T090000
DTEND;TZID=America/Chicago:20240721T100000
DTSTAMP:20260419T190827
CREATED:20230419T015039Z
LAST-MODIFIED:20241201T191544Z
UID:10000066-1721552400-1721556000@ncbctulsa.org
SUMMARY:Sunday Morning Fellowship Breakfast
DESCRIPTION:Come join us for a free fellowship breakfast. Every week at 9am before Sunday School we serve eggs\, hashbrowns\, and biscuits and gravy.
URL:https://ncbctulsa.org/event/sunday-morning-fellowship-breakfast/2024-07-21/
LOCATION:New Covenant Bible Church Fellowship Hall\, 4800 S Yukon Ave\, Tulsa\, OK\, 74107\, United States
CATEGORIES:Foods
END:VEVENT
BEGIN:VEVENT
DTSTART;TZID=America/Chicago:20240714T090000
DTEND;TZID=America/Chicago:20240714T100000
DTSTAMP:20260419T190827
CREATED:20230419T015039Z
LAST-MODIFIED:20241201T191544Z
UID:10000065-1720947600-1720951200@ncbctulsa.org
SUMMARY:Sunday Morning Fellowship Breakfast
DESCRIPTION:Come join us for a free fellowship breakfast. Every week at 9am before Sunday School we serve eggs\, hashbrowns\, and biscuits and gravy.
URL:https://ncbctulsa.org/event/sunday-morning-fellowship-breakfast/2024-07-14/
LOCATION:New Covenant Bible Church Fellowship Hall\, 4800 S Yukon Ave\, Tulsa\, OK\, 74107\, United States
CATEGORIES:Foods
END:VEVENT
BEGIN:VEVENT
DTSTART;TZID=America/Chicago:20240707T090000
DTEND;TZID=America/Chicago:20240707T100000
DTSTAMP:20260419T190827
CREATED:20230419T015039Z
LAST-MODIFIED:20241201T191544Z
UID:10000064-1720342800-1720346400@ncbctulsa.org
SUMMARY:Sunday Morning Fellowship Breakfast
DESCRIPTION:Come join us for a free fellowship breakfast. Every week at 9am before Sunday School we serve eggs\, hashbrowns\, and biscuits and gravy.
URL:https://ncbctulsa.org/event/sunday-morning-fellowship-breakfast/2024-07-07/
LOCATION:New Covenant Bible Church Fellowship Hall\, 4800 S Yukon Ave\, Tulsa\, OK\, 74107\, United States
CATEGORIES:Foods
END:VEVENT
BEGIN:VEVENT
DTSTART;TZID=America/Chicago:20240630T090000
DTEND;TZID=America/Chicago:20240630T100000
DTSTAMP:20260419T190827
CREATED:20230419T015039Z
LAST-MODIFIED:20241201T191544Z
UID:10000063-1719738000-1719741600@ncbctulsa.org
SUMMARY:Sunday Morning Fellowship Breakfast
DESCRIPTION:Come join us for a free fellowship breakfast. Every week at 9am before Sunday School we serve eggs\, hashbrowns\, and biscuits and gravy.
URL:https://ncbctulsa.org/event/sunday-morning-fellowship-breakfast/2024-06-30/
LOCATION:New Covenant Bible Church Fellowship Hall\, 4800 S Yukon Ave\, Tulsa\, OK\, 74107\, United States
CATEGORIES:Foods
END:VEVENT
BEGIN:VEVENT
DTSTART;TZID=America/Chicago:20240623T090000
DTEND;TZID=America/Chicago:20240623T100000
DTSTAMP:20260419T190827
CREATED:20230419T015039Z
LAST-MODIFIED:20241201T191544Z
UID:10000062-1719133200-1719136800@ncbctulsa.org
SUMMARY:Sunday Morning Fellowship Breakfast
DESCRIPTION:Come join us for a free fellowship breakfast. Every week at 9am before Sunday School we serve eggs\, hashbrowns\, and biscuits and gravy.
URL:https://ncbctulsa.org/event/sunday-morning-fellowship-breakfast/2024-06-23/
LOCATION:New Covenant Bible Church Fellowship Hall\, 4800 S Yukon Ave\, Tulsa\, OK\, 74107\, United States
CATEGORIES:Foods
END:VEVENT
BEGIN:VEVENT
DTSTART;TZID=America/Chicago:20240616T090000
DTEND;TZID=America/Chicago:20240616T100000
DTSTAMP:20260419T190827
CREATED:20230419T015039Z
LAST-MODIFIED:20241201T191544Z
UID:10000061-1718528400-1718532000@ncbctulsa.org
SUMMARY:Sunday Morning Fellowship Breakfast
DESCRIPTION:Come join us for a free fellowship breakfast. Every week at 9am before Sunday School we serve eggs\, hashbrowns\, and biscuits and gravy.
URL:https://ncbctulsa.org/event/sunday-morning-fellowship-breakfast/2024-06-16/
LOCATION:New Covenant Bible Church Fellowship Hall\, 4800 S Yukon Ave\, Tulsa\, OK\, 74107\, United States
CATEGORIES:Foods
END:VEVENT
END:VCALENDAR