BEGIN:VCALENDAR
VERSION:2.0
PRODID:-//New Covenant Bible Church - ECPv6.9.0//NONSGML v1.0//EN
CALSCALE:GREGORIAN
METHOD:PUBLISH
X-WR-CALNAME:New Covenant Bible Church
X-ORIGINAL-URL:https://ncbctulsa.org
X-WR-CALDESC:Events for New Covenant Bible Church
REFRESH-INTERVAL;VALUE=DURATION:PT1H
X-Robots-Tag:noindex
X-PUBLISHED-TTL:PT1H
BEGIN:VTIMEZONE
TZID:America/Chicago
BEGIN:DAYLIGHT
TZOFFSETFROM:-0600
TZOFFSETTO:-0500
TZNAME:CDT
DTSTART:20240310T080000
END:DAYLIGHT
BEGIN:STANDARD
TZOFFSETFROM:-0500
TZOFFSETTO:-0600
TZNAME:CST
DTSTART:20241103T070000
END:STANDARD
END:VTIMEZONE
BEGIN:VEVENT
DTSTART;TZID=America/Chicago:20241211T180000
DTEND;TZID=America/Chicago:20241211T190000
DTSTAMP:20260420T023458
CREATED:20241101T211858Z
LAST-MODIFIED:20241201T191503Z
UID:10003662-1733940000-1733943600@ncbctulsa.org
SUMMARY:Loving the Word with Brother Kenn
DESCRIPTION:Lessons from the Bible with Brother Kenn
URL:https://ncbctulsa.org/event/loving-the-word-with-brother-kenn/2024-12-11/
LOCATION:New Covenant Bible Church Sanctuary\, 4800 S Yukon Ave\, Tulsa\, OK\, 74107\, United States
CATEGORIES:Ministry
END:VEVENT
BEGIN:VEVENT
DTSTART;TZID=America/Chicago:20241211T130000
DTEND;TZID=America/Chicago:20241211T150000
DTSTAMP:20260420T023458
CREATED:20241102T145348Z
LAST-MODIFIED:20241201T191810Z
UID:10003923-1733922000-1733929200@ncbctulsa.org
SUMMARY:Prayer Meeting
DESCRIPTION:Join the Prayer Warriors praying for our congregation\, our community\, our country\, and the world.
URL:https://ncbctulsa.org/event/prayer-meeting/2024-12-11/
LOCATION:New Covenant Bible Church Sanctuary\, 4800 S Yukon Ave\, Tulsa\, OK\, 74107\, United States
CATEGORIES:Prayer
END:VEVENT
BEGIN:VEVENT
DTSTART;TZID=America/Chicago:20241209T063000
DTEND;TZID=America/Chicago:20241209T203000
DTSTAMP:20260420T023458
CREATED:20241101T211806Z
LAST-MODIFIED:20241201T191732Z
UID:10002624-1733725800-1733776200@ncbctulsa.org
SUMMARY:God's ER
DESCRIPTION:Come be delivered. \n  \nGod’s ER
URL:https://ncbctulsa.org/event/gods-er/2024-12-09/
LOCATION:New Covenant Bible Church Sanctuary\, 4800 S Yukon Ave\, Tulsa\, OK\, 74107\, United States
CATEGORIES:Ministry
END:VEVENT
BEGIN:VEVENT
DTSTART;TZID=America/Chicago:20241208T180000
DTEND;TZID=America/Chicago:20241208T190000
DTSTAMP:20260420T023458
CREATED:20241101T211048Z
LAST-MODIFIED:20241201T191700Z
UID:10002178-1733680800-1733684400@ncbctulsa.org
SUMMARY:Sunday Evening Worship
DESCRIPTION:Worship with Vanessa and Dacey Lacey \nMessage from Pastor James Lacey
URL:https://ncbctulsa.org/event/sunday-evening-worship/2024-12-08/
LOCATION:New Covenant Bible Church Sanctuary\, 4800 S Yukon Ave\, Tulsa\, OK\, 74107\, United States
CATEGORIES:Worship
END:VEVENT
BEGIN:VEVENT
DTSTART;TZID=America/Chicago:20241208T170000
DTEND;TZID=America/Chicago:20241208T174500
DTSTAMP:20260420T023458
CREATED:20241101T210951Z
LAST-MODIFIED:20241201T191300Z
UID:10001917-1733677200-1733679900@ncbctulsa.org
SUMMARY:Supper with the Saints: Fellowship Dinner
DESCRIPTION:Come eat dinner with the Church family with no obligation to come to Worship.
URL:https://ncbctulsa.org/event/supper-with-the-saints-fellowship-dinner/2024-12-08/
LOCATION:New Covenant Bible Church Fellowship Hall\, 4800 S Yukon Ave\, Tulsa\, OK\, 74107\, United States
CATEGORIES:Foods
END:VEVENT
BEGIN:VEVENT
DTSTART;TZID=America/Chicago:20241208T160000
DTEND;TZID=America/Chicago:20241208T180000
DTSTAMP:20260420T023458
CREATED:20241201T190829Z
LAST-MODIFIED:20241201T190951Z
UID:10004366-1733673600-1733680800@ncbctulsa.org
SUMMARY:Emerge Global: Single Mom's Ministry
DESCRIPTION:Come join us for fellowship with other single mothers and ministry to your families. \nChildren’s Program!
URL:https://ncbctulsa.org/event/emerge-global-single-moms-ministry/2024-12-08/
LOCATION:New Covenant Bible Church Fellowship Hall\, 4800 S Yukon Ave\, Tulsa\, OK\, 74107\, United States
END:VEVENT
BEGIN:VEVENT
DTSTART;TZID=America/Chicago:20241208T110000
DTEND;TZID=America/Chicago:20241208T120000
DTSTAMP:20260420T023458
CREATED:20241102T020314Z
LAST-MODIFIED:20241201T191526Z
UID:10001134-1733655600-1733659200@ncbctulsa.org
SUMMARY:Sunday Morning Service
DESCRIPTION:Worship Service with Vanessa and Dacey Lacey \nMessage from Pastor James Lacey
URL:https://ncbctulsa.org/event/sunday-morning-service/2024-12-08/
LOCATION:New Covenant Bible Church Sanctuary\, 4800 S Yukon Ave\, Tulsa\, OK\, 74107\, United States
CATEGORIES:Worship
END:VEVENT
BEGIN:VEVENT
DTSTART;TZID=America/Chicago:20241208T100000
DTEND;TZID=America/Chicago:20241208T110000
DTSTAMP:20260420T023458
CREATED:20241102T015540Z
LAST-MODIFIED:20241201T191619Z
UID:10001656-1733652000-1733655600@ncbctulsa.org
SUMMARY:Sunday School
DESCRIPTION:Lessons from the bible taught by Pastor Vanessa Lacey
URL:https://ncbctulsa.org/event/sunday-school/2024-12-08/
LOCATION:New Covenant Bible Church Sanctuary\, 4800 S Yukon Ave\, Tulsa\, OK\, 74107\, United States
END:VEVENT
BEGIN:VEVENT
DTSTART;TZID=America/Chicago:20241208T090000
DTEND;TZID=America/Chicago:20241208T100000
DTSTAMP:20260420T023458
CREATED:20230419T015039Z
LAST-MODIFIED:20241201T191544Z
UID:10000086-1733648400-1733652000@ncbctulsa.org
SUMMARY:Sunday Morning Fellowship Breakfast
DESCRIPTION:Come join us for a free fellowship breakfast. Every week at 9am before Sunday School we serve eggs\, hashbrowns\, and biscuits and gravy.
URL:https://ncbctulsa.org/event/sunday-morning-fellowship-breakfast/2024-12-08/
LOCATION:New Covenant Bible Church Fellowship Hall\, 4800 S Yukon Ave\, Tulsa\, OK\, 74107\, United States
CATEGORIES:Foods
END:VEVENT
BEGIN:VEVENT
DTSTART;TZID=America/Chicago:20241204T190000
DTEND;TZID=America/Chicago:20241204T200000
DTSTAMP:20260420T023458
CREATED:20241101T211946Z
LAST-MODIFIED:20241201T191323Z
UID:10003400-1733338800-1733342400@ncbctulsa.org
SUMMARY:Wednesday Night Service
DESCRIPTION:Worship with Vanessa and Dacey Lacey \nMessage from Pastor James Lacey
URL:https://ncbctulsa.org/event/wednesday-night-service/2024-12-04/
LOCATION:New Covenant Bible Church Sanctuary\, 4800 S Yukon Ave\, Tulsa\, OK\, 74107\, United States
CATEGORIES:Worship
END:VEVENT
BEGIN:VEVENT
DTSTART;TZID=America/Chicago:20241204T180000
DTEND;TZID=America/Chicago:20241204T190000
DTSTAMP:20260420T023458
CREATED:20241101T211858Z
LAST-MODIFIED:20241201T191503Z
UID:10003661-1733335200-1733338800@ncbctulsa.org
SUMMARY:Loving the Word with Brother Kenn
DESCRIPTION:Lessons from the Bible with Brother Kenn
URL:https://ncbctulsa.org/event/loving-the-word-with-brother-kenn/2024-12-04/
LOCATION:New Covenant Bible Church Sanctuary\, 4800 S Yukon Ave\, Tulsa\, OK\, 74107\, United States
CATEGORIES:Ministry
END:VEVENT
BEGIN:VEVENT
DTSTART;TZID=America/Chicago:20241204T130000
DTEND;TZID=America/Chicago:20241204T150000
DTSTAMP:20260420T023458
CREATED:20241102T145348Z
LAST-MODIFIED:20241201T191810Z
UID:10003922-1733317200-1733324400@ncbctulsa.org
SUMMARY:Prayer Meeting
DESCRIPTION:Join the Prayer Warriors praying for our congregation\, our community\, our country\, and the world.
URL:https://ncbctulsa.org/event/prayer-meeting/2024-12-04/
LOCATION:New Covenant Bible Church Sanctuary\, 4800 S Yukon Ave\, Tulsa\, OK\, 74107\, United States
CATEGORIES:Prayer
END:VEVENT
BEGIN:VEVENT
DTSTART;TZID=America/Chicago:20241202T063000
DTEND;TZID=America/Chicago:20241202T203000
DTSTAMP:20260420T023458
CREATED:20241101T211806Z
LAST-MODIFIED:20241201T191732Z
UID:10002622-1733121000-1733171400@ncbctulsa.org
SUMMARY:God's ER
DESCRIPTION:Come be delivered. \n  \nGod’s ER
URL:https://ncbctulsa.org/event/gods-er/2024-12-02/
LOCATION:New Covenant Bible Church Sanctuary\, 4800 S Yukon Ave\, Tulsa\, OK\, 74107\, United States
CATEGORIES:Ministry
END:VEVENT
BEGIN:VEVENT
DTSTART;TZID=America/Chicago:20241201T180000
DTEND;TZID=America/Chicago:20241201T190000
DTSTAMP:20260420T023458
CREATED:20241101T211048Z
LAST-MODIFIED:20241201T191700Z
UID:10002177-1733076000-1733079600@ncbctulsa.org
SUMMARY:Sunday Evening Worship
DESCRIPTION:Worship with Vanessa and Dacey Lacey \nMessage from Pastor James Lacey
URL:https://ncbctulsa.org/event/sunday-evening-worship/2024-12-01/
LOCATION:New Covenant Bible Church Sanctuary\, 4800 S Yukon Ave\, Tulsa\, OK\, 74107\, United States
CATEGORIES:Worship
END:VEVENT
BEGIN:VEVENT
DTSTART;TZID=America/Chicago:20241201T110000
DTEND;TZID=America/Chicago:20241201T120000
DTSTAMP:20260420T023458
CREATED:20241102T020314Z
LAST-MODIFIED:20241201T191526Z
UID:10001133-1733050800-1733054400@ncbctulsa.org
SUMMARY:Sunday Morning Service
DESCRIPTION:Worship Service with Vanessa and Dacey Lacey \nMessage from Pastor James Lacey
URL:https://ncbctulsa.org/event/sunday-morning-service/2024-12-01/
LOCATION:New Covenant Bible Church Sanctuary\, 4800 S Yukon Ave\, Tulsa\, OK\, 74107\, United States
CATEGORIES:Worship
END:VEVENT
BEGIN:VEVENT
DTSTART;TZID=America/Chicago:20241201T100000
DTEND;TZID=America/Chicago:20241201T110000
DTSTAMP:20260420T023458
CREATED:20241102T015540Z
LAST-MODIFIED:20241201T191619Z
UID:10001655-1733047200-1733050800@ncbctulsa.org
SUMMARY:Sunday School
DESCRIPTION:Lessons from the bible taught by Pastor Vanessa Lacey
URL:https://ncbctulsa.org/event/sunday-school/2024-12-01/
LOCATION:New Covenant Bible Church Sanctuary\, 4800 S Yukon Ave\, Tulsa\, OK\, 74107\, United States
END:VEVENT
BEGIN:VEVENT
DTSTART;TZID=America/Chicago:20241201T090000
DTEND;TZID=America/Chicago:20241201T100000
DTSTAMP:20260420T023458
CREATED:20230419T015039Z
LAST-MODIFIED:20241201T191544Z
UID:10000085-1733043600-1733047200@ncbctulsa.org
SUMMARY:Sunday Morning Fellowship Breakfast
DESCRIPTION:Come join us for a free fellowship breakfast. Every week at 9am before Sunday School we serve eggs\, hashbrowns\, and biscuits and gravy.
URL:https://ncbctulsa.org/event/sunday-morning-fellowship-breakfast/2024-12-01/
LOCATION:New Covenant Bible Church Fellowship Hall\, 4800 S Yukon Ave\, Tulsa\, OK\, 74107\, United States
CATEGORIES:Foods
END:VEVENT
BEGIN:VEVENT
DTSTART;TZID=America/Chicago:20241127T190000
DTEND;TZID=America/Chicago:20241127T200000
DTSTAMP:20260420T023458
CREATED:20241101T211946Z
LAST-MODIFIED:20241201T191323Z
UID:10004486-1732734000-1732737600@ncbctulsa.org
SUMMARY:Wednesday Night Service
DESCRIPTION:Worship with Vanessa and Dacey Lacey \nMessage from Pastor James Lacey
URL:https://ncbctulsa.org/event/wednesday-night-service/2024-11-27/
LOCATION:New Covenant Bible Church Sanctuary\, 4800 S Yukon Ave\, Tulsa\, OK\, 74107\, United States
CATEGORIES:Worship
END:VEVENT
BEGIN:VEVENT
DTSTART;TZID=America/Chicago:20241125T063000
DTEND;TZID=America/Chicago:20241125T203000
DTSTAMP:20260420T023458
CREATED:20241101T211806Z
LAST-MODIFIED:20241201T191732Z
UID:10002620-1732516200-1732566600@ncbctulsa.org
SUMMARY:God's ER
DESCRIPTION:Come be delivered. \n  \nGod’s ER
URL:https://ncbctulsa.org/event/gods-er/2024-11-25/
LOCATION:New Covenant Bible Church Sanctuary\, 4800 S Yukon Ave\, Tulsa\, OK\, 74107\, United States
CATEGORIES:Ministry
END:VEVENT
BEGIN:VEVENT
DTSTART;TZID=America/Chicago:20241124T180000
DTEND;TZID=America/Chicago:20241124T190000
DTSTAMP:20260420T023458
CREATED:20241101T211048Z
LAST-MODIFIED:20241201T191700Z
UID:10002176-1732471200-1732474800@ncbctulsa.org
SUMMARY:Sunday Evening Worship
DESCRIPTION:Worship with Vanessa and Dacey Lacey \nMessage from Pastor James Lacey
URL:https://ncbctulsa.org/event/sunday-evening-worship/2024-11-24/
LOCATION:New Covenant Bible Church Sanctuary\, 4800 S Yukon Ave\, Tulsa\, OK\, 74107\, United States
CATEGORIES:Worship
END:VEVENT
BEGIN:VEVENT
DTSTART;TZID=America/Chicago:20241124T170000
DTEND;TZID=America/Chicago:20241124T174500
DTSTAMP:20260420T023458
CREATED:20241118T161656Z
LAST-MODIFIED:20241118T161657Z
UID:10001915-1732467600-1732470300@ncbctulsa.org
SUMMARY:Supper with the Saints: Thanksgiving Potluck
DESCRIPTION:Signup in the Sanctuary Lobby. \nTurkey and Ham provided by Pastor bring sides and dessert. \nCome eat dinner with the Church family with no obligation to come to Worship.
URL:https://ncbctulsa.org/event/supper-with-the-saints-fellowship-dinner-3/
LOCATION:OK
CATEGORIES:Foods
END:VEVENT
BEGIN:VEVENT
DTSTART;TZID=America/Chicago:20241124T110000
DTEND;TZID=America/Chicago:20241124T120000
DTSTAMP:20260420T023458
CREATED:20241102T020314Z
LAST-MODIFIED:20241201T191526Z
UID:10001132-1732446000-1732449600@ncbctulsa.org
SUMMARY:Sunday Morning Service
DESCRIPTION:Worship Service with Vanessa and Dacey Lacey \nMessage from Pastor James Lacey
URL:https://ncbctulsa.org/event/sunday-morning-service/2024-11-24/
LOCATION:New Covenant Bible Church Sanctuary\, 4800 S Yukon Ave\, Tulsa\, OK\, 74107\, United States
CATEGORIES:Worship
END:VEVENT
BEGIN:VEVENT
DTSTART;TZID=America/Chicago:20241124T100000
DTEND;TZID=America/Chicago:20241124T110000
DTSTAMP:20260420T023458
CREATED:20241102T015540Z
LAST-MODIFIED:20241201T191619Z
UID:10001654-1732442400-1732446000@ncbctulsa.org
SUMMARY:Sunday School
DESCRIPTION:Lessons from the bible taught by Pastor Vanessa Lacey
URL:https://ncbctulsa.org/event/sunday-school/2024-11-24/
LOCATION:New Covenant Bible Church Sanctuary\, 4800 S Yukon Ave\, Tulsa\, OK\, 74107\, United States
END:VEVENT
BEGIN:VEVENT
DTSTART;TZID=America/Chicago:20241124T090000
DTEND;TZID=America/Chicago:20241124T100000
DTSTAMP:20260420T023458
CREATED:20230419T015039Z
LAST-MODIFIED:20241201T191544Z
UID:10000084-1732438800-1732442400@ncbctulsa.org
SUMMARY:Sunday Morning Fellowship Breakfast
DESCRIPTION:Come join us for a free fellowship breakfast. Every week at 9am before Sunday School we serve eggs\, hashbrowns\, and biscuits and gravy.
URL:https://ncbctulsa.org/event/sunday-morning-fellowship-breakfast/2024-11-24/
LOCATION:New Covenant Bible Church Fellowship Hall\, 4800 S Yukon Ave\, Tulsa\, OK\, 74107\, United States
CATEGORIES:Foods
END:VEVENT
BEGIN:VEVENT
DTSTART;TZID=America/Chicago:20241120T190000
DTEND;TZID=America/Chicago:20241120T200000
DTSTAMP:20260420T023458
CREATED:20241101T211946Z
LAST-MODIFIED:20241201T191323Z
UID:10003398-1732129200-1732132800@ncbctulsa.org
SUMMARY:Wednesday Night Service
DESCRIPTION:Worship with Vanessa and Dacey Lacey \nMessage from Pastor James Lacey
URL:https://ncbctulsa.org/event/wednesday-night-service/2024-11-20/
LOCATION:New Covenant Bible Church Sanctuary\, 4800 S Yukon Ave\, Tulsa\, OK\, 74107\, United States
CATEGORIES:Worship
END:VEVENT
BEGIN:VEVENT
DTSTART;TZID=America/Chicago:20241120T180000
DTEND;TZID=America/Chicago:20241120T190000
DTSTAMP:20260420T023458
CREATED:20241101T211858Z
LAST-MODIFIED:20241201T191503Z
UID:10003659-1732125600-1732129200@ncbctulsa.org
SUMMARY:Loving the Word with Brother Kenn
DESCRIPTION:Lessons from the Bible with Brother Kenn
URL:https://ncbctulsa.org/event/loving-the-word-with-brother-kenn/2024-11-20/
LOCATION:New Covenant Bible Church Sanctuary\, 4800 S Yukon Ave\, Tulsa\, OK\, 74107\, United States
CATEGORIES:Ministry
END:VEVENT
BEGIN:VEVENT
DTSTART;TZID=America/Chicago:20241120T130000
DTEND;TZID=America/Chicago:20241120T150000
DTSTAMP:20260420T023458
CREATED:20241102T145348Z
LAST-MODIFIED:20241201T191810Z
UID:10003920-1732107600-1732114800@ncbctulsa.org
SUMMARY:Prayer Meeting
DESCRIPTION:Join the Prayer Warriors praying for our congregation\, our community\, our country\, and the world.
URL:https://ncbctulsa.org/event/prayer-meeting/2024-11-20/
LOCATION:New Covenant Bible Church Sanctuary\, 4800 S Yukon Ave\, Tulsa\, OK\, 74107\, United States
CATEGORIES:Prayer
END:VEVENT
BEGIN:VEVENT
DTSTART;TZID=America/Chicago:20241118T063000
DTEND;TZID=America/Chicago:20241118T203000
DTSTAMP:20260420T023458
CREATED:20241101T211806Z
LAST-MODIFIED:20241201T191732Z
UID:10002618-1731911400-1731961800@ncbctulsa.org
SUMMARY:God's ER
DESCRIPTION:Come be delivered. \n  \nGod’s ER
URL:https://ncbctulsa.org/event/gods-er/2024-11-18/
LOCATION:New Covenant Bible Church Sanctuary\, 4800 S Yukon Ave\, Tulsa\, OK\, 74107\, United States
CATEGORIES:Ministry
END:VEVENT
BEGIN:VEVENT
DTSTART;TZID=America/Chicago:20241117T180000
DTEND;TZID=America/Chicago:20241117T190000
DTSTAMP:20260420T023459
CREATED:20241101T211048Z
LAST-MODIFIED:20241201T191700Z
UID:10002175-1731866400-1731870000@ncbctulsa.org
SUMMARY:Sunday Evening Worship
DESCRIPTION:Worship with Vanessa and Dacey Lacey \nMessage from Pastor James Lacey
URL:https://ncbctulsa.org/event/sunday-evening-worship/2024-11-17/
LOCATION:New Covenant Bible Church Sanctuary\, 4800 S Yukon Ave\, Tulsa\, OK\, 74107\, United States
CATEGORIES:Worship
END:VEVENT
BEGIN:VEVENT
DTSTART;TZID=America/Chicago:20241117T170000
DTEND;TZID=America/Chicago:20241117T174500
DTSTAMP:20260420T023459
CREATED:20241101T210951Z
LAST-MODIFIED:20241201T191300Z
UID:10001914-1731862800-1731865500@ncbctulsa.org
SUMMARY:Supper with the Saints: Fellowship Dinner
DESCRIPTION:Come eat dinner with the Church family with no obligation to come to Worship.
URL:https://ncbctulsa.org/event/supper-with-the-saints-fellowship-dinner/2024-11-17/
LOCATION:New Covenant Bible Church Fellowship Hall\, 4800 S Yukon Ave\, Tulsa\, OK\, 74107\, United States
CATEGORIES:Foods
END:VEVENT
END:VCALENDAR