BEGIN:VCALENDAR
VERSION:2.0
PRODID:-//New Covenant Bible Church - ECPv6.9.0//NONSGML v1.0//EN
CALSCALE:GREGORIAN
METHOD:PUBLISH
X-ORIGINAL-URL:https://ncbctulsa.org
X-WR-CALDESC:Events for New Covenant Bible Church
REFRESH-INTERVAL;VALUE=DURATION:PT1H
X-Robots-Tag:noindex
X-PUBLISHED-TTL:PT1H
BEGIN:VTIMEZONE
TZID:America/Chicago
BEGIN:DAYLIGHT
TZOFFSETFROM:-0600
TZOFFSETTO:-0500
TZNAME:CDT
DTSTART:20280312T080000
END:DAYLIGHT
BEGIN:STANDARD
TZOFFSETFROM:-0500
TZOFFSETTO:-0600
TZNAME:CST
DTSTART:20281105T070000
END:STANDARD
END:VTIMEZONE
BEGIN:VEVENT
DTSTART;TZID=America/Chicago:20281001T110000
DTEND;TZID=America/Chicago:20281001T120000
DTSTAMP:20260422T084251
CREATED:20241102T020314Z
LAST-MODIFIED:20241201T191526Z
UID:10001333-1854010800-1854014400@ncbctulsa.org
SUMMARY:Sunday Morning Service
DESCRIPTION:Worship Service with Vanessa and Dacey Lacey \nMessage from Pastor James Lacey
URL:https://ncbctulsa.org/event/sunday-morning-service/2028-10-01/
LOCATION:New Covenant Bible Church Sanctuary\, 4800 S Yukon Ave\, Tulsa\, OK\, 74107\, United States
CATEGORIES:Worship
END:VEVENT
BEGIN:VEVENT
DTSTART;TZID=America/Chicago:20281001T180000
DTEND;TZID=America/Chicago:20281001T190000
DTSTAMP:20260422T084251
CREATED:20241101T211048Z
LAST-MODIFIED:20241201T191700Z
UID:10002377-1854036000-1854039600@ncbctulsa.org
SUMMARY:Sunday Evening Worship
DESCRIPTION:Worship with Vanessa and Dacey Lacey \nMessage from Pastor James Lacey
URL:https://ncbctulsa.org/event/sunday-evening-worship/2028-10-01/
LOCATION:New Covenant Bible Church Sanctuary\, 4800 S Yukon Ave\, Tulsa\, OK\, 74107\, United States
CATEGORIES:Worship
END:VEVENT
BEGIN:VEVENT
DTSTART;TZID=America/Chicago:20281004T190000
DTEND;TZID=America/Chicago:20281004T200000
DTSTAMP:20260422T084251
CREATED:20241101T211946Z
LAST-MODIFIED:20241201T191323Z
UID:10003600-1854298800-1854302400@ncbctulsa.org
SUMMARY:Wednesday Night Service
DESCRIPTION:Worship with Vanessa and Dacey Lacey \nMessage from Pastor James Lacey
URL:https://ncbctulsa.org/event/wednesday-night-service/2028-10-04/
LOCATION:New Covenant Bible Church Sanctuary\, 4800 S Yukon Ave\, Tulsa\, OK\, 74107\, United States
CATEGORIES:Worship
END:VEVENT
BEGIN:VEVENT
DTSTART;TZID=America/Chicago:20281008T110000
DTEND;TZID=America/Chicago:20281008T120000
DTSTAMP:20260422T084251
CREATED:20241102T020314Z
LAST-MODIFIED:20241201T191526Z
UID:10001334-1854615600-1854619200@ncbctulsa.org
SUMMARY:Sunday Morning Service
DESCRIPTION:Worship Service with Vanessa and Dacey Lacey \nMessage from Pastor James Lacey
URL:https://ncbctulsa.org/event/sunday-morning-service/2028-10-08/
LOCATION:New Covenant Bible Church Sanctuary\, 4800 S Yukon Ave\, Tulsa\, OK\, 74107\, United States
CATEGORIES:Worship
END:VEVENT
BEGIN:VEVENT
DTSTART;TZID=America/Chicago:20281008T180000
DTEND;TZID=America/Chicago:20281008T190000
DTSTAMP:20260422T084251
CREATED:20241101T211048Z
LAST-MODIFIED:20241201T191700Z
UID:10002378-1854640800-1854644400@ncbctulsa.org
SUMMARY:Sunday Evening Worship
DESCRIPTION:Worship with Vanessa and Dacey Lacey \nMessage from Pastor James Lacey
URL:https://ncbctulsa.org/event/sunday-evening-worship/2028-10-08/
LOCATION:New Covenant Bible Church Sanctuary\, 4800 S Yukon Ave\, Tulsa\, OK\, 74107\, United States
CATEGORIES:Worship
END:VEVENT
BEGIN:VEVENT
DTSTART;TZID=America/Chicago:20281011T190000
DTEND;TZID=America/Chicago:20281011T200000
DTSTAMP:20260422T084251
CREATED:20241101T211946Z
LAST-MODIFIED:20241201T191323Z
UID:10003601-1854903600-1854907200@ncbctulsa.org
SUMMARY:Wednesday Night Service
DESCRIPTION:Worship with Vanessa and Dacey Lacey \nMessage from Pastor James Lacey
URL:https://ncbctulsa.org/event/wednesday-night-service/2028-10-11/
LOCATION:New Covenant Bible Church Sanctuary\, 4800 S Yukon Ave\, Tulsa\, OK\, 74107\, United States
CATEGORIES:Worship
END:VEVENT
BEGIN:VEVENT
DTSTART;TZID=America/Chicago:20281015T110000
DTEND;TZID=America/Chicago:20281015T120000
DTSTAMP:20260422T084252
CREATED:20241102T020314Z
LAST-MODIFIED:20241201T191526Z
UID:10001335-1855220400-1855224000@ncbctulsa.org
SUMMARY:Sunday Morning Service
DESCRIPTION:Worship Service with Vanessa and Dacey Lacey \nMessage from Pastor James Lacey
URL:https://ncbctulsa.org/event/sunday-morning-service/2028-10-15/
LOCATION:New Covenant Bible Church Sanctuary\, 4800 S Yukon Ave\, Tulsa\, OK\, 74107\, United States
CATEGORIES:Worship
END:VEVENT
BEGIN:VEVENT
DTSTART;TZID=America/Chicago:20281015T180000
DTEND;TZID=America/Chicago:20281015T190000
DTSTAMP:20260422T084252
CREATED:20241101T211048Z
LAST-MODIFIED:20241201T191700Z
UID:10002379-1855245600-1855249200@ncbctulsa.org
SUMMARY:Sunday Evening Worship
DESCRIPTION:Worship with Vanessa and Dacey Lacey \nMessage from Pastor James Lacey
URL:https://ncbctulsa.org/event/sunday-evening-worship/2028-10-15/
LOCATION:New Covenant Bible Church Sanctuary\, 4800 S Yukon Ave\, Tulsa\, OK\, 74107\, United States
CATEGORIES:Worship
END:VEVENT
BEGIN:VEVENT
DTSTART;TZID=America/Chicago:20281018T190000
DTEND;TZID=America/Chicago:20281018T200000
DTSTAMP:20260422T084252
CREATED:20241101T211946Z
LAST-MODIFIED:20241201T191323Z
UID:10003602-1855508400-1855512000@ncbctulsa.org
SUMMARY:Wednesday Night Service
DESCRIPTION:Worship with Vanessa and Dacey Lacey \nMessage from Pastor James Lacey
URL:https://ncbctulsa.org/event/wednesday-night-service/2028-10-18/
LOCATION:New Covenant Bible Church Sanctuary\, 4800 S Yukon Ave\, Tulsa\, OK\, 74107\, United States
CATEGORIES:Worship
END:VEVENT
BEGIN:VEVENT
DTSTART;TZID=America/Chicago:20281022T110000
DTEND;TZID=America/Chicago:20281022T120000
DTSTAMP:20260422T084252
CREATED:20241102T020314Z
LAST-MODIFIED:20241201T191526Z
UID:10001336-1855825200-1855828800@ncbctulsa.org
SUMMARY:Sunday Morning Service
DESCRIPTION:Worship Service with Vanessa and Dacey Lacey \nMessage from Pastor James Lacey
URL:https://ncbctulsa.org/event/sunday-morning-service/2028-10-22/
LOCATION:New Covenant Bible Church Sanctuary\, 4800 S Yukon Ave\, Tulsa\, OK\, 74107\, United States
CATEGORIES:Worship
END:VEVENT
BEGIN:VEVENT
DTSTART;TZID=America/Chicago:20281022T180000
DTEND;TZID=America/Chicago:20281022T190000
DTSTAMP:20260422T084252
CREATED:20241101T211048Z
LAST-MODIFIED:20241201T191700Z
UID:10002380-1855850400-1855854000@ncbctulsa.org
SUMMARY:Sunday Evening Worship
DESCRIPTION:Worship with Vanessa and Dacey Lacey \nMessage from Pastor James Lacey
URL:https://ncbctulsa.org/event/sunday-evening-worship/2028-10-22/
LOCATION:New Covenant Bible Church Sanctuary\, 4800 S Yukon Ave\, Tulsa\, OK\, 74107\, United States
CATEGORIES:Worship
END:VEVENT
BEGIN:VEVENT
DTSTART;TZID=America/Chicago:20281025T190000
DTEND;TZID=America/Chicago:20281025T200000
DTSTAMP:20260422T084252
CREATED:20241101T211946Z
LAST-MODIFIED:20241201T191323Z
UID:10003603-1856113200-1856116800@ncbctulsa.org
SUMMARY:Wednesday Night Service
DESCRIPTION:Worship with Vanessa and Dacey Lacey \nMessage from Pastor James Lacey
URL:https://ncbctulsa.org/event/wednesday-night-service/2028-10-25/
LOCATION:New Covenant Bible Church Sanctuary\, 4800 S Yukon Ave\, Tulsa\, OK\, 74107\, United States
CATEGORIES:Worship
END:VEVENT
BEGIN:VEVENT
DTSTART;TZID=America/Chicago:20281029T110000
DTEND;TZID=America/Chicago:20281029T120000
DTSTAMP:20260422T084252
CREATED:20241102T020314Z
LAST-MODIFIED:20241201T191526Z
UID:10001337-1856430000-1856433600@ncbctulsa.org
SUMMARY:Sunday Morning Service
DESCRIPTION:Worship Service with Vanessa and Dacey Lacey \nMessage from Pastor James Lacey
URL:https://ncbctulsa.org/event/sunday-morning-service/2028-10-29/
LOCATION:New Covenant Bible Church Sanctuary\, 4800 S Yukon Ave\, Tulsa\, OK\, 74107\, United States
CATEGORIES:Worship
END:VEVENT
BEGIN:VEVENT
DTSTART;TZID=America/Chicago:20281029T180000
DTEND;TZID=America/Chicago:20281029T190000
DTSTAMP:20260422T084252
CREATED:20241101T211048Z
LAST-MODIFIED:20241201T191700Z
UID:10002381-1856455200-1856458800@ncbctulsa.org
SUMMARY:Sunday Evening Worship
DESCRIPTION:Worship with Vanessa and Dacey Lacey \nMessage from Pastor James Lacey
URL:https://ncbctulsa.org/event/sunday-evening-worship/2028-10-29/
LOCATION:New Covenant Bible Church Sanctuary\, 4800 S Yukon Ave\, Tulsa\, OK\, 74107\, United States
CATEGORIES:Worship
END:VEVENT
END:VCALENDAR