BEGIN:VCALENDAR
VERSION:2.0
PRODID:-//New Covenant Bible Church - ECPv6.9.0//NONSGML v1.0//EN
CALSCALE:GREGORIAN
METHOD:PUBLISH
X-ORIGINAL-URL:https://ncbctulsa.org
X-WR-CALDESC:Events for New Covenant Bible Church
REFRESH-INTERVAL;VALUE=DURATION:PT1H
X-Robots-Tag:noindex
X-PUBLISHED-TTL:PT1H
BEGIN:VTIMEZONE
TZID:America/Chicago
BEGIN:DAYLIGHT
TZOFFSETFROM:-0600
TZOFFSETTO:-0500
TZNAME:CDT
DTSTART:20280312T080000
END:DAYLIGHT
BEGIN:STANDARD
TZOFFSETFROM:-0500
TZOFFSETTO:-0600
TZNAME:CST
DTSTART:20281105T070000
END:STANDARD
END:VTIMEZONE
BEGIN:VEVENT
DTSTART;TZID=America/Chicago:20280903T110000
DTEND;TZID=America/Chicago:20280903T120000
DTSTAMP:20260422T070532
CREATED:20241102T020314Z
LAST-MODIFIED:20241201T191526Z
UID:10001329-1851591600-1851595200@ncbctulsa.org
SUMMARY:Sunday Morning Service
DESCRIPTION:Worship Service with Vanessa and Dacey Lacey \nMessage from Pastor James Lacey
URL:https://ncbctulsa.org/event/sunday-morning-service/2028-09-03/
LOCATION:New Covenant Bible Church Sanctuary\, 4800 S Yukon Ave\, Tulsa\, OK\, 74107\, United States
CATEGORIES:Worship
END:VEVENT
BEGIN:VEVENT
DTSTART;TZID=America/Chicago:20280903T180000
DTEND;TZID=America/Chicago:20280903T190000
DTSTAMP:20260422T070532
CREATED:20241101T211048Z
LAST-MODIFIED:20241201T191700Z
UID:10002373-1851616800-1851620400@ncbctulsa.org
SUMMARY:Sunday Evening Worship
DESCRIPTION:Worship with Vanessa and Dacey Lacey \nMessage from Pastor James Lacey
URL:https://ncbctulsa.org/event/sunday-evening-worship/2028-09-03/
LOCATION:New Covenant Bible Church Sanctuary\, 4800 S Yukon Ave\, Tulsa\, OK\, 74107\, United States
CATEGORIES:Worship
END:VEVENT
BEGIN:VEVENT
DTSTART;TZID=America/Chicago:20280906T190000
DTEND;TZID=America/Chicago:20280906T200000
DTSTAMP:20260422T070532
CREATED:20241101T211946Z
LAST-MODIFIED:20241201T191323Z
UID:10003596-1851879600-1851883200@ncbctulsa.org
SUMMARY:Wednesday Night Service
DESCRIPTION:Worship with Vanessa and Dacey Lacey \nMessage from Pastor James Lacey
URL:https://ncbctulsa.org/event/wednesday-night-service/2028-09-06/
LOCATION:New Covenant Bible Church Sanctuary\, 4800 S Yukon Ave\, Tulsa\, OK\, 74107\, United States
CATEGORIES:Worship
END:VEVENT
BEGIN:VEVENT
DTSTART;TZID=America/Chicago:20280910T110000
DTEND;TZID=America/Chicago:20280910T120000
DTSTAMP:20260422T070532
CREATED:20241102T020314Z
LAST-MODIFIED:20241201T191526Z
UID:10001330-1852196400-1852200000@ncbctulsa.org
SUMMARY:Sunday Morning Service
DESCRIPTION:Worship Service with Vanessa and Dacey Lacey \nMessage from Pastor James Lacey
URL:https://ncbctulsa.org/event/sunday-morning-service/2028-09-10/
LOCATION:New Covenant Bible Church Sanctuary\, 4800 S Yukon Ave\, Tulsa\, OK\, 74107\, United States
CATEGORIES:Worship
END:VEVENT
BEGIN:VEVENT
DTSTART;TZID=America/Chicago:20280910T180000
DTEND;TZID=America/Chicago:20280910T190000
DTSTAMP:20260422T070532
CREATED:20241101T211048Z
LAST-MODIFIED:20241201T191700Z
UID:10002374-1852221600-1852225200@ncbctulsa.org
SUMMARY:Sunday Evening Worship
DESCRIPTION:Worship with Vanessa and Dacey Lacey \nMessage from Pastor James Lacey
URL:https://ncbctulsa.org/event/sunday-evening-worship/2028-09-10/
LOCATION:New Covenant Bible Church Sanctuary\, 4800 S Yukon Ave\, Tulsa\, OK\, 74107\, United States
CATEGORIES:Worship
END:VEVENT
BEGIN:VEVENT
DTSTART;TZID=America/Chicago:20280913T190000
DTEND;TZID=America/Chicago:20280913T200000
DTSTAMP:20260422T070532
CREATED:20241101T211946Z
LAST-MODIFIED:20241201T191323Z
UID:10003597-1852484400-1852488000@ncbctulsa.org
SUMMARY:Wednesday Night Service
DESCRIPTION:Worship with Vanessa and Dacey Lacey \nMessage from Pastor James Lacey
URL:https://ncbctulsa.org/event/wednesday-night-service/2028-09-13/
LOCATION:New Covenant Bible Church Sanctuary\, 4800 S Yukon Ave\, Tulsa\, OK\, 74107\, United States
CATEGORIES:Worship
END:VEVENT
BEGIN:VEVENT
DTSTART;TZID=America/Chicago:20280917T110000
DTEND;TZID=America/Chicago:20280917T120000
DTSTAMP:20260422T070532
CREATED:20241102T020314Z
LAST-MODIFIED:20241201T191526Z
UID:10001331-1852801200-1852804800@ncbctulsa.org
SUMMARY:Sunday Morning Service
DESCRIPTION:Worship Service with Vanessa and Dacey Lacey \nMessage from Pastor James Lacey
URL:https://ncbctulsa.org/event/sunday-morning-service/2028-09-17/
LOCATION:New Covenant Bible Church Sanctuary\, 4800 S Yukon Ave\, Tulsa\, OK\, 74107\, United States
CATEGORIES:Worship
END:VEVENT
BEGIN:VEVENT
DTSTART;TZID=America/Chicago:20280917T180000
DTEND;TZID=America/Chicago:20280917T190000
DTSTAMP:20260422T070532
CREATED:20241101T211048Z
LAST-MODIFIED:20241201T191700Z
UID:10002375-1852826400-1852830000@ncbctulsa.org
SUMMARY:Sunday Evening Worship
DESCRIPTION:Worship with Vanessa and Dacey Lacey \nMessage from Pastor James Lacey
URL:https://ncbctulsa.org/event/sunday-evening-worship/2028-09-17/
LOCATION:New Covenant Bible Church Sanctuary\, 4800 S Yukon Ave\, Tulsa\, OK\, 74107\, United States
CATEGORIES:Worship
END:VEVENT
BEGIN:VEVENT
DTSTART;TZID=America/Chicago:20280920T190000
DTEND;TZID=America/Chicago:20280920T200000
DTSTAMP:20260422T070532
CREATED:20241101T211946Z
LAST-MODIFIED:20241201T191323Z
UID:10003598-1853089200-1853092800@ncbctulsa.org
SUMMARY:Wednesday Night Service
DESCRIPTION:Worship with Vanessa and Dacey Lacey \nMessage from Pastor James Lacey
URL:https://ncbctulsa.org/event/wednesday-night-service/2028-09-20/
LOCATION:New Covenant Bible Church Sanctuary\, 4800 S Yukon Ave\, Tulsa\, OK\, 74107\, United States
CATEGORIES:Worship
END:VEVENT
BEGIN:VEVENT
DTSTART;TZID=America/Chicago:20280924T110000
DTEND;TZID=America/Chicago:20280924T120000
DTSTAMP:20260422T070532
CREATED:20241102T020314Z
LAST-MODIFIED:20241201T191526Z
UID:10001332-1853406000-1853409600@ncbctulsa.org
SUMMARY:Sunday Morning Service
DESCRIPTION:Worship Service with Vanessa and Dacey Lacey \nMessage from Pastor James Lacey
URL:https://ncbctulsa.org/event/sunday-morning-service/2028-09-24/
LOCATION:New Covenant Bible Church Sanctuary\, 4800 S Yukon Ave\, Tulsa\, OK\, 74107\, United States
CATEGORIES:Worship
END:VEVENT
BEGIN:VEVENT
DTSTART;TZID=America/Chicago:20280924T180000
DTEND;TZID=America/Chicago:20280924T190000
DTSTAMP:20260422T070532
CREATED:20241101T211048Z
LAST-MODIFIED:20241201T191700Z
UID:10002376-1853431200-1853434800@ncbctulsa.org
SUMMARY:Sunday Evening Worship
DESCRIPTION:Worship with Vanessa and Dacey Lacey \nMessage from Pastor James Lacey
URL:https://ncbctulsa.org/event/sunday-evening-worship/2028-09-24/
LOCATION:New Covenant Bible Church Sanctuary\, 4800 S Yukon Ave\, Tulsa\, OK\, 74107\, United States
CATEGORIES:Worship
END:VEVENT
BEGIN:VEVENT
DTSTART;TZID=America/Chicago:20280927T190000
DTEND;TZID=America/Chicago:20280927T200000
DTSTAMP:20260422T070532
CREATED:20241101T211946Z
LAST-MODIFIED:20241201T191323Z
UID:10003599-1853694000-1853697600@ncbctulsa.org
SUMMARY:Wednesday Night Service
DESCRIPTION:Worship with Vanessa and Dacey Lacey \nMessage from Pastor James Lacey
URL:https://ncbctulsa.org/event/wednesday-night-service/2028-09-27/
LOCATION:New Covenant Bible Church Sanctuary\, 4800 S Yukon Ave\, Tulsa\, OK\, 74107\, United States
CATEGORIES:Worship
END:VEVENT
END:VCALENDAR